BEGIN:VCALENDAR
VERSION:2.0
PRODID:-//Zoológico Woodland Park - ECPv6.15.20//NONSGML v1.0//EN
CALSCALE:GREGORIAN
METHOD:PUBLISH
X-WR-CALNAME:Zoológico Woodland Park
X-ORIGINAL-URL:https://zoo.org/es/
X-WR-CALDESC:Eventos para Zoológico Woodland Park
REFRESH-INTERVAL;VALUE=DURATION:PT1H
X-Robots-Tag:noindex
X-PUBLISHED-TTL:PT1H
BEGIN:VTIMEZONE
TZID:America/Los_Angeles
BEGIN:DAYLIGHT
TZOFFSETFROM:-0800
TZOFFSETTO:-0700
TZNAME:PDT
DTSTART:20250309T100000
END:DAYLIGHT
BEGIN:STANDARD
TZOFFSETFROM:-0700
TZOFFSETTO:-0800
TZNAME:PST
DTSTART:20251102T090000
END:STANDARD
BEGIN:DAYLIGHT
TZOFFSETFROM:-0800
TZOFFSETTO:-0700
TZNAME:PDT
DTSTART:20260308T100000
END:DAYLIGHT
BEGIN:STANDARD
TZOFFSETFROM:-0700
TZOFFSETTO:-0800
TZNAME:PST
DTSTART:20261101T090000
END:STANDARD
BEGIN:DAYLIGHT
TZOFFSETFROM:-0800
TZOFFSETTO:-0700
TZNAME:PDT
DTSTART:20270314T100000
END:DAYLIGHT
BEGIN:STANDARD
TZOFFSETFROM:-0700
TZOFFSETTO:-0800
TZNAME:PST
DTSTART:20271107T090000
END:STANDARD
END:VTIMEZONE
BEGIN:VEVENT
DTSTART;TZID=America/Los_Angeles:20261006T163000
DTEND;TZID=America/Los_Angeles:20261006T190000
DTSTAMP:20260421T191321
CREATED:20260323T221506Z
LAST-MODIFIED:20260323T221506Z
UID:10001699-1791304200-1791313200@zoo.org
SUMMARY:Un encuentro con la naturaleza: Sarah Elizabeth (21+)
DESCRIPTION:El evento «A Brush with Nature» invita a artistas de todos los niveles a dar rienda suelta a su creatividad rodeados de impresionantes paisajes en lugares emblemáticos del zoológico de Woodland Park.
URL:https://zoo.org/es/event/un-encuentro-con-la-naturaleza-sarah-elizabeth-21-2/
LOCATION:Zoológico Woodland Park\, 5500 Phinney Ave. N. \, Seattle\, Washington\, 98103\, United States
CATEGORIES:Sólo adultos
ATTACH;FMTTYPE=image/jpeg:https://zoo.org/wp-content/uploads/2026/03/Sarah-Elizabeth-10.jpg
END:VEVENT
BEGIN:VEVENT
DTSTART;TZID=America/Los_Angeles:20261017T163000
DTEND;TZID=America/Los_Angeles:20261017T190000
DTSTAMP:20260421T191321
CREATED:20260323T221509Z
LAST-MODIFIED:20260323T221509Z
UID:10001706-1792254600-1792263600@zoo.org
SUMMARY:Un encuentro con la naturaleza: Angeline Shrike
DESCRIPTION:El evento «A Brush with Nature» invita a artistas de todos los niveles a dar rienda suelta a su creatividad rodeados de impresionantes paisajes en lugares emblemáticos del zoológico de Woodland Park.
URL:https://zoo.org/es/event/un-encuentro-con-la-naturaleza-angeline-shrike-4/
LOCATION:Zoológico Woodland Park\, 5500 Phinney Ave. N. \, Seattle\, Washington\, 98103\, United States
CATEGORIES:Familias/Público
ATTACH;FMTTYPE=image/jpeg:https://zoo.org/wp-content/uploads/2026/03/Angeline-Shrike5-NiN5BE.jpg
END:VEVENT
BEGIN:VEVENT
DTSTART;TZID=America/Los_Angeles:20261031T093000
DTEND;TZID=America/Los_Angeles:20261031T150000
DTSTAMP:20260421T191321
CREATED:20260121T183144Z
LAST-MODIFIED:20260121T183144Z
UID:10001123-1793439000-1793458800@zoo.org
SUMMARY:Fiesta de calabazas
DESCRIPTION:¡Las actividades de Pumpkin Bash están incluidas en la entrada o membresía del zoológico! \n¡Disfruta de un día encantador lleno de calabazas para animales\, trucos y dulces y mucho más para pequeños duendes\, fantasmas y criaturas «feroces»! \nLos niños se lo pasarán genial pidiendo dulces por todo el zoológico y participando en el desfile especial de disfraces de la mascota. Boo-mazium será un centro de diversión\, con una variedad de actividades divertidas diseñadas para los más pequeños. Y\, este año\, ¡no se pierdan la demostración en vivo de tallado de calabazas el domingo!   \nMuchos de nuestros animales\, incluyendo osos\, tapires\, lobos\, tigres y nutrias\, también se sumergirán en el espíritu de Halloween al devorar\, aplastar\, masticar o jugar con calabazas y otras delicias otoñales. Estas actividades especiales forman parte de nuestro excelente programa de cuidado animal para fomentar el comportamiento natural de los animales y mantenerlos física y mentalmente estimulados. ¡Y también son divertidas para nuestros huéspedes!  \nTrae tu disfraz\nDurante Pumpkin Bash\, se admite al zoológico GRATIS a un niño de 12 años o menos por cada boleto de adulto a precio completo\, y se recomienda el uso de disfraces.
URL:https://zoo.org/es/event/fiesta-de-calabazas/
LOCATION:Zoológico Woodland Park\, 5500 Phinney Ave. N. \, Seattle\, Washington\, 98103\, United States
CATEGORIES:Familias/Público
ATTACH;FMTTYPE=image/jpeg:https://zoo.org/wp-content/uploads/2025/09/RS49060_2024_10-Pumpkin-Bash-47_ohi.jpg
END:VEVENT
BEGIN:VEVENT
DTSTART;TZID=America/Los_Angeles:20261101T093000
DTEND;TZID=America/Los_Angeles:20261101T160000
DTSTAMP:20260421T191321
CREATED:20260121T183835Z
LAST-MODIFIED:20260121T183835Z
UID:10001119-1793525400-1793548800@zoo.org
SUMMARY:Ofrenda de animales
DESCRIPTION:¡Únase a nosotros para honrar el espíritu de nuestros amados animales y la alegría que trajeron a nuestras vidas! \nEn honor al Día de Muertos\, el Zoológico Woodland Park los invita a unirse a nosotros para celebrar y recordar a las mascotas y animales que han marcado nuestras vidas con una Ofrenda Animal especial. Nuestro dedicado personal preparará la ofrenda en Briar Oak\, y animamos a la comunidad a participar añadiendo fotos\, ofrendas y homenajes a los queridos animales que han fallecido.  \nYa sea que desee contribuir o simplemente experimentar este sentido homenaje\, únase a nosotros para honrar el espíritu del Día de Muertos y los animales que nos trajeron alegría.
URL:https://zoo.org/es/event/ofrenda-de-animales/
LOCATION:Zoológico Woodland Park\, 5500 Phinney Ave. N. \, Seattle\, Washington\, 98103\, United States
ATTACH;FMTTYPE=image/jpeg:https://zoo.org/wp-content/uploads/2025/09/2024-Animal-Ofrenda.jpg
END:VEVENT
BEGIN:VEVENT
DTSTART;TZID=America/Los_Angeles:20261206T130000
DTEND;TZID=America/Los_Angeles:20261206T160000
DTSTAMP:20260421T191321
CREATED:20260323T221451Z
LAST-MODIFIED:20260323T221451Z
UID:10001667-1796562000-1796572800@zoo.org
SUMMARY:Un encuentro con la naturaleza: Emma Giles
DESCRIPTION:El evento «A Brush with Nature» invita a artistas de todos los niveles a dar rienda suelta a su creatividad rodeados de impresionantes paisajes en lugares emblemáticos del zoológico de Woodland Park.
URL:https://zoo.org/es/event/un-encuentro-con-la-naturaleza-emma-giles-4/
LOCATION:Zoológico Woodland Park\, 5500 Phinney Ave. N. \, Seattle\, Washington\, 98103\, United States
CATEGORIES:Familias/Público
ATTACH;FMTTYPE=image/jpeg:https://zoo.org/wp-content/uploads/2026/03/Dec-6-All-ages.jpg
END:VEVENT
END:VCALENDAR