BEGIN:VCALENDAR
VERSION:2.0
PRODID:-//Zoológico Woodland Park - ECPv6.15.20//NONSGML v1.0//EN
CALSCALE:GREGORIAN
METHOD:PUBLISH
X-WR-CALNAME:Zoológico Woodland Park
X-ORIGINAL-URL:https://zoo.org/es/
X-WR-CALDESC:Eventos para Zoológico Woodland Park
REFRESH-INTERVAL;VALUE=DURATION:PT1H
X-Robots-Tag:noindex
X-PUBLISHED-TTL:PT1H
BEGIN:VTIMEZONE
TZID:America/Los_Angeles
BEGIN:DAYLIGHT
TZOFFSETFROM:-0800
TZOFFSETTO:-0700
TZNAME:PDT
DTSTART:20250309T100000
END:DAYLIGHT
BEGIN:STANDARD
TZOFFSETFROM:-0700
TZOFFSETTO:-0800
TZNAME:PST
DTSTART:20251102T090000
END:STANDARD
BEGIN:DAYLIGHT
TZOFFSETFROM:-0800
TZOFFSETTO:-0700
TZNAME:PDT
DTSTART:20260308T100000
END:DAYLIGHT
BEGIN:STANDARD
TZOFFSETFROM:-0700
TZOFFSETTO:-0800
TZNAME:PST
DTSTART:20261101T090000
END:STANDARD
BEGIN:DAYLIGHT
TZOFFSETFROM:-0800
TZOFFSETTO:-0700
TZNAME:PDT
DTSTART:20270314T100000
END:DAYLIGHT
BEGIN:STANDARD
TZOFFSETFROM:-0700
TZOFFSETTO:-0800
TZNAME:PST
DTSTART:20271107T090000
END:STANDARD
END:VTIMEZONE
BEGIN:VEVENT
DTSTART;TZID=America/Los_Angeles:20260425T120000
DTEND;TZID=America/Los_Angeles:20260425T133000
DTSTAMP:20260421T030045
CREATED:20260320T175638Z
LAST-MODIFIED:20260327T161123Z
UID:10001220-1777118400-1777123800@zoo.org
SUMMARY:Pastando en el zoológico: Levántate y cena
DESCRIPTION:¡AGOTADO! \nDespiértese y disfrute de una comida con algunos de los animales más esquivos del mundo\, ¡y sea de los primeros en visitar nuestra nueva exhibición Forest Trailhead! Deléitese con exquisitos platillos servidos entre las copas de los árboles mientras descubre las imágenes\, los sonidos y las historias de estos increíbles animales y los lugares que habitan.  \nEl acceso al evento Rise and Dine en Forest Trailhead se realiza únicamente por la entrada oeste.
URL:https://zoo.org/es/event/levantate-y-cena/2026-04-25/
LOCATION:Zoológico Woodland Park\, 5500 Phinney Ave. N. \, Seattle\, Washington\, 98103\, United States
CATEGORIES:Familias/Público
ATTACH;FMTTYPE=image/jpeg:https://zoo.org/wp-content/uploads/2026/03/Rise-Dine-37_phi.jpg
END:VEVENT
END:VCALENDAR