BEGIN:VCALENDAR
VERSION:2.0
PRODID:-//Zoológico Woodland Park - ECPv6.15.20//NONSGML v1.0//EN
CALSCALE:GREGORIAN
METHOD:PUBLISH
X-WR-CALNAME:Zoológico Woodland Park
X-ORIGINAL-URL:https://zoo.org/es/
X-WR-CALDESC:Eventos para Zoológico Woodland Park
REFRESH-INTERVAL;VALUE=DURATION:PT1H
X-Robots-Tag:noindex
X-PUBLISHED-TTL:PT1H
BEGIN:VTIMEZONE
TZID:America/Los_Angeles
BEGIN:DAYLIGHT
TZOFFSETFROM:-0800
TZOFFSETTO:-0700
TZNAME:PDT
DTSTART:20250309T100000
END:DAYLIGHT
BEGIN:STANDARD
TZOFFSETFROM:-0700
TZOFFSETTO:-0800
TZNAME:PST
DTSTART:20251102T090000
END:STANDARD
BEGIN:DAYLIGHT
TZOFFSETFROM:-0800
TZOFFSETTO:-0700
TZNAME:PDT
DTSTART:20260308T100000
END:DAYLIGHT
BEGIN:STANDARD
TZOFFSETFROM:-0700
TZOFFSETTO:-0800
TZNAME:PST
DTSTART:20261101T090000
END:STANDARD
BEGIN:DAYLIGHT
TZOFFSETFROM:-0800
TZOFFSETTO:-0700
TZNAME:PDT
DTSTART:20270314T100000
END:DAYLIGHT
BEGIN:STANDARD
TZOFFSETFROM:-0700
TZOFFSETTO:-0800
TZNAME:PST
DTSTART:20271107T090000
END:STANDARD
END:VTIMEZONE
BEGIN:VEVENT
DTSTART;TZID=America/Los_Angeles:20260902T083000
DTEND;TZID=America/Los_Angeles:20260902T093000
DTSTAMP:20260421T090722
CREATED:20260320T181917Z
LAST-MODIFIED:20260320T182328Z
UID:10001316-1788337800-1788341400@zoo.org
SUMMARY:Desayunando en el zoológico: Tortitas con pingüinos
DESCRIPTION:Panqueques con Pingüinos es una experiencia de desayuno única\, donde los visitantes pueden entrar temprano al zoológico y disfrutar de una deliciosa selección de esponjosos panqueques\, fruta fresca y sabrosos acompañamientos\, todo con una vista privilegiada del recinto de los pingüinos de Humboldt. Dependiendo del día\, es posible que asista a una charla de un cuidador o a la visita de una mascota. Ya sea que le guste el desayuno\, sea un entusiasta de los pingüinos o ambas cosas\, esta acogedora reunión matutina es la manera perfecta de comenzar el día\, con café Tree Kangaroo Conservation\, jugo de naranja y agua infusionada de cortesía. Los visitantes con identificación válida para mayores de 21 años podrán comprar mimosas.    \nLa entrada para Pancakes con Pingüinos es solo por la entrada oeste.
URL:https://zoo.org/es/event/panqueques-con-pinguinos/2026-09-02/
LOCATION:Zoológico Woodland Park\, 5500 Phinney Ave. N. \, Seattle\, Washington\, 98103\, United States
CATEGORIES:Familias/Público
ATTACH;FMTTYPE=image/jpeg:https://zoo.org/wp-content/uploads/2026/03/pancakes-with-penguins-081.jpg
END:VEVENT
END:VCALENDAR