BEGIN:VCALENDAR
VERSION:2.0
PRODID:-//Zoológico Woodland Park - ECPv6.15.20//NONSGML v1.0//EN
CALSCALE:GREGORIAN
METHOD:PUBLISH
X-WR-CALNAME:Zoológico Woodland Park
X-ORIGINAL-URL:https://zoo.org/es/
X-WR-CALDESC:Eventos para Zoológico Woodland Park
REFRESH-INTERVAL;VALUE=DURATION:PT1H
X-Robots-Tag:noindex
X-PUBLISHED-TTL:PT1H
BEGIN:VTIMEZONE
TZID:America/Los_Angeles
BEGIN:DAYLIGHT
TZOFFSETFROM:-0800
TZOFFSETTO:-0700
TZNAME:PDT
DTSTART:20250309T100000
END:DAYLIGHT
BEGIN:STANDARD
TZOFFSETFROM:-0700
TZOFFSETTO:-0800
TZNAME:PST
DTSTART:20251102T090000
END:STANDARD
BEGIN:DAYLIGHT
TZOFFSETFROM:-0800
TZOFFSETTO:-0700
TZNAME:PDT
DTSTART:20260308T100000
END:DAYLIGHT
BEGIN:STANDARD
TZOFFSETFROM:-0700
TZOFFSETTO:-0800
TZNAME:PST
DTSTART:20261101T090000
END:STANDARD
BEGIN:DAYLIGHT
TZOFFSETFROM:-0800
TZOFFSETTO:-0700
TZNAME:PDT
DTSTART:20270314T100000
END:DAYLIGHT
BEGIN:STANDARD
TZOFFSETFROM:-0700
TZOFFSETTO:-0800
TZNAME:PST
DTSTART:20271107T090000
END:STANDARD
END:VTIMEZONE
BEGIN:VEVENT
DTSTART;TZID=America/Los_Angeles:20260604T163000
DTEND;TZID=America/Los_Angeles:20260604T203000
DTSTAMP:20260419T220108
CREATED:20260223T225936Z
LAST-MODIFIED:20260303T191801Z
UID:10001195-1780590600-1780605000@zoo.org
SUMMARY:ZooTunes: Revista Yacht Rock
DESCRIPTION:BECU ZooTunes presentado por Carter Subaru\nVER CONCIERTOS. SALVAR ANIMALES.  \n¡El zoológico Woodland Park está encantado de dar la bienvenida nuevamente a los visitantes para la 42.ª edición anual de BECU ZooTunes presentada por Carter Subaru! \nEsta querida serie de conciertos de verano al aire libre regresa con un nuevo y emocionante programa. Acompáñenos en la pradera para una experiencia única donde la mejor música se fusiona con un entorno natural emblemático en el corazón de Seattle.  \nCOMPRAR ENTRADAS \nAñadir un tablero de Zoocuterie \nLas entradas sólo están disponibles online y no se venderán en las puertas del zoológico. \n*La hora de finalización es aproximada.
URL:https://zoo.org/es/event/zootunes-revista-yacht-rock/
LOCATION:Zoológico Woodland Park\, 5500 Phinney Ave. N. \, Seattle\, Washington\, 98103\, United States
CATEGORIES:Entretenimiento musical
ATTACH;FMTTYPE=image/jpeg:https://zoo.org/wp-content/uploads/2026/02/YachtRock.jpg
END:VEVENT
BEGIN:VEVENT
DTSTART;TZID=America/Los_Angeles:20260614T163000
DTEND;TZID=America/Los_Angeles:20260614T203000
DTSTAMP:20260419T220108
CREATED:20260223T230237Z
LAST-MODIFIED:20260303T191849Z
UID:10001150-1781454600-1781469000@zoo.org
SUMMARY:ZooTunes: Gira del 30.º aniversario de Belle and Sebastian “If You're Feeling Sinister” con Quasi
DESCRIPTION:BECU ZooTunes presentado por Carter Subaru\nVER CONCIERTOS. SALVAR ANIMALES.  \n¡El zoológico Woodland Park está encantado de dar la bienvenida nuevamente a los visitantes para la 42.ª edición anual de BECU ZooTunes presentada por Carter Subaru! \nEsta querida serie de conciertos de verano al aire libre regresa con un nuevo y emocionante programa. Acompáñenos en la pradera para una experiencia única donde la mejor música se fusiona con un entorno natural emblemático en el corazón de Seattle.  \n¡AGOTADO! \nAñadir un tablero de Zoocuterie \nLas entradas sólo están disponibles online y no se venderán en las puertas del zoológico. \n*La hora de finalización es aproximada.
URL:https://zoo.org/es/event/zootunes-gira-del-30-o-aniversario-de-belle-and-sebastian-if-youre-feeling-sinister-con-quasi/
LOCATION:Zoológico Woodland Park\, 5500 Phinney Ave. N. \, Seattle\, Washington\, 98103\, United States
CATEGORIES:Entretenimiento musical
ATTACH;FMTTYPE=image/jpeg:https://zoo.org/wp-content/uploads/2026/02/Belle-and-Sebastian.jpg
END:VEVENT
BEGIN:VEVENT
DTSTART;TZID=America/Los_Angeles:20260701T163000
DTEND;TZID=America/Los_Angeles:20260701T203000
DTSTAMP:20260419T220108
CREATED:20260223T230349Z
LAST-MODIFIED:20260303T191608Z
UID:10001153-1782923400-1782937800@zoo.org
SUMMARY:ZooTunes: Los revivalistas con amores verdaderos
DESCRIPTION:BECU ZooTunes presentado por Carter Subaru\nVER CONCIERTOS. SALVAR ANIMALES.  \n¡El zoológico Woodland Park está encantado de dar la bienvenida nuevamente a los visitantes para la 42.ª edición anual de BECU ZooTunes presentada por Carter Subaru! \nEsta querida serie de conciertos de verano al aire libre regresa con un nuevo y emocionante programa. Acompáñenos en la pradera para una experiencia única donde la mejor música se fusiona con un entorno natural emblemático en el corazón de Seattle.  \nCOMPRAR ENTRADAS \nAñadir un tablero de Zoocuterie \nLas entradas sólo están disponibles online y no se venderán en las puertas del zoológico. \n*La hora de finalización es aproximada.
URL:https://zoo.org/es/event/zootunes-los-revivalistas-con-amores-verdaderos/
LOCATION:Zoológico Woodland Park\, 5500 Phinney Ave. N. \, Seattle\, Washington\, 98103\, United States
CATEGORIES:Entretenimiento musical
ATTACH;FMTTYPE=image/jpeg:https://zoo.org/wp-content/uploads/2026/02/Revivalists_AG_113-2.jpg
END:VEVENT
BEGIN:VEVENT
DTSTART;TZID=America/Los_Angeles:20260719T163000
DTEND;TZID=America/Los_Angeles:20260719T203000
DTSTAMP:20260419T220108
CREATED:20260223T230611Z
LAST-MODIFIED:20260318T163530Z
UID:10001164-1784478600-1784493000@zoo.org
SUMMARY:ZooTunes: Pavimento
DESCRIPTION:BECU ZooTunes presentado por Carter Subaru\nVER CONCIERTOS. SALVAR ANIMALES.  \n¡El zoológico Woodland Park está encantado de dar la bienvenida nuevamente a los visitantes para la 42.ª edición anual de BECU ZooTunes presentada por Carter Subaru! \nEsta querida serie de conciertos de verano al aire libre regresa con un nuevo y emocionante programa. Acompáñenos en la pradera para una experiencia única donde la mejor música se fusiona con un entorno natural emblemático en el corazón de Seattle.  \nAñadir un tablero de Zoocuterie \nLas entradas sólo están disponibles online y no se venderán en las puertas del zoológico. \n*La hora de finalización es aproximada.
URL:https://zoo.org/es/event/zootunes-pavimento/
LOCATION:Zoológico Woodland Park\, 5500 Phinney Ave. N. \, Seattle\, Washington\, 98103\, United States
CATEGORIES:Entretenimiento musical
ATTACH;FMTTYPE=image/jpeg:https://zoo.org/wp-content/uploads/2026/02/pavement-poonehghana-2-.jpg
END:VEVENT
BEGIN:VEVENT
DTSTART;TZID=America/Los_Angeles:20260723T163000
DTEND;TZID=America/Los_Angeles:20260723T203000
DTSTAMP:20260419T220108
CREATED:20260223T230658Z
LAST-MODIFIED:20260303T191250Z
UID:10001159-1784824200-1784838600@zoo.org
SUMMARY:ZooTunes: Maren Morris
DESCRIPTION:BECU ZooTunes presentado por Carter Subaru\nVER CONCIERTOS. SALVAR ANIMALES.  \n¡El zoológico Woodland Park está encantado de dar la bienvenida nuevamente a los visitantes para la 42.ª edición anual de BECU ZooTunes presentada por Carter Subaru! \nEsta querida serie de conciertos de verano al aire libre regresa con un nuevo y emocionante programa. Acompáñenos en la pradera para una experiencia única donde la mejor música se fusiona con un entorno natural emblemático en el corazón de Seattle.  \nCOMPRAR ENTRADAS \nAñadir un tablero de Zoocuterie \nLas entradas sólo están disponibles online y no se venderán en las puertas del zoológico. \n*La hora de finalización es aproximada.
URL:https://zoo.org/es/event/zootunes-maren-morris/
LOCATION:Zoológico Woodland Park\, 5500 Phinney Ave. N. \, Seattle\, Washington\, 98103\, United States
CATEGORIES:Entretenimiento musical
ATTACH;FMTTYPE=image/jpeg:https://zoo.org/wp-content/uploads/2026/02/Maren-Morris.jpg
END:VEVENT
BEGIN:VEVENT
DTSTART;TZID=America/Los_Angeles:20260802T163000
DTEND;TZID=America/Los_Angeles:20260802T203000
DTSTAMP:20260419T220108
CREATED:20260223T230800Z
LAST-MODIFIED:20260303T191149Z
UID:10001168-1785688200-1785702600@zoo.org
SUMMARY:ZooTunes: Ani DiFranco con Valerie June
DESCRIPTION:BECU ZooTunes presentado por Carter Subaru\nVER CONCIERTOS. SALVAR ANIMALES.  \n¡El zoológico Woodland Park está encantado de dar la bienvenida nuevamente a los visitantes para la 42.ª edición anual de BECU ZooTunes presentada por Carter Subaru! \nEsta querida serie de conciertos de verano al aire libre regresa con un nuevo y emocionante programa. Acompáñenos en la pradera para una experiencia única donde la mejor música se fusiona con un entorno natural emblemático en el corazón de Seattle.  \nCOMPRAR ENTRADAS \nAñadir un tablero de Zoocuterie \nLas entradas sólo están disponibles online y no se venderán en las puertas del zoológico. \n*La hora de finalización es aproximada.
URL:https://zoo.org/es/event/zootunes-ani-difranco-con-valerie-june/
LOCATION:Zoológico Woodland Park\, 5500 Phinney Ave. N. \, Seattle\, Washington\, 98103\, United States
CATEGORIES:Entretenimiento musical
ATTACH;FMTTYPE=image/jpeg:https://zoo.org/wp-content/uploads/2026/02/Ani-DiFranco-by-Shervin-Lainez.jpg
END:VEVENT
BEGIN:VEVENT
DTSTART;TZID=America/Los_Angeles:20260806T163000
DTEND;TZID=America/Los_Angeles:20260806T203000
DTSTAMP:20260419T220108
CREATED:20260223T230850Z
LAST-MODIFIED:20260303T191055Z
UID:10001202-1786033800-1786048200@zoo.org
SUMMARY:ZooTunes: Suki Waterhouse
DESCRIPTION:BECU ZooTunes presentado por Carter Subaru\nVER CONCIERTOS. SALVAR ANIMALES.  \n¡El zoológico Woodland Park está encantado de dar la bienvenida nuevamente a los visitantes para la 42.ª edición anual de BECU ZooTunes presentada por Carter Subaru! \nEsta querida serie de conciertos de verano al aire libre regresa con un nuevo y emocionante programa. Acompáñenos en la pradera para una experiencia única donde la mejor música se fusiona con un entorno natural emblemático en el corazón de Seattle.  \nCOMPRAR ENTRADAS \nAñadir un tablero de Zoocuterie \nLas entradas sólo están disponibles online y no se venderán en las puertas del zoológico. \n*La hora de finalización es aproximada.
URL:https://zoo.org/es/event/zootunes-suki-waterhouse/
LOCATION:Zoológico Woodland Park\, 5500 Phinney Ave. N. \, Seattle\, Washington\, 98103\, United States
CATEGORIES:Entretenimiento musical
ATTACH;FMTTYPE=image/jpeg:https://zoo.org/wp-content/uploads/2026/02/Suki-Waterhouse-MAIN_PRESS_ORIGINAL_SIZE_FULL_300DPI.jpg
END:VEVENT
BEGIN:VEVENT
DTSTART;TZID=America/Los_Angeles:20260809T163000
DTEND;TZID=America/Los_Angeles:20260809T203000
DTSTAMP:20260419T220108
CREATED:20260223T230921Z
LAST-MODIFIED:20260303T190959Z
UID:10001175-1786293000-1786307400@zoo.org
SUMMARY:ZooTunes: The Mountain Goats / The Hold Steady interpretando “Boys and Girls in America”
DESCRIPTION:BECU ZooTunes presentado por Carter Subaru\nVER CONCIERTOS. SALVAR ANIMALES.  \n¡El zoológico Woodland Park está encantado de dar la bienvenida nuevamente a los visitantes para la 42.ª edición anual de BECU ZooTunes presentada por Carter Subaru! \nEsta querida serie de conciertos de verano al aire libre regresa con un nuevo y emocionante programa. Acompáñenos en la pradera para una experiencia única donde la mejor música se fusiona con un entorno natural emblemático en el corazón de Seattle.  \nCOMPRAR ENTRADAS \nAñadir un tablero de Zoocuterie \nLas entradas sólo están disponibles online y no se venderán en las puertas del zoológico. \n*La hora de finalización es aproximada.
URL:https://zoo.org/es/event/zootunes-the-mountain-goats-the-hold-steady-interpretando-boys-and-girls-in-america/
LOCATION:Zoológico Woodland Park\, 5500 Phinney Ave. N. \, Seattle\, Washington\, 98103\, United States
CATEGORIES:Entretenimiento musical
ATTACH;FMTTYPE=image/jpeg:https://zoo.org/wp-content/uploads/2026/02/Mountain-Goats-Hold-Steady.jpg
END:VEVENT
BEGIN:VEVENT
DTSTART;TZID=America/Los_Angeles:20260811T163000
DTEND;TZID=America/Los_Angeles:20260811T203000
DTSTAMP:20260419T220108
CREATED:20260223T230958Z
LAST-MODIFIED:20260303T192012Z
UID:10001170-1786465800-1786480200@zoo.org
SUMMARY:ZooTunes: Jesse Welles
DESCRIPTION:BECU ZooTunes presentado por Carter Subaru\nVER CONCIERTOS. SALVAR ANIMALES.  \n¡El zoológico Woodland Park está encantado de dar la bienvenida nuevamente a los visitantes para la 42.ª edición anual de BECU ZooTunes presentada por Carter Subaru! \nEsta querida serie de conciertos de verano al aire libre regresa con un nuevo y emocionante programa. Acompáñenos en la pradera para una experiencia única donde la mejor música se fusiona con un entorno natural emblemático en el corazón de Seattle.  \n¡AGOTADO! \nAñadir un tablero de Zoocuterie \nLas entradas sólo están disponibles online y no se venderán en las puertas del zoológico. \n*La hora de finalización es aproximada.
URL:https://zoo.org/es/event/zootunes-jesse-welles/
LOCATION:Zoológico Woodland Park\, 5500 Phinney Ave. N. \, Seattle\, Washington\, 98103\, United States
CATEGORIES:Entretenimiento musical
ATTACH;FMTTYPE=image/jpeg:https://zoo.org/wp-content/uploads/2026/02/Jesse-Wells.jpg
END:VEVENT
BEGIN:VEVENT
DTSTART;TZID=America/Los_Angeles:20260813T163000
DTEND;TZID=America/Los_Angeles:20260813T203000
DTSTAMP:20260419T220108
CREATED:20260223T232021Z
LAST-MODIFIED:20260303T190854Z
UID:10001192-1786638600-1786653000@zoo.org
SUMMARY:ZooTunes: Jason Isbell
DESCRIPTION:BECU ZooTunes presentado por Carter Subaru\nVER CONCIERTOS. SALVAR ANIMALES.  \n¡El zoológico Woodland Park está encantado de dar la bienvenida nuevamente a los visitantes para la 42.ª edición anual de BECU ZooTunes presentada por Carter Subaru! \nEsta querida serie de conciertos de verano al aire libre regresa con un nuevo y emocionante programa. Acompáñenos en la pradera para una experiencia única donde la mejor música se fusiona con un entorno natural emblemático en el corazón de Seattle.  \nCOMPRAR ENTRADAS \nAñadir un tablero de Zoocuterie \nLas entradas sólo están disponibles online y no se venderán en las puertas del zoológico. \n*La hora de finalización es aproximada.
URL:https://zoo.org/es/event/zootunes-jason-isbell/
LOCATION:Zoológico Woodland Park\, 5500 Phinney Ave. N. \, Seattle\, Washington\, 98103\, United States
CATEGORIES:Entretenimiento musical
ATTACH;FMTTYPE=image/jpeg:https://zoo.org/wp-content/uploads/2026/02/Jason-Isbell-SOLO-2025-Ticketing.jpg
END:VEVENT
BEGIN:VEVENT
DTSTART;TZID=America/Los_Angeles:20260816T163000
DTEND;TZID=America/Los_Angeles:20260816T203000
DTSTAMP:20260419T220108
CREATED:20260223T231036Z
LAST-MODIFIED:20260303T190746Z
UID:10001177-1786897800-1786912200@zoo.org
SUMMARY:ZooTunes: Las Beths / Conejito de playa
DESCRIPTION:BECU ZooTunes presentado por Carter Subaru\nVER CONCIERTOS. SALVAR ANIMALES.  \n¡El zoológico Woodland Park está encantado de dar la bienvenida nuevamente a los visitantes para la 42.ª edición anual de BECU ZooTunes presentada por Carter Subaru! \nEsta querida serie de conciertos de verano al aire libre regresa con un nuevo y emocionante programa. Acompáñenos en la pradera para una experiencia única donde la mejor música se fusiona con un entorno natural emblemático en el corazón de Seattle.  \nCOMPRAR ENTRADAS \nAñadir un tablero de Zoocuterie \nLas entradas sólo están disponibles online y no se venderán en las puertas del zoológico. \n*La hora de finalización es aproximada.
URL:https://zoo.org/es/event/zootunes-las-beths-conejito-de-playa/
LOCATION:Zoológico Woodland Park\, 5500 Phinney Ave. N. \, Seattle\, Washington\, 98103\, United States
CATEGORIES:Entretenimiento musical
ATTACH;FMTTYPE=image/jpeg:https://zoo.org/wp-content/uploads/2026/02/beach-bunny-the-beths.jpg
END:VEVENT
BEGIN:VEVENT
DTSTART;TZID=America/Los_Angeles:20260818T163000
DTEND;TZID=America/Los_Angeles:20260818T203000
DTSTAMP:20260419T220108
CREATED:20260223T231829Z
LAST-MODIFIED:20260324T172742Z
UID:10001181-1787070600-1787085000@zoo.org
SUMMARY:ZooTunes: Courtney Barnett con Build to Spill y Zoh Amba
DESCRIPTION:BECU ZooTunes presentado por Carter Subaru\nVER CONCIERTOS. SALVAR ANIMALES.  \n¡El zoológico Woodland Park está encantado de dar la bienvenida nuevamente a los visitantes para la 42.ª edición anual de BECU ZooTunes presentada por Carter Subaru! \nEsta querida serie de conciertos de verano al aire libre regresa con un nuevo y emocionante programa. Acompáñenos en la pradera para una experiencia única donde la mejor música se fusiona con un entorno natural emblemático en el corazón de Seattle.  \nAñadir un tablero de Zoocuterie \nLas entradas sólo están disponibles online y no se venderán en las puertas del zoológico. \n*La hora de finalización es aproximada.
URL:https://zoo.org/es/event/zootunes-courtney-barnett-con-build-to-spill-y-zoh-amba/
LOCATION:Zoológico Woodland Park\, 5500 Phinney Ave. N. \, Seattle\, Washington\, 98103\, United States
CATEGORIES:Entretenimiento musical
ATTACH;FMTTYPE=image/jpeg:https://zoo.org/wp-content/uploads/2026/02/Courtney-Barnett-12.17.jpg
END:VEVENT
BEGIN:VEVENT
DTSTART;TZID=America/Los_Angeles:20260820T163000
DTEND;TZID=America/Los_Angeles:20260820T203000
DTSTAMP:20260419T220108
CREATED:20260223T231906Z
LAST-MODIFIED:20260303T190248Z
UID:10001186-1787243400-1787257800@zoo.org
SUMMARY:ZooTunes: Los criadores con el equipo Dresch
DESCRIPTION:BECU ZooTunes presented by Carter Subaru\nSEE CONCERTS. SAVE ANIMALS. Woodland Park Zoo is thrilled to welcome guests back for the 42nd annual BECU ZooTunes presented by Carter Subaru! This beloved outdoor summer concert series returns with an exciting new lineup. Join us in the meadow for a one-of-a-kind concert experience where great music meets an iconic wild setting in the heart of Seattle. \nBUY TICKETS \nAdd a Zoocuterie Board \nTickets are only available online and will not be sold at the zoo gates. \n*End time is approximate
URL:https://zoo.org/es/event/zootunes-los-criadores-con-el-equipo-dresch/
LOCATION:Zoológico Woodland Park\, 5500 Phinney Ave. N. \, Seattle\, Washington\, 98103\, United States
CATEGORIES:Entretenimiento musical
ATTACH;FMTTYPE=image/jpeg:https://zoo.org/wp-content/uploads/2026/02/The-Breeders-Credit_-James-Ridling.jpg
END:VEVENT
END:VCALENDAR