BEGIN:VCALENDAR
VERSION:2.0
PRODID:-//Zoológico Woodland Park - ECPv6.15.20//NONSGML v1.0//EN
CALSCALE:GREGORIAN
METHOD:PUBLISH
X-ORIGINAL-URL:https://zoo.org/es/
X-WR-CALDESC:Eventos para Zoológico Woodland Park
REFRESH-INTERVAL;VALUE=DURATION:PT1H
X-Robots-Tag:noindex
X-PUBLISHED-TTL:PT1H
BEGIN:VTIMEZONE
TZID:America/Los_Angeles
BEGIN:DAYLIGHT
TZOFFSETFROM:-0800
TZOFFSETTO:-0700
TZNAME:PDT
DTSTART:20250309T100000
END:DAYLIGHT
BEGIN:STANDARD
TZOFFSETFROM:-0700
TZOFFSETTO:-0800
TZNAME:PST
DTSTART:20251102T090000
END:STANDARD
BEGIN:DAYLIGHT
TZOFFSETFROM:-0800
TZOFFSETTO:-0700
TZNAME:PDT
DTSTART:20260308T100000
END:DAYLIGHT
BEGIN:STANDARD
TZOFFSETFROM:-0700
TZOFFSETTO:-0800
TZNAME:PST
DTSTART:20261101T090000
END:STANDARD
BEGIN:DAYLIGHT
TZOFFSETFROM:-0800
TZOFFSETTO:-0700
TZNAME:PDT
DTSTART:20270314T100000
END:DAYLIGHT
BEGIN:STANDARD
TZOFFSETFROM:-0700
TZOFFSETTO:-0800
TZNAME:PST
DTSTART:20271107T090000
END:STANDARD
END:VTIMEZONE
BEGIN:VEVENT
DTSTART;TZID=America/Los_Angeles:20260816T163000
DTEND;TZID=America/Los_Angeles:20260816T203000
DTSTAMP:20260422T043339
CREATED:20260223T231036Z
LAST-MODIFIED:20260303T190746Z
UID:10001177-1786897800-1786912200@zoo.org
SUMMARY:ZooTunes: Las Beths / Conejito de playa
DESCRIPTION:BECU ZooTunes presentado por Carter Subaru\nVER CONCIERTOS. SALVAR ANIMALES.  \n¡El zoológico Woodland Park está encantado de dar la bienvenida nuevamente a los visitantes para la 42.ª edición anual de BECU ZooTunes presentada por Carter Subaru! \nEsta querida serie de conciertos de verano al aire libre regresa con un nuevo y emocionante programa. Acompáñenos en la pradera para una experiencia única donde la mejor música se fusiona con un entorno natural emblemático en el corazón de Seattle.  \nCOMPRAR ENTRADAS \nAñadir un tablero de Zoocuterie \nLas entradas sólo están disponibles online y no se venderán en las puertas del zoológico. \n*La hora de finalización es aproximada.
URL:https://zoo.org/es/event/zootunes-las-beths-conejito-de-playa/
LOCATION:Zoológico Woodland Park\, 5500 Phinney Ave. N. \, Seattle\, Washington\, 98103\, United States
CATEGORIES:Entretenimiento musical
ATTACH;FMTTYPE=image/jpeg:https://zoo.org/wp-content/uploads/2026/02/beach-bunny-the-beths.jpg
END:VEVENT
END:VCALENDAR