BEGIN:VCALENDAR
VERSION:2.0
PRODID:-//Zoológico Woodland Park - ECPv6.15.20//NONSGML v1.0//EN
CALSCALE:GREGORIAN
METHOD:PUBLISH
X-WR-CALNAME:Zoológico Woodland Park
X-ORIGINAL-URL:https://zoo.org/es/
X-WR-CALDESC:Eventos para Zoológico Woodland Park
REFRESH-INTERVAL;VALUE=DURATION:PT1H
X-Robots-Tag:noindex
X-PUBLISHED-TTL:PT1H
BEGIN:VTIMEZONE
TZID:America/Los_Angeles
BEGIN:DAYLIGHT
TZOFFSETFROM:-0800
TZOFFSETTO:-0700
TZNAME:PDT
DTSTART:20250309T100000
END:DAYLIGHT
BEGIN:STANDARD
TZOFFSETFROM:-0700
TZOFFSETTO:-0800
TZNAME:PST
DTSTART:20251102T090000
END:STANDARD
BEGIN:DAYLIGHT
TZOFFSETFROM:-0800
TZOFFSETTO:-0700
TZNAME:PDT
DTSTART:20260308T100000
END:DAYLIGHT
BEGIN:STANDARD
TZOFFSETFROM:-0700
TZOFFSETTO:-0800
TZNAME:PST
DTSTART:20261101T090000
END:STANDARD
BEGIN:DAYLIGHT
TZOFFSETFROM:-0800
TZOFFSETTO:-0700
TZNAME:PDT
DTSTART:20270314T100000
END:DAYLIGHT
BEGIN:STANDARD
TZOFFSETFROM:-0700
TZOFFSETTO:-0800
TZNAME:PST
DTSTART:20271107T090000
END:STANDARD
END:VTIMEZONE
BEGIN:VEVENT
DTSTART;TZID=America/Los_Angeles:20260101T160000
DTEND;TZID=America/Los_Angeles:20260101T210000
DTSTAMP:20260421T093234
CREATED:20251024T190323Z
LAST-MODIFIED:20251024T190323Z
UID:10000687-1767283200-1767301200@zoo.org
SUMMARY:WildLanterns presentado por los concesionarios Toyota del oeste de Washington
DESCRIPTION:Ilumina tus vacaciones\nWildLanterns\, presentado por los Concesionarios Toyota del Oeste de Washington\, regresa al Zoológico Woodland Park este noviembre con nuevas exhibiciones de faroles más grandes que nunca. ¡Viva una aventura inmersiva que promete un momento navideño mágico para todos!  \nAdéntrese en un luminoso país de las maravillas invernal\n\nInspírate con la magia de la temporada navideña mientras paseas por el Sendero del País de las Maravillas\, entre criaturas del bosque del Pacífico Noroeste\, y maravíllate con nuestro majestuoso Monte Rainier. Admira un mundo espectacular de reptiles y peces mientras paseas por nuestro Manglar Serpenteante. Detente un momento para oler las flores mientras recorres la zona bajo la floración de asombrosas flores botánicas. Después\, viaja hacia el futuro en el Sendero del Bosque \, una luminosa celebración de los increíbles animales que llegarán a la nueva exhibición del Zoológico Woodland Park\, que se inaugurará en 2026. Echa un vistazo iluminado a algunos de los embajadores del bosque\, como los pandas rojos y los canguros arborícolas\, que pronto habitarán nuestro zoológico.     ¡Y no olvides pasar por la Zona Interactiva\, un espacio donde la imaginación de todas las edades puede volar!
URL:https://zoo.org/es/event/wildlanterns-presentado-por-los-concesionarios-toyota-del-oeste-de-washington/2026-01-01/
LOCATION:Zoológico Woodland Park\, 5500 Phinney Ave. N. \, Seattle\, Washington\, 98103\, United States
CATEGORIES:Familias/Público
ATTACH;FMTTYPE=image/jpeg:https://zoo.org/wp-content/uploads/2025/10/Moose-Blue-Jays-web.jpg
END:VEVENT
BEGIN:VEVENT
DTSTART;TZID=America/Los_Angeles:20260103T160000
DTEND;TZID=America/Los_Angeles:20260103T210000
DTSTAMP:20260421T093234
CREATED:20251024T190323Z
LAST-MODIFIED:20251024T190323Z
UID:10000688-1767456000-1767474000@zoo.org
SUMMARY:WildLanterns presentado por los concesionarios Toyota del oeste de Washington
DESCRIPTION:Ilumina tus vacaciones\nWildLanterns\, presentado por los Concesionarios Toyota del Oeste de Washington\, regresa al Zoológico Woodland Park este noviembre con nuevas exhibiciones de faroles más grandes que nunca. ¡Viva una aventura inmersiva que promete un momento navideño mágico para todos!  \nAdéntrese en un luminoso país de las maravillas invernal\n\nInspírate con la magia de la temporada navideña mientras paseas por el Sendero del País de las Maravillas\, entre criaturas del bosque del Pacífico Noroeste\, y maravíllate con nuestro majestuoso Monte Rainier. Admira un mundo espectacular de reptiles y peces mientras paseas por nuestro Manglar Serpenteante. Detente un momento para oler las flores mientras recorres la zona bajo la floración de asombrosas flores botánicas. Después\, viaja hacia el futuro en el Sendero del Bosque \, una luminosa celebración de los increíbles animales que llegarán a la nueva exhibición del Zoológico Woodland Park\, que se inaugurará en 2026. Echa un vistazo iluminado a algunos de los embajadores del bosque\, como los pandas rojos y los canguros arborícolas\, que pronto habitarán nuestro zoológico.     ¡Y no olvides pasar por la Zona Interactiva\, un espacio donde la imaginación de todas las edades puede volar!
URL:https://zoo.org/es/event/wildlanterns-presentado-por-los-concesionarios-toyota-del-oeste-de-washington/2026-01-03/
LOCATION:Zoológico Woodland Park\, 5500 Phinney Ave. N. \, Seattle\, Washington\, 98103\, United States
CATEGORIES:Familias/Público
ATTACH;FMTTYPE=image/jpeg:https://zoo.org/wp-content/uploads/2025/10/Moose-Blue-Jays-web.jpg
END:VEVENT
BEGIN:VEVENT
DTSTART;TZID=America/Los_Angeles:20260104T160000
DTEND;TZID=America/Los_Angeles:20260104T210000
DTSTAMP:20260421T093234
CREATED:20251024T190323Z
LAST-MODIFIED:20251024T190323Z
UID:10000689-1767542400-1767560400@zoo.org
SUMMARY:WildLanterns presentado por los concesionarios Toyota del oeste de Washington
DESCRIPTION:Ilumina tus vacaciones\nWildLanterns\, presentado por los Concesionarios Toyota del Oeste de Washington\, regresa al Zoológico Woodland Park este noviembre con nuevas exhibiciones de faroles más grandes que nunca. ¡Viva una aventura inmersiva que promete un momento navideño mágico para todos!  \nAdéntrese en un luminoso país de las maravillas invernal\n\nInspírate con la magia de la temporada navideña mientras paseas por el Sendero del País de las Maravillas\, entre criaturas del bosque del Pacífico Noroeste\, y maravíllate con nuestro majestuoso Monte Rainier. Admira un mundo espectacular de reptiles y peces mientras paseas por nuestro Manglar Serpenteante. Detente un momento para oler las flores mientras recorres la zona bajo la floración de asombrosas flores botánicas. Después\, viaja hacia el futuro en el Sendero del Bosque \, una luminosa celebración de los increíbles animales que llegarán a la nueva exhibición del Zoológico Woodland Park\, que se inaugurará en 2026. Echa un vistazo iluminado a algunos de los embajadores del bosque\, como los pandas rojos y los canguros arborícolas\, que pronto habitarán nuestro zoológico.     ¡Y no olvides pasar por la Zona Interactiva\, un espacio donde la imaginación de todas las edades puede volar!
URL:https://zoo.org/es/event/wildlanterns-presentado-por-los-concesionarios-toyota-del-oeste-de-washington/2026-01-04/
LOCATION:Zoológico Woodland Park\, 5500 Phinney Ave. N. \, Seattle\, Washington\, 98103\, United States
CATEGORIES:Familias/Público
ATTACH;FMTTYPE=image/jpeg:https://zoo.org/wp-content/uploads/2025/10/Moose-Blue-Jays-web.jpg
END:VEVENT
BEGIN:VEVENT
DTSTART;TZID=America/Los_Angeles:20260108T160000
DTEND;TZID=America/Los_Angeles:20260108T210000
DTSTAMP:20260421T093234
CREATED:20251024T190323Z
LAST-MODIFIED:20251024T190323Z
UID:10000690-1767888000-1767906000@zoo.org
SUMMARY:WildLanterns presentado por los concesionarios Toyota del oeste de Washington
DESCRIPTION:Ilumina tus vacaciones\nWildLanterns\, presentado por los Concesionarios Toyota del Oeste de Washington\, regresa al Zoológico Woodland Park este noviembre con nuevas exhibiciones de faroles más grandes que nunca. ¡Viva una aventura inmersiva que promete un momento navideño mágico para todos!  \nAdéntrese en un luminoso país de las maravillas invernal\n\nInspírate con la magia de la temporada navideña mientras paseas por el Sendero del País de las Maravillas\, entre criaturas del bosque del Pacífico Noroeste\, y maravíllate con nuestro majestuoso Monte Rainier. Admira un mundo espectacular de reptiles y peces mientras paseas por nuestro Manglar Serpenteante. Detente un momento para oler las flores mientras recorres la zona bajo la floración de asombrosas flores botánicas. Después\, viaja hacia el futuro en el Sendero del Bosque \, una luminosa celebración de los increíbles animales que llegarán a la nueva exhibición del Zoológico Woodland Park\, que se inaugurará en 2026. Echa un vistazo iluminado a algunos de los embajadores del bosque\, como los pandas rojos y los canguros arborícolas\, que pronto habitarán nuestro zoológico.     ¡Y no olvides pasar por la Zona Interactiva\, un espacio donde la imaginación de todas las edades puede volar!
URL:https://zoo.org/es/event/wildlanterns-presentado-por-los-concesionarios-toyota-del-oeste-de-washington/2026-01-08/
LOCATION:Zoológico Woodland Park\, 5500 Phinney Ave. N. \, Seattle\, Washington\, 98103\, United States
CATEGORIES:Familias/Público
ATTACH;FMTTYPE=image/jpeg:https://zoo.org/wp-content/uploads/2025/10/Moose-Blue-Jays-web.jpg
END:VEVENT
BEGIN:VEVENT
DTSTART;TZID=America/Los_Angeles:20260109T160000
DTEND;TZID=America/Los_Angeles:20260109T210000
DTSTAMP:20260421T093234
CREATED:20251024T190323Z
LAST-MODIFIED:20251024T190323Z
UID:10000691-1767974400-1767992400@zoo.org
SUMMARY:WildLanterns presentado por los concesionarios Toyota del oeste de Washington
DESCRIPTION:Ilumina tus vacaciones\nWildLanterns\, presentado por los Concesionarios Toyota del Oeste de Washington\, regresa al Zoológico Woodland Park este noviembre con nuevas exhibiciones de faroles más grandes que nunca. ¡Viva una aventura inmersiva que promete un momento navideño mágico para todos!  \nAdéntrese en un luminoso país de las maravillas invernal\n\nInspírate con la magia de la temporada navideña mientras paseas por el Sendero del País de las Maravillas\, entre criaturas del bosque del Pacífico Noroeste\, y maravíllate con nuestro majestuoso Monte Rainier. Admira un mundo espectacular de reptiles y peces mientras paseas por nuestro Manglar Serpenteante. Detente un momento para oler las flores mientras recorres la zona bajo la floración de asombrosas flores botánicas. Después\, viaja hacia el futuro en el Sendero del Bosque \, una luminosa celebración de los increíbles animales que llegarán a la nueva exhibición del Zoológico Woodland Park\, que se inaugurará en 2026. Echa un vistazo iluminado a algunos de los embajadores del bosque\, como los pandas rojos y los canguros arborícolas\, que pronto habitarán nuestro zoológico.     ¡Y no olvides pasar por la Zona Interactiva\, un espacio donde la imaginación de todas las edades puede volar!
URL:https://zoo.org/es/event/wildlanterns-presentado-por-los-concesionarios-toyota-del-oeste-de-washington/2026-01-09/
LOCATION:Zoológico Woodland Park\, 5500 Phinney Ave. N. \, Seattle\, Washington\, 98103\, United States
CATEGORIES:Familias/Público
ATTACH;FMTTYPE=image/jpeg:https://zoo.org/wp-content/uploads/2025/10/Moose-Blue-Jays-web.jpg
END:VEVENT
BEGIN:VEVENT
DTSTART;TZID=America/Los_Angeles:20260110T160000
DTEND;TZID=America/Los_Angeles:20260110T210000
DTSTAMP:20260421T093234
CREATED:20251024T190323Z
LAST-MODIFIED:20251024T190323Z
UID:10000692-1768060800-1768078800@zoo.org
SUMMARY:WildLanterns presentado por los concesionarios Toyota del oeste de Washington
DESCRIPTION:Ilumina tus vacaciones\nWildLanterns\, presentado por los Concesionarios Toyota del Oeste de Washington\, regresa al Zoológico Woodland Park este noviembre con nuevas exhibiciones de faroles más grandes que nunca. ¡Viva una aventura inmersiva que promete un momento navideño mágico para todos!  \nAdéntrese en un luminoso país de las maravillas invernal\n\nInspírate con la magia de la temporada navideña mientras paseas por el Sendero del País de las Maravillas\, entre criaturas del bosque del Pacífico Noroeste\, y maravíllate con nuestro majestuoso Monte Rainier. Admira un mundo espectacular de reptiles y peces mientras paseas por nuestro Manglar Serpenteante. Detente un momento para oler las flores mientras recorres la zona bajo la floración de asombrosas flores botánicas. Después\, viaja hacia el futuro en el Sendero del Bosque \, una luminosa celebración de los increíbles animales que llegarán a la nueva exhibición del Zoológico Woodland Park\, que se inaugurará en 2026. Echa un vistazo iluminado a algunos de los embajadores del bosque\, como los pandas rojos y los canguros arborícolas\, que pronto habitarán nuestro zoológico.     ¡Y no olvides pasar por la Zona Interactiva\, un espacio donde la imaginación de todas las edades puede volar!
URL:https://zoo.org/es/event/wildlanterns-presentado-por-los-concesionarios-toyota-del-oeste-de-washington/2026-01-10/
LOCATION:Zoológico Woodland Park\, 5500 Phinney Ave. N. \, Seattle\, Washington\, 98103\, United States
CATEGORIES:Familias/Público
ATTACH;FMTTYPE=image/jpeg:https://zoo.org/wp-content/uploads/2025/10/Moose-Blue-Jays-web.jpg
END:VEVENT
BEGIN:VEVENT
DTSTART;TZID=America/Los_Angeles:20260110T160000
DTEND;TZID=America/Los_Angeles:20260110T210000
DTSTAMP:20260421T093234
CREATED:20251112T184322Z
LAST-MODIFIED:20251112T184322Z
UID:10000502-1768060800-1768078800@zoo.org
SUMMARY:WildLanterns: Noche de pijamas
DESCRIPTION:¡Abrígate con tu pijama favorito y prepárate para una noche de diversión fantástica en WildLanterns! Ya sea que luzcas tu pijama de animal favorito\, presumas de un nuevo conjunto familiar a juego o te abrigues con tu ropa de estar más cómoda\, esta noche temática se centra en la comodidad\, la creatividad y la diversión.  \nIlumina tus vacaciones\nWildLanterns\, presentado por los Concesionarios Toyota del Oeste de Washington\, regresa al Zoológico Woodland Park este noviembre con nuevas exhibiciones de faroles más grandes que nunca. ¡Viva una aventura inmersiva que promete un momento navideño mágico para todos!  \nAdéntrese en un luminoso país de las maravillas invernal\n\nInspírate con la magia de la temporada navideña mientras paseas por el Sendero del País de las Maravillas\, entre criaturas del bosque del Pacífico Noroeste\, y maravíllate con nuestro majestuoso Monte Rainier. Admira un mundo espectacular de reptiles y peces mientras paseas por nuestro Manglar Serpenteante. Detente un momento para oler las flores mientras recorres la zona bajo la floración de asombrosas floraciones botánicas. Después\, viaja hacia el futuro en el Inicio del Sendero del Bosque \, una luminosa celebración de los increíbles animales que llegarán a la nueva exhibición del Zoológico Woodland Park\, que se inaugurará en 2026. Echa un vistazo iluminado a algunos de los embajadores del bosque\, como los pandas rojos y los canguros arborícolas\, que pronto habitarán nuestro zoológico. ¡Y no olvides visitar la Zona Interactiva\, un espacio donde la imaginación de todas las edades puede volar!
URL:https://zoo.org/es/event/wildlanterns-noche-de-pijamas/
LOCATION:Zoológico Woodland Park\, 5500 Phinney Ave. N. \, Seattle\, Washington\, 98103\, United States
CATEGORIES:Familias/Público
ATTACH;FMTTYPE=image/jpeg:https://zoo.org/wp-content/uploads/2025/09/2023-Pumpkin-Bash-102-web.jpg
END:VEVENT
BEGIN:VEVENT
DTSTART;TZID=America/Los_Angeles:20260111T160000
DTEND;TZID=America/Los_Angeles:20260111T210000
DTSTAMP:20260421T093234
CREATED:20251024T190323Z
LAST-MODIFIED:20251024T190323Z
UID:10000693-1768147200-1768165200@zoo.org
SUMMARY:WildLanterns presentado por los concesionarios Toyota del oeste de Washington
DESCRIPTION:Ilumina tus vacaciones\nWildLanterns\, presentado por los Concesionarios Toyota del Oeste de Washington\, regresa al Zoológico Woodland Park este noviembre con nuevas exhibiciones de faroles más grandes que nunca. ¡Viva una aventura inmersiva que promete un momento navideño mágico para todos!  \nAdéntrese en un luminoso país de las maravillas invernal\n\nInspírate con la magia de la temporada navideña mientras paseas por el Sendero del País de las Maravillas\, entre criaturas del bosque del Pacífico Noroeste\, y maravíllate con nuestro majestuoso Monte Rainier. Admira un mundo espectacular de reptiles y peces mientras paseas por nuestro Manglar Serpenteante. Detente un momento para oler las flores mientras recorres la zona bajo la floración de asombrosas flores botánicas. Después\, viaja hacia el futuro en el Sendero del Bosque \, una luminosa celebración de los increíbles animales que llegarán a la nueva exhibición del Zoológico Woodland Park\, que se inaugurará en 2026. Echa un vistazo iluminado a algunos de los embajadores del bosque\, como los pandas rojos y los canguros arborícolas\, que pronto habitarán nuestro zoológico.     ¡Y no olvides pasar por la Zona Interactiva\, un espacio donde la imaginación de todas las edades puede volar!
URL:https://zoo.org/es/event/wildlanterns-presentado-por-los-concesionarios-toyota-del-oeste-de-washington/2026-01-11/
LOCATION:Zoológico Woodland Park\, 5500 Phinney Ave. N. \, Seattle\, Washington\, 98103\, United States
CATEGORIES:Familias/Público
ATTACH;FMTTYPE=image/jpeg:https://zoo.org/wp-content/uploads/2025/10/Moose-Blue-Jays-web.jpg
END:VEVENT
BEGIN:VEVENT
DTSTART;TZID=America/Los_Angeles:20260115T160000
DTEND;TZID=America/Los_Angeles:20260115T210000
DTSTAMP:20260421T093234
CREATED:20251024T190323Z
LAST-MODIFIED:20251024T190323Z
UID:10000694-1768492800-1768510800@zoo.org
SUMMARY:WildLanterns presentado por los concesionarios Toyota del oeste de Washington
DESCRIPTION:Ilumina tus vacaciones\nWildLanterns\, presentado por los Concesionarios Toyota del Oeste de Washington\, regresa al Zoológico Woodland Park este noviembre con nuevas exhibiciones de faroles más grandes que nunca. ¡Viva una aventura inmersiva que promete un momento navideño mágico para todos!  \nAdéntrese en un luminoso país de las maravillas invernal\n\nInspírate con la magia de la temporada navideña mientras paseas por el Sendero del País de las Maravillas\, entre criaturas del bosque del Pacífico Noroeste\, y maravíllate con nuestro majestuoso Monte Rainier. Admira un mundo espectacular de reptiles y peces mientras paseas por nuestro Manglar Serpenteante. Detente un momento para oler las flores mientras recorres la zona bajo la floración de asombrosas flores botánicas. Después\, viaja hacia el futuro en el Sendero del Bosque \, una luminosa celebración de los increíbles animales que llegarán a la nueva exhibición del Zoológico Woodland Park\, que se inaugurará en 2026. Echa un vistazo iluminado a algunos de los embajadores del bosque\, como los pandas rojos y los canguros arborícolas\, que pronto habitarán nuestro zoológico.     ¡Y no olvides pasar por la Zona Interactiva\, un espacio donde la imaginación de todas las edades puede volar!
URL:https://zoo.org/es/event/wildlanterns-presentado-por-los-concesionarios-toyota-del-oeste-de-washington/2026-01-15/
LOCATION:Zoológico Woodland Park\, 5500 Phinney Ave. N. \, Seattle\, Washington\, 98103\, United States
CATEGORIES:Familias/Público
ATTACH;FMTTYPE=image/jpeg:https://zoo.org/wp-content/uploads/2025/10/Moose-Blue-Jays-web.jpg
END:VEVENT
BEGIN:VEVENT
DTSTART;TZID=America/Los_Angeles:20260116T160000
DTEND;TZID=America/Los_Angeles:20260116T210000
DTSTAMP:20260421T093234
CREATED:20251024T190323Z
LAST-MODIFIED:20251024T190323Z
UID:10000695-1768579200-1768597200@zoo.org
SUMMARY:WildLanterns presentado por los concesionarios Toyota del oeste de Washington
DESCRIPTION:Ilumina tus vacaciones\nWildLanterns\, presentado por los Concesionarios Toyota del Oeste de Washington\, regresa al Zoológico Woodland Park este noviembre con nuevas exhibiciones de faroles más grandes que nunca. ¡Viva una aventura inmersiva que promete un momento navideño mágico para todos!  \nAdéntrese en un luminoso país de las maravillas invernal\n\nInspírate con la magia de la temporada navideña mientras paseas por el Sendero del País de las Maravillas\, entre criaturas del bosque del Pacífico Noroeste\, y maravíllate con nuestro majestuoso Monte Rainier. Admira un mundo espectacular de reptiles y peces mientras paseas por nuestro Manglar Serpenteante. Detente un momento para oler las flores mientras recorres la zona bajo la floración de asombrosas flores botánicas. Después\, viaja hacia el futuro en el Sendero del Bosque \, una luminosa celebración de los increíbles animales que llegarán a la nueva exhibición del Zoológico Woodland Park\, que se inaugurará en 2026. Echa un vistazo iluminado a algunos de los embajadores del bosque\, como los pandas rojos y los canguros arborícolas\, que pronto habitarán nuestro zoológico.     ¡Y no olvides pasar por la Zona Interactiva\, un espacio donde la imaginación de todas las edades puede volar!
URL:https://zoo.org/es/event/wildlanterns-presentado-por-los-concesionarios-toyota-del-oeste-de-washington/2026-01-16/
LOCATION:Zoológico Woodland Park\, 5500 Phinney Ave. N. \, Seattle\, Washington\, 98103\, United States
CATEGORIES:Familias/Público
ATTACH;FMTTYPE=image/jpeg:https://zoo.org/wp-content/uploads/2025/10/Moose-Blue-Jays-web.jpg
END:VEVENT
BEGIN:VEVENT
DTSTART;TZID=America/Los_Angeles:20260117T160000
DTEND;TZID=America/Los_Angeles:20260117T210000
DTSTAMP:20260421T093234
CREATED:20251024T190323Z
LAST-MODIFIED:20251024T190323Z
UID:10000696-1768665600-1768683600@zoo.org
SUMMARY:WildLanterns presentado por los concesionarios Toyota del oeste de Washington
DESCRIPTION:Ilumina tus vacaciones\nWildLanterns\, presentado por los Concesionarios Toyota del Oeste de Washington\, regresa al Zoológico Woodland Park este noviembre con nuevas exhibiciones de faroles más grandes que nunca. ¡Viva una aventura inmersiva que promete un momento navideño mágico para todos!  \nAdéntrese en un luminoso país de las maravillas invernal\n\nInspírate con la magia de la temporada navideña mientras paseas por el Sendero del País de las Maravillas\, entre criaturas del bosque del Pacífico Noroeste\, y maravíllate con nuestro majestuoso Monte Rainier. Admira un mundo espectacular de reptiles y peces mientras paseas por nuestro Manglar Serpenteante. Detente un momento para oler las flores mientras recorres la zona bajo la floración de asombrosas flores botánicas. Después\, viaja hacia el futuro en el Sendero del Bosque \, una luminosa celebración de los increíbles animales que llegarán a la nueva exhibición del Zoológico Woodland Park\, que se inaugurará en 2026. Echa un vistazo iluminado a algunos de los embajadores del bosque\, como los pandas rojos y los canguros arborícolas\, que pronto habitarán nuestro zoológico.     ¡Y no olvides pasar por la Zona Interactiva\, un espacio donde la imaginación de todas las edades puede volar!
URL:https://zoo.org/es/event/wildlanterns-presentado-por-los-concesionarios-toyota-del-oeste-de-washington/2026-01-17/
LOCATION:Zoológico Woodland Park\, 5500 Phinney Ave. N. \, Seattle\, Washington\, 98103\, United States
CATEGORIES:Familias/Público
ATTACH;FMTTYPE=image/jpeg:https://zoo.org/wp-content/uploads/2025/10/Moose-Blue-Jays-web.jpg
END:VEVENT
BEGIN:VEVENT
DTSTART;TZID=America/Los_Angeles:20260117T160000
DTEND;TZID=America/Los_Angeles:20260117T210000
DTSTAMP:20260421T093234
CREATED:20251112T184627Z
LAST-MODIFIED:20251112T184627Z
UID:10000501-1768665600-1768683600@zoo.org
SUMMARY:WildLanterns: Noche deportiva en Seattle
DESCRIPTION:¡Llamamos a todos los aficionados de Seattle! Demuestren su espíritu deportivo bajo los faroles. Disfruten de diversión al estilo estadio\, sesiones de fotos y premios para los equipos más atrevidos. Vistan sus camisetas\, bufandas y los colores del equipo mientras pasean entre los faroles\, toman fotos deportivas y disfrutan de un ambiente festivo que reúne a aficionados de todas las edades.    \nIlumina tus vacaciones\nWildLanterns\, presentado por los Concesionarios Toyota del Oeste de Washington\, regresa al Zoológico Woodland Park este noviembre con nuevas exhibiciones de faroles más grandes que nunca. ¡Viva una aventura inmersiva que promete un momento navideño mágico para todos!  \nAdéntrese en un luminoso país de las maravillas invernal\n\nInspírate con la magia de la temporada navideña mientras paseas por el Sendero del País de las Maravillas\, entre criaturas del bosque del Pacífico Noroeste\, y maravíllate con nuestro majestuoso Monte Rainier. Admira un mundo espectacular de reptiles y peces mientras paseas por nuestro Manglar Serpenteante. Detente un momento para oler las flores mientras recorres la zona bajo la floración de asombrosas floraciones botánicas. Después\, viaja hacia el futuro en el Inicio del Sendero del Bosque \, una luminosa celebración de los increíbles animales que llegarán a la nueva exhibición del Zoológico Woodland Park\, que se inaugurará en 2026. Echa un vistazo iluminado a algunos de los embajadores del bosque\, como los pandas rojos y los canguros arborícolas\, que pronto habitarán nuestro zoológico. ¡Y no olvides visitar la Zona Interactiva\, un espacio donde la imaginación de todas las edades puede volar!
URL:https://zoo.org/es/event/wildlanterns-noche-deportiva-en-seattle/
LOCATION:Zoológico Woodland Park\, 5500 Phinney Ave. N. \, Seattle\, Washington\, 98103\, United States
CATEGORIES:Familias/Público
ATTACH;FMTTYPE=image/jpeg:https://zoo.org/wp-content/uploads/2025/09/RS32069_2016_12_01-Wildlights-9_ohi.jpg
END:VEVENT
BEGIN:VEVENT
DTSTART;TZID=America/Los_Angeles:20260118T160000
DTEND;TZID=America/Los_Angeles:20260118T210000
DTSTAMP:20260421T093234
CREATED:20251024T190323Z
LAST-MODIFIED:20251024T190323Z
UID:10000697-1768752000-1768770000@zoo.org
SUMMARY:WildLanterns presentado por los concesionarios Toyota del oeste de Washington
DESCRIPTION:Ilumina tus vacaciones\nWildLanterns\, presentado por los Concesionarios Toyota del Oeste de Washington\, regresa al Zoológico Woodland Park este noviembre con nuevas exhibiciones de faroles más grandes que nunca. ¡Viva una aventura inmersiva que promete un momento navideño mágico para todos!  \nAdéntrese en un luminoso país de las maravillas invernal\n\nInspírate con la magia de la temporada navideña mientras paseas por el Sendero del País de las Maravillas\, entre criaturas del bosque del Pacífico Noroeste\, y maravíllate con nuestro majestuoso Monte Rainier. Admira un mundo espectacular de reptiles y peces mientras paseas por nuestro Manglar Serpenteante. Detente un momento para oler las flores mientras recorres la zona bajo la floración de asombrosas flores botánicas. Después\, viaja hacia el futuro en el Sendero del Bosque \, una luminosa celebración de los increíbles animales que llegarán a la nueva exhibición del Zoológico Woodland Park\, que se inaugurará en 2026. Echa un vistazo iluminado a algunos de los embajadores del bosque\, como los pandas rojos y los canguros arborícolas\, que pronto habitarán nuestro zoológico.     ¡Y no olvides pasar por la Zona Interactiva\, un espacio donde la imaginación de todas las edades puede volar!
URL:https://zoo.org/es/event/wildlanterns-presentado-por-los-concesionarios-toyota-del-oeste-de-washington/2026-01-18/
LOCATION:Zoológico Woodland Park\, 5500 Phinney Ave. N. \, Seattle\, Washington\, 98103\, United States
CATEGORIES:Familias/Público
ATTACH;FMTTYPE=image/jpeg:https://zoo.org/wp-content/uploads/2025/10/Moose-Blue-Jays-web.jpg
END:VEVENT
END:VCALENDAR