BEGIN:VCALENDAR
VERSION:2.0
PRODID:-//Zoológico Woodland Park - ECPv6.15.20//NONSGML v1.0//EN
CALSCALE:GREGORIAN
METHOD:PUBLISH
X-ORIGINAL-URL:https://zoo.org/es/
X-WR-CALDESC:Eventos para Zoológico Woodland Park
REFRESH-INTERVAL;VALUE=DURATION:PT1H
X-Robots-Tag:noindex
X-PUBLISHED-TTL:PT1H
BEGIN:VTIMEZONE
TZID:America/Los_Angeles
BEGIN:DAYLIGHT
TZOFFSETFROM:-0800
TZOFFSETTO:-0700
TZNAME:PDT
DTSTART:20250309T100000
END:DAYLIGHT
BEGIN:STANDARD
TZOFFSETFROM:-0700
TZOFFSETTO:-0800
TZNAME:PST
DTSTART:20251102T090000
END:STANDARD
BEGIN:DAYLIGHT
TZOFFSETFROM:-0800
TZOFFSETTO:-0700
TZNAME:PDT
DTSTART:20260308T100000
END:DAYLIGHT
BEGIN:STANDARD
TZOFFSETFROM:-0700
TZOFFSETTO:-0800
TZNAME:PST
DTSTART:20261101T090000
END:STANDARD
BEGIN:DAYLIGHT
TZOFFSETFROM:-0800
TZOFFSETTO:-0700
TZNAME:PDT
DTSTART:20270314T100000
END:DAYLIGHT
BEGIN:STANDARD
TZOFFSETFROM:-0700
TZOFFSETTO:-0800
TZNAME:PST
DTSTART:20271107T090000
END:STANDARD
END:VTIMEZONE
BEGIN:VEVENT
DTSTART;TZID=America/Los_Angeles:20260611T183000
DTEND;TZID=America/Los_Angeles:20260611T210000
DTSTAMP:20260420T082254
CREATED:20260323T221508Z
LAST-MODIFIED:20260323T221508Z
UID:10001696-1781202600-1781211600@zoo.org
SUMMARY:Un encuentro con la naturaleza: Angeline Shrike (21+)
DESCRIPTION:El evento «A Brush with Nature» invita a artistas de todos los niveles a dar rienda suelta a su creatividad rodeados de impresionantes paisajes en lugares emblemáticos del zoológico de Woodland Park.
URL:https://zoo.org/es/event/un-encuentro-con-la-naturaleza-angeline-shrike-21-6/
LOCATION:Zoológico Woodland Park\, 5500 Phinney Ave. N. \, Seattle\, Washington\, 98103\, United States
CATEGORIES:Sólo adultos
ATTACH;FMTTYPE=image/jpeg:https://zoo.org/wp-content/uploads/2026/03/angeline-shrike-7263.jpg
END:VEVENT
END:VCALENDAR