BEGIN:VCALENDAR
VERSION:2.0
PRODID:-//Woodland Park Zoo - ECPv6.15.20//NONSGML v1.0//EN
CALSCALE:GREGORIAN
METHOD:PUBLISH
X-WR-CALNAME:Woodland Park Zoo
X-ORIGINAL-URL:https://zoo.org
X-WR-CALDESC:Events for Woodland Park Zoo
REFRESH-INTERVAL;VALUE=DURATION:PT1H
X-Robots-Tag:noindex
X-PUBLISHED-TTL:PT1H
BEGIN:VTIMEZONE
TZID:America/Los_Angeles
BEGIN:DAYLIGHT
TZOFFSETFROM:-0800
TZOFFSETTO:-0700
TZNAME:PDT
DTSTART:20250309T100000
END:DAYLIGHT
BEGIN:STANDARD
TZOFFSETFROM:-0700
TZOFFSETTO:-0800
TZNAME:PST
DTSTART:20251102T090000
END:STANDARD
BEGIN:DAYLIGHT
TZOFFSETFROM:-0800
TZOFFSETTO:-0700
TZNAME:PDT
DTSTART:20260308T100000
END:DAYLIGHT
BEGIN:STANDARD
TZOFFSETFROM:-0700
TZOFFSETTO:-0800
TZNAME:PST
DTSTART:20261101T090000
END:STANDARD
BEGIN:DAYLIGHT
TZOFFSETFROM:-0800
TZOFFSETTO:-0700
TZNAME:PDT
DTSTART:20270314T100000
END:DAYLIGHT
BEGIN:STANDARD
TZOFFSETFROM:-0700
TZOFFSETTO:-0800
TZNAME:PST
DTSTART:20271107T090000
END:STANDARD
END:VTIMEZONE
BEGIN:VEVENT
DTSTART;TZID=America/Los_Angeles:20260611T183000
DTEND;TZID=America/Los_Angeles:20260611T210000
DTSTAMP:20260419T145428
CREATED:20260323T221508Z
LAST-MODIFIED:20260323T221508Z
UID:10001664-1781202600-1781211600@zoo.org
SUMMARY:A Brush With Nature: Angeline Shrike (21+)
DESCRIPTION:A Brush with Nature invites artists of all skill levels to get creative surrounded by breathtaking backdrops at iconic locations across Woodland Park Zoo.
URL:https://zoo.org/event/a-brush-with-nature-angeline-shrike-21-6/
LOCATION:Woodland Park Zoo\, 5500 Phinney Ave. N.\, Seattle\, WA\, 98103\, United States
CATEGORIES:Adults Only
ATTACH;FMTTYPE=image/jpeg:https://zoo.org/wp-content/uploads/2026/03/angeline-shrike-7263.jpg
END:VEVENT
BEGIN:VEVENT
DTSTART;TZID=America/Los_Angeles:20260620T153000
DTEND;TZID=America/Los_Angeles:20260620T203000
DTSTAMP:20260419T145428
CREATED:20260413T173822Z
LAST-MODIFIED:20260413T173822Z
UID:10001709-1781969400-1781987400@zoo.org
SUMMARY:Tasting Flight
DESCRIPTION:Tasting Flight is Back!\nTasting Flight returns Saturday\, June 20\, transforming Woodland Park Zoo into Seattle’s premier wine‑tasting experience! Enjoy pours from more than 50 local wineries showcasing some of the best wines the Pacific Northwest has to offer. Sip and stroll through the zoo’s breathtaking grounds\, engage with extraordinary animals\, and explore our immersive exhibits — all in a kid‑free environment. \nWhether you’re a wine enthusiast or simply looking for a memorable night out\, Tasting Flight is one of the most delicious ways to support wildlife conservation\, along with education programs and exceptional animal care. \nPlease note: The zoo will close at 1:00 p.m. on June 20 with grounds cleared and reopening at 3:30 p.m. exclusively for Tasting Flight guests.
URL:https://zoo.org/event/tasting-flight/
LOCATION:Woodland Park Zoo\, 5500 Phinney Ave. N.\, Seattle\, WA\, 98103\, United States
CATEGORIES:Adults Only
ATTACH;FMTTYPE=image/jpeg:https://zoo.org/wp-content/uploads/2025/09/2017-Tasting-flight-4-web.jpg
END:VEVENT
END:VCALENDAR