BEGIN:VCALENDAR
VERSION:2.0
PRODID:-//Woodland Park Zoo - ECPv6.15.20//NONSGML v1.0//EN
CALSCALE:GREGORIAN
METHOD:PUBLISH
X-WR-CALNAME:Woodland Park Zoo
X-ORIGINAL-URL:https://zoo.org
X-WR-CALDESC:Events for Woodland Park Zoo
REFRESH-INTERVAL;VALUE=DURATION:PT1H
X-Robots-Tag:noindex
X-PUBLISHED-TTL:PT1H
BEGIN:VTIMEZONE
TZID:America/Los_Angeles
BEGIN:DAYLIGHT
TZOFFSETFROM:-0800
TZOFFSETTO:-0700
TZNAME:PDT
DTSTART:20250309T100000
END:DAYLIGHT
BEGIN:STANDARD
TZOFFSETFROM:-0700
TZOFFSETTO:-0800
TZNAME:PST
DTSTART:20251102T090000
END:STANDARD
BEGIN:DAYLIGHT
TZOFFSETFROM:-0800
TZOFFSETTO:-0700
TZNAME:PDT
DTSTART:20260308T100000
END:DAYLIGHT
BEGIN:STANDARD
TZOFFSETFROM:-0700
TZOFFSETTO:-0800
TZNAME:PST
DTSTART:20261101T090000
END:STANDARD
BEGIN:DAYLIGHT
TZOFFSETFROM:-0800
TZOFFSETTO:-0700
TZNAME:PDT
DTSTART:20270314T100000
END:DAYLIGHT
BEGIN:STANDARD
TZOFFSETFROM:-0700
TZOFFSETTO:-0800
TZNAME:PST
DTSTART:20271107T090000
END:STANDARD
END:VTIMEZONE
BEGIN:VEVENT
DTSTART;TZID=America/Los_Angeles:20260710T160000
DTEND;TZID=America/Los_Angeles:20260710T213000
DTSTAMP:20260419T164438
CREATED:20260224T182920Z
LAST-MODIFIED:20260227T172947Z
UID:10001212-1783699200-1783719000@zoo.org
SUMMARY:Jungle Party
DESCRIPTION:Voices of the Wild\nJoin us for our 50th anniversary event! \nLocation: Woodland Park Zoo’s North Meadow \nJoin us on July 10\, 2026 to celebrate the 50th anniversary of Jungle Party! This year\, the theme is Voices of the Wild\, which underscores our responsibility as voices for wildlife and recognizes that people have the power to create lasting conservation change. \nThis year’s Jungle Party will feature live and silent auctions\, a gourmet dinner\, hosted bar\, exquisite bites and fine Washington wine served by renowned local chefs and vintners\, up-close animal encounters and more. \n 
URL:https://zoo.org/event/jungle-party/
LOCATION:Woodland Park Zoo\, 5500 Phinney Ave. N.\, Seattle\, WA\, 98103\, United States
CATEGORIES:Adults Only
ATTACH;FMTTYPE=image/jpeg:https://zoo.org/wp-content/uploads/2026/02/2025-Jungle-Party-37-JDL.jpg
END:VEVENT
END:VCALENDAR