BEGIN:VCALENDAR
VERSION:2.0
PRODID:-//Woodland Park Zoo - ECPv6.15.20//NONSGML v1.0//EN
CALSCALE:GREGORIAN
METHOD:PUBLISH
X-WR-CALNAME:Woodland Park Zoo
X-ORIGINAL-URL:https://zoo.org
X-WR-CALDESC:Events for Woodland Park Zoo
REFRESH-INTERVAL;VALUE=DURATION:PT1H
X-Robots-Tag:noindex
X-PUBLISHED-TTL:PT1H
BEGIN:VTIMEZONE
TZID:America/Los_Angeles
BEGIN:DAYLIGHT
TZOFFSETFROM:-0800
TZOFFSETTO:-0700
TZNAME:PDT
DTSTART:20250309T100000
END:DAYLIGHT
BEGIN:STANDARD
TZOFFSETFROM:-0700
TZOFFSETTO:-0800
TZNAME:PST
DTSTART:20251102T090000
END:STANDARD
BEGIN:DAYLIGHT
TZOFFSETFROM:-0800
TZOFFSETTO:-0700
TZNAME:PDT
DTSTART:20260308T100000
END:DAYLIGHT
BEGIN:STANDARD
TZOFFSETFROM:-0700
TZOFFSETTO:-0800
TZNAME:PST
DTSTART:20261101T090000
END:STANDARD
BEGIN:DAYLIGHT
TZOFFSETFROM:-0800
TZOFFSETTO:-0700
TZNAME:PDT
DTSTART:20270314T100000
END:DAYLIGHT
BEGIN:STANDARD
TZOFFSETFROM:-0700
TZOFFSETTO:-0800
TZNAME:PST
DTSTART:20271107T090000
END:STANDARD
END:VTIMEZONE
BEGIN:VEVENT
DTSTART;TZID=America/Los_Angeles:20260606T090000
DTEND;TZID=America/Los_Angeles:20260606T100000
DTSTAMP:20260421T074135
CREATED:20260320T183446Z
LAST-MODIFIED:20260320T183446Z
UID:10001363-1780736400-1780740000@zoo.org
SUMMARY:Grazing at the Zoo: Brunch Club
DESCRIPTION:Brunch your way through the zoo with this delicious dining experience set in one of the zoo’s most scenic spaces — the lush landscapes of Banyan Wilds. Enjoy fresh flavors\, scenic views\, and opportunities to connect with wildlife in a relaxed atmosphere perfect for friends\, families\, or anyone who believes brunch is better enjoyed surrounded by nature. \nEntry for Brunch Club is at West Entrance only. \nMimosas or bellinis are available for purchase for guests 21+.
URL:https://zoo.org/event/grazing-at-the-zoo-brunch-club-9/2026-06-06/
LOCATION:Woodland Park Zoo\, 5500 Phinney Ave. N.\, Seattle\, WA\, 98103\, United States
CATEGORIES:Families/Public
ATTACH;FMTTYPE=image/jpeg:https://zoo.org/wp-content/uploads/2025/09/Brunch3.jpg
END:VEVENT
END:VCALENDAR