BEGIN:VCALENDAR
VERSION:2.0
PRODID:-//Woodland Park Zoo - ECPv6.15.20//NONSGML v1.0//EN
CALSCALE:GREGORIAN
METHOD:PUBLISH
X-ORIGINAL-URL:https://zoo.org
X-WR-CALDESC:Events for Woodland Park Zoo
REFRESH-INTERVAL;VALUE=DURATION:PT1H
X-Robots-Tag:noindex
X-PUBLISHED-TTL:PT1H
BEGIN:VTIMEZONE
TZID:America/Los_Angeles
BEGIN:DAYLIGHT
TZOFFSETFROM:-0800
TZOFFSETTO:-0700
TZNAME:PDT
DTSTART:20250309T100000
END:DAYLIGHT
BEGIN:STANDARD
TZOFFSETFROM:-0700
TZOFFSETTO:-0800
TZNAME:PST
DTSTART:20251102T090000
END:STANDARD
BEGIN:DAYLIGHT
TZOFFSETFROM:-0800
TZOFFSETTO:-0700
TZNAME:PDT
DTSTART:20260308T100000
END:DAYLIGHT
BEGIN:STANDARD
TZOFFSETFROM:-0700
TZOFFSETTO:-0800
TZNAME:PST
DTSTART:20261101T090000
END:STANDARD
BEGIN:DAYLIGHT
TZOFFSETFROM:-0800
TZOFFSETTO:-0700
TZNAME:PDT
DTSTART:20270314T100000
END:DAYLIGHT
BEGIN:STANDARD
TZOFFSETFROM:-0700
TZOFFSETTO:-0800
TZNAME:PST
DTSTART:20271107T090000
END:STANDARD
END:VTIMEZONE
BEGIN:VEVENT
DTSTART;TZID=America/Los_Angeles:20260621T090000
DTEND;TZID=America/Los_Angeles:20260621T100000
DTSTAMP:20260421T150701
CREATED:20260320T182927Z
LAST-MODIFIED:20260327T161007Z
UID:10001351-1782032400-1782036000@zoo.org
SUMMARY:Grazing at the Zoo: Papa Bear Brunch
DESCRIPTION:SOLD OUT! \nCelebrate Father’s Day with a brunch experience that’s bear-y special! Guests will be brunching near brown bears\, lynx\, and elk\, enjoying up-close animal views and a hearty buffet stacked with favorites like chicken & waffles\, artisan sausage\, Bavarian cream puffs\, and much more. Plus\, every guest receives a complimentary family photo keepsake! Be sure to stop by our airbrush tattoo station\, where kids — and kids at heart — can get complimentary bear-themed airbrushed tattoos\, making that keepsake photo even more memorable. Raise a mimosa or Bloody Mary to the dads in your life and make memories that will last a lifetime! \nEntry for Papa Bear Brunch is at West Entrance only.
URL:https://zoo.org/event/grazing-at-the-zoo-papa-bear-brunch-3/2026-06-21/
LOCATION:Woodland Park Zoo\, 5500 Phinney Ave. N.\, Seattle\, WA\, 98103\, United States
CATEGORIES:Families/Public
ATTACH;FMTTYPE=image/jpeg:https://zoo.org/wp-content/uploads/2025/07/Pappa-Bear-Brunch.jpg
END:VEVENT
END:VCALENDAR