BEGIN:VCALENDAR
VERSION:2.0
PRODID:-//Woodland Park Zoo - ECPv6.15.20//NONSGML v1.0//EN
CALSCALE:GREGORIAN
METHOD:PUBLISH
X-WR-CALNAME:Woodland Park Zoo
X-ORIGINAL-URL:https://zoo.org
X-WR-CALDESC:Events for Woodland Park Zoo
REFRESH-INTERVAL;VALUE=DURATION:PT1H
X-Robots-Tag:noindex
X-PUBLISHED-TTL:PT1H
BEGIN:VTIMEZONE
TZID:America/Los_Angeles
BEGIN:DAYLIGHT
TZOFFSETFROM:-0800
TZOFFSETTO:-0700
TZNAME:PDT
DTSTART:20250309T100000
END:DAYLIGHT
BEGIN:STANDARD
TZOFFSETFROM:-0700
TZOFFSETTO:-0800
TZNAME:PST
DTSTART:20251102T090000
END:STANDARD
BEGIN:DAYLIGHT
TZOFFSETFROM:-0800
TZOFFSETTO:-0700
TZNAME:PDT
DTSTART:20260308T100000
END:DAYLIGHT
BEGIN:STANDARD
TZOFFSETFROM:-0700
TZOFFSETTO:-0800
TZNAME:PST
DTSTART:20261101T090000
END:STANDARD
BEGIN:DAYLIGHT
TZOFFSETFROM:-0800
TZOFFSETTO:-0700
TZNAME:PDT
DTSTART:20270314T100000
END:DAYLIGHT
BEGIN:STANDARD
TZOFFSETFROM:-0700
TZOFFSETTO:-0800
TZNAME:PST
DTSTART:20271107T090000
END:STANDARD
END:VTIMEZONE
BEGIN:VEVENT
DTSTART;TZID=America/Los_Angeles:20260627T103000
DTEND;TZID=America/Los_Angeles:20260627T113000
DTSTAMP:20260421T210637
CREATED:20260323T211532Z
LAST-MODIFIED:20260323T211532Z
UID:10001506-1782556200-1782559800@zoo.org
SUMMARY:Grazing at the Zoo: Afternoon Tea
DESCRIPTION:Sip\, unwind\, and take in the beauty of the Microsoft Pollinator Patio at this elegant afternoon tea experience. Nestled among lush greenery and vibrant blooms\, guests will enjoy a tea tower buffet station full of sweet and savory treats\, from gourmet tea sandwiches to petit fours. Perfect for a Mother’s Day outing\, a special gathering with friends\, or a serene break with loved ones\, this enchanting event is a toast to nature’s beauty—complete with a complimentary glass of prosecco for guests 21+.
URL:https://zoo.org/event/grazing-at-the-zoo-afternoon-tea-21/2026-06-27/1/
LOCATION:Woodland Park Zoo\, 5500 Phinney Ave. N.\, Seattle\, WA\, 98103\, United States
CATEGORIES:Families/Public
ATTACH;FMTTYPE=image/jpeg:https://zoo.org/wp-content/uploads/2025/07/2025_Grazing-at-the-zoo-21_web.jpg
END:VEVENT
BEGIN:VEVENT
DTSTART;TZID=America/Los_Angeles:20260627T110000
DTEND;TZID=America/Los_Angeles:20260627T120000
DTSTAMP:20260421T210637
CREATED:20260323T211532Z
LAST-MODIFIED:20260323T211532Z
UID:10001507-1782558000-1782561600@zoo.org
SUMMARY:Grazing at the Zoo: Afternoon Tea
DESCRIPTION:Sip\, unwind\, and take in the beauty of the Microsoft Pollinator Patio at this elegant afternoon tea experience. Nestled among lush greenery and vibrant blooms\, guests will enjoy a tea tower buffet station full of sweet and savory treats\, from gourmet tea sandwiches to petit fours. Perfect for a Mother’s Day outing\, a special gathering with friends\, or a serene break with loved ones\, this enchanting event is a toast to nature’s beauty—complete with a complimentary glass of prosecco for guests 21+.
URL:https://zoo.org/event/grazing-at-the-zoo-afternoon-tea-21/2026-06-27/2/
LOCATION:Woodland Park Zoo\, 5500 Phinney Ave. N.\, Seattle\, WA\, 98103\, United States
CATEGORIES:Families/Public
ATTACH;FMTTYPE=image/jpeg:https://zoo.org/wp-content/uploads/2025/07/2025_Grazing-at-the-zoo-21_web.jpg
END:VEVENT
BEGIN:VEVENT
DTSTART;TZID=America/Los_Angeles:20260627T130000
DTEND;TZID=America/Los_Angeles:20260627T140000
DTSTAMP:20260421T210637
CREATED:20260323T211532Z
LAST-MODIFIED:20260323T211532Z
UID:10001508-1782565200-1782568800@zoo.org
SUMMARY:Grazing at the Zoo: Afternoon Tea
DESCRIPTION:Sip\, unwind\, and take in the beauty of the Microsoft Pollinator Patio at this elegant afternoon tea experience. Nestled among lush greenery and vibrant blooms\, guests will enjoy a tea tower buffet station full of sweet and savory treats\, from gourmet tea sandwiches to petit fours. Perfect for a Mother’s Day outing\, a special gathering with friends\, or a serene break with loved ones\, this enchanting event is a toast to nature’s beauty—complete with a complimentary glass of prosecco for guests 21+.
URL:https://zoo.org/event/grazing-at-the-zoo-afternoon-tea-21/2026-06-27/3/
LOCATION:Woodland Park Zoo\, 5500 Phinney Ave. N.\, Seattle\, WA\, 98103\, United States
CATEGORIES:Families/Public
ATTACH;FMTTYPE=image/jpeg:https://zoo.org/wp-content/uploads/2025/07/2025_Grazing-at-the-zoo-21_web.jpg
END:VEVENT
BEGIN:VEVENT
DTSTART;TZID=America/Los_Angeles:20260627T133000
DTEND;TZID=America/Los_Angeles:20260627T143000
DTSTAMP:20260421T210637
CREATED:20260323T211532Z
LAST-MODIFIED:20260323T211532Z
UID:10001509-1782567000-1782570600@zoo.org
SUMMARY:Grazing at the Zoo: Afternoon Tea
DESCRIPTION:Sip\, unwind\, and take in the beauty of the Microsoft Pollinator Patio at this elegant afternoon tea experience. Nestled among lush greenery and vibrant blooms\, guests will enjoy a tea tower buffet station full of sweet and savory treats\, from gourmet tea sandwiches to petit fours. Perfect for a Mother’s Day outing\, a special gathering with friends\, or a serene break with loved ones\, this enchanting event is a toast to nature’s beauty—complete with a complimentary glass of prosecco for guests 21+.
URL:https://zoo.org/event/grazing-at-the-zoo-afternoon-tea-21/2026-06-27/4/
LOCATION:Woodland Park Zoo\, 5500 Phinney Ave. N.\, Seattle\, WA\, 98103\, United States
CATEGORIES:Families/Public
ATTACH;FMTTYPE=image/jpeg:https://zoo.org/wp-content/uploads/2025/07/2025_Grazing-at-the-zoo-21_web.jpg
END:VEVENT
END:VCALENDAR