BEGIN:VCALENDAR
VERSION:2.0
PRODID:-//Зоопарк Вудленд-Парк - ECPv6.15.20//NONSGML v1.0//EN
CALSCALE:GREGORIAN
METHOD:PUBLISH
X-ORIGINAL-URL:https://zoo.org/ru/
X-WR-CALDESC:Мероприятия для Зоопарк Вудленд-Парк
REFRESH-INTERVAL;VALUE=DURATION:PT1H
X-Robots-Tag:noindex
X-PUBLISHED-TTL:PT1H
BEGIN:VTIMEZONE
TZID:America/Los_Angeles
BEGIN:DAYLIGHT
TZOFFSETFROM:-0800
TZOFFSETTO:-0700
TZNAME:PDT
DTSTART:20250309T100000
END:DAYLIGHT
BEGIN:STANDARD
TZOFFSETFROM:-0700
TZOFFSETTO:-0800
TZNAME:PST
DTSTART:20251102T090000
END:STANDARD
BEGIN:DAYLIGHT
TZOFFSETFROM:-0800
TZOFFSETTO:-0700
TZNAME:PDT
DTSTART:20260308T100000
END:DAYLIGHT
BEGIN:STANDARD
TZOFFSETFROM:-0700
TZOFFSETTO:-0800
TZNAME:PST
DTSTART:20261101T090000
END:STANDARD
BEGIN:DAYLIGHT
TZOFFSETFROM:-0800
TZOFFSETTO:-0700
TZNAME:PDT
DTSTART:20270314T100000
END:DAYLIGHT
BEGIN:STANDARD
TZOFFSETFROM:-0700
TZOFFSETTO:-0800
TZNAME:PST
DTSTART:20271107T090000
END:STANDARD
END:VTIMEZONE
BEGIN:VEVENT
DTSTART;TZID=America/Los_Angeles:20260426T120000
DTEND;TZID=America/Los_Angeles:20260426T133000
DTSTAMP:20260421T051739
CREATED:20260320T175638Z
LAST-MODIFIED:20260327T161123Z
UID:10001225-1777204800-1777210200@zoo.org
SUMMARY:Перекус в зоопарке: подъем и ужин
DESCRIPTION:РАСПРОДАННЫЙ! \nПроснитесь и поужинайте в компании самых неуловимых животных в мире — и станьте одними из первых\, кто ступит на нашу совершенно новую экспозицию «Лесная тропа»! Насладитесь вкусными блюдами\, подаваемыми под кронами деревьев\, и откройте для себя виды\, звуки и истории этих невероятных животных\, а также места\, которые являются домом для их вида.  \nВход на мероприятие Rise and Dine возможен только у западного входа на лесную тропу.
URL:https://zoo.org/ru/event/%d0%b2%d1%81%d1%82%d0%b0%d0%b2%d0%b0%d0%b9-%d0%b8-%d0%be%d0%b1%d0%b5%d0%b4%d0%b0%d0%b9/2026-04-26/
LOCATION:Зоопарк Вудленд-Парк\, 5500 Финни-авеню\, Север. \, Сиэтл\, ВА\, 98103\, United States
CATEGORIES:Семьи/Общественность
ATTACH;FMTTYPE=image/jpeg:https://zoo.org/wp-content/uploads/2026/03/Rise-Dine-37_phi.jpg
END:VEVENT
END:VCALENDAR