BEGIN:VCALENDAR
VERSION:2.0
PRODID:-//Зоопарк Вудленд-Парк - ECPv6.15.20//NONSGML v1.0//EN
CALSCALE:GREGORIAN
METHOD:PUBLISH
X-ORIGINAL-URL:https://zoo.org/ru/
X-WR-CALDESC:Мероприятия для Зоопарк Вудленд-Парк
REFRESH-INTERVAL;VALUE=DURATION:PT1H
X-Robots-Tag:noindex
X-PUBLISHED-TTL:PT1H
BEGIN:VTIMEZONE
TZID:America/Los_Angeles
BEGIN:DAYLIGHT
TZOFFSETFROM:-0800
TZOFFSETTO:-0700
TZNAME:PDT
DTSTART:20250309T100000
END:DAYLIGHT
BEGIN:STANDARD
TZOFFSETFROM:-0700
TZOFFSETTO:-0800
TZNAME:PST
DTSTART:20251102T090000
END:STANDARD
BEGIN:DAYLIGHT
TZOFFSETFROM:-0800
TZOFFSETTO:-0700
TZNAME:PDT
DTSTART:20260308T100000
END:DAYLIGHT
BEGIN:STANDARD
TZOFFSETFROM:-0700
TZOFFSETTO:-0800
TZNAME:PST
DTSTART:20261101T090000
END:STANDARD
BEGIN:DAYLIGHT
TZOFFSETFROM:-0800
TZOFFSETTO:-0700
TZNAME:PDT
DTSTART:20270314T100000
END:DAYLIGHT
BEGIN:STANDARD
TZOFFSETFROM:-0700
TZOFFSETTO:-0800
TZNAME:PST
DTSTART:20271107T090000
END:STANDARD
END:VTIMEZONE
BEGIN:VEVENT
DTSTART;TZID=America/Los_Angeles:20260607T090000
DTEND;TZID=America/Los_Angeles:20260607T100000
DTSTAMP:20260421T083702
CREATED:20260320T183446Z
LAST-MODIFIED:20260320T183446Z
UID:10001382-1780822800-1780826400@zoo.org
SUMMARY:Перекус в зоопарке: Клуб любителей бранча
DESCRIPTION:Проведите незабываемый бранч в зоопарке\, насладившись восхитительным ужином в одном из самых живописных мест зоопарка — пышных джунглях Banyan Wilds. Освежающие блюда\, прекрасные виды и возможность пообщаться с дикими животными в непринужденной атмосфере\, идеально подходящей для друзей\, семей или всех\, кто считает\, что бранч лучше всего проводить на природе.  \nВход в Brunch Club осуществляется только через западный вход. \nГостям старше 21 года можно приобрести мимозу или беллини.
URL:https://zoo.org/ru/event/%d0%bf%d0%b5%d1%80%d0%b5%d0%ba%d1%83%d1%81-%d0%b2-%d0%b7%d0%be%d0%be%d0%bf%d0%b0%d1%80%d0%ba%d0%b5-%d0%ba%d0%bb%d1%83%d0%b1-%d0%bb%d1%8e%d0%b1%d0%b8%d1%82%d0%b5%d0%bb%d0%b5%d0%b9-%d0%b1%d1%80%d0%b0-7/2026-06-07/
LOCATION:Зоопарк Вудленд-Парк\, 5500 Финни-авеню\, Север. \, Сиэтл\, ВА\, 98103\, United States
CATEGORIES:Семьи/Общественность
ATTACH;FMTTYPE=image/jpeg:https://zoo.org/wp-content/uploads/2025/09/Brunch3.jpg
END:VEVENT
END:VCALENDAR