BEGIN:VCALENDAR
VERSION:2.0
PRODID:-//Зоопарк Вудленд-Парк - ECPv6.15.20//NONSGML v1.0//EN
CALSCALE:GREGORIAN
METHOD:PUBLISH
X-WR-CALNAME:Зоопарк Вудленд-Парк
X-ORIGINAL-URL:https://zoo.org/ru/
X-WR-CALDESC:Мероприятия для Зоопарк Вудленд-Парк
REFRESH-INTERVAL;VALUE=DURATION:PT1H
X-Robots-Tag:noindex
X-PUBLISHED-TTL:PT1H
BEGIN:VTIMEZONE
TZID:America/Los_Angeles
BEGIN:DAYLIGHT
TZOFFSETFROM:-0800
TZOFFSETTO:-0700
TZNAME:PDT
DTSTART:20250309T100000
END:DAYLIGHT
BEGIN:STANDARD
TZOFFSETFROM:-0700
TZOFFSETTO:-0800
TZNAME:PST
DTSTART:20251102T090000
END:STANDARD
BEGIN:DAYLIGHT
TZOFFSETFROM:-0800
TZOFFSETTO:-0700
TZNAME:PDT
DTSTART:20260308T100000
END:DAYLIGHT
BEGIN:STANDARD
TZOFFSETFROM:-0700
TZOFFSETTO:-0800
TZNAME:PST
DTSTART:20261101T090000
END:STANDARD
BEGIN:DAYLIGHT
TZOFFSETFROM:-0800
TZOFFSETTO:-0700
TZNAME:PDT
DTSTART:20270314T100000
END:DAYLIGHT
BEGIN:STANDARD
TZOFFSETFROM:-0700
TZOFFSETTO:-0800
TZNAME:PST
DTSTART:20271107T090000
END:STANDARD
END:VTIMEZONE
BEGIN:VEVENT
DTSTART;TZID=America/Los_Angeles:20260627T103000
DTEND;TZID=America/Los_Angeles:20260627T113000
DTSTAMP:20260421T083636
CREATED:20260323T211532Z
LAST-MODIFIED:20260323T211532Z
UID:10001526-1782556200-1782559800@zoo.org
SUMMARY:Перекус в зоопарке: послеобеденный чай
DESCRIPTION:Насладитесь чаепитием\, отдохните и полюбуйтесь красотой террасы Microsoft Pollinator Patio во время этого элегантного чаепития. В окружении пышной зелени и ярких цветов гостей ждет шведский стол с чайной башней\, полный сладких и соленых угощений\, от изысканных чайных бутербродов до мини-пирожных. Идеальное место для празднования Дня матери\, особой встречи с друзьями или спокойного отдыха с любимыми людьми\, это очаровательное мероприятие станет тостом за красоту природы — и\, конечно же\, для гостей старше 21 года будет предложен бесплатный бокал просекко.
URL:https://zoo.org/ru/event/%d0%bf%d0%b5%d1%80%d0%b5%d0%ba%d1%83%d1%81-%d0%b2-%d0%b7%d0%be%d0%be%d0%bf%d0%b0%d1%80%d0%ba%d0%b5-%d0%bf%d0%be%d1%81%d0%bb%d0%b5%d0%be%d0%b1%d0%b5%d0%b4%d0%b5%d0%bd%d0%bd%d1%8b%d0%b9-%d1%87%d0%b0-19/2026-06-27/1/
LOCATION:Зоопарк Вудленд-Парк\, 5500 Финни-авеню\, Север. \, Сиэтл\, ВА\, 98103\, United States
CATEGORIES:Семьи/Общественность
ATTACH;FMTTYPE=image/jpeg:https://zoo.org/wp-content/uploads/2025/07/2025_Grazing-at-the-zoo-21_web.jpg
END:VEVENT
BEGIN:VEVENT
DTSTART;TZID=America/Los_Angeles:20260627T110000
DTEND;TZID=America/Los_Angeles:20260627T120000
DTSTAMP:20260421T083636
CREATED:20260323T211532Z
LAST-MODIFIED:20260323T211532Z
UID:10001527-1782558000-1782561600@zoo.org
SUMMARY:Перекус в зоопарке: послеобеденный чай
DESCRIPTION:Насладитесь чаепитием\, отдохните и полюбуйтесь красотой террасы Microsoft Pollinator Patio во время этого элегантного чаепития. В окружении пышной зелени и ярких цветов гостей ждет шведский стол с чайной башней\, полный сладких и соленых угощений\, от изысканных чайных бутербродов до мини-пирожных. Идеальное место для празднования Дня матери\, особой встречи с друзьями или спокойного отдыха с любимыми людьми\, это очаровательное мероприятие станет тостом за красоту природы — и\, конечно же\, для гостей старше 21 года будет предложен бесплатный бокал просекко.
URL:https://zoo.org/ru/event/%d0%bf%d0%b5%d1%80%d0%b5%d0%ba%d1%83%d1%81-%d0%b2-%d0%b7%d0%be%d0%be%d0%bf%d0%b0%d1%80%d0%ba%d0%b5-%d0%bf%d0%be%d1%81%d0%bb%d0%b5%d0%be%d0%b1%d0%b5%d0%b4%d0%b5%d0%bd%d0%bd%d1%8b%d0%b9-%d1%87%d0%b0-19/2026-06-27/2/
LOCATION:Зоопарк Вудленд-Парк\, 5500 Финни-авеню\, Север. \, Сиэтл\, ВА\, 98103\, United States
CATEGORIES:Семьи/Общественность
ATTACH;FMTTYPE=image/jpeg:https://zoo.org/wp-content/uploads/2025/07/2025_Grazing-at-the-zoo-21_web.jpg
END:VEVENT
BEGIN:VEVENT
DTSTART;TZID=America/Los_Angeles:20260627T130000
DTEND;TZID=America/Los_Angeles:20260627T140000
DTSTAMP:20260421T083636
CREATED:20260323T211532Z
LAST-MODIFIED:20260323T211532Z
UID:10001528-1782565200-1782568800@zoo.org
SUMMARY:Перекус в зоопарке: послеобеденный чай
DESCRIPTION:Насладитесь чаепитием\, отдохните и полюбуйтесь красотой террасы Microsoft Pollinator Patio во время этого элегантного чаепития. В окружении пышной зелени и ярких цветов гостей ждет шведский стол с чайной башней\, полный сладких и соленых угощений\, от изысканных чайных бутербродов до мини-пирожных. Идеальное место для празднования Дня матери\, особой встречи с друзьями или спокойного отдыха с любимыми людьми\, это очаровательное мероприятие станет тостом за красоту природы — и\, конечно же\, для гостей старше 21 года будет предложен бесплатный бокал просекко.
URL:https://zoo.org/ru/event/%d0%bf%d0%b5%d1%80%d0%b5%d0%ba%d1%83%d1%81-%d0%b2-%d0%b7%d0%be%d0%be%d0%bf%d0%b0%d1%80%d0%ba%d0%b5-%d0%bf%d0%be%d1%81%d0%bb%d0%b5%d0%be%d0%b1%d0%b5%d0%b4%d0%b5%d0%bd%d0%bd%d1%8b%d0%b9-%d1%87%d0%b0-19/2026-06-27/3/
LOCATION:Зоопарк Вудленд-Парк\, 5500 Финни-авеню\, Север. \, Сиэтл\, ВА\, 98103\, United States
CATEGORIES:Семьи/Общественность
ATTACH;FMTTYPE=image/jpeg:https://zoo.org/wp-content/uploads/2025/07/2025_Grazing-at-the-zoo-21_web.jpg
END:VEVENT
BEGIN:VEVENT
DTSTART;TZID=America/Los_Angeles:20260627T133000
DTEND;TZID=America/Los_Angeles:20260627T143000
DTSTAMP:20260421T083636
CREATED:20260323T211532Z
LAST-MODIFIED:20260323T211532Z
UID:10001529-1782567000-1782570600@zoo.org
SUMMARY:Перекус в зоопарке: послеобеденный чай
DESCRIPTION:Насладитесь чаепитием\, отдохните и полюбуйтесь красотой террасы Microsoft Pollinator Patio во время этого элегантного чаепития. В окружении пышной зелени и ярких цветов гостей ждет шведский стол с чайной башней\, полный сладких и соленых угощений\, от изысканных чайных бутербродов до мини-пирожных. Идеальное место для празднования Дня матери\, особой встречи с друзьями или спокойного отдыха с любимыми людьми\, это очаровательное мероприятие станет тостом за красоту природы — и\, конечно же\, для гостей старше 21 года будет предложен бесплатный бокал просекко.
URL:https://zoo.org/ru/event/%d0%bf%d0%b5%d1%80%d0%b5%d0%ba%d1%83%d1%81-%d0%b2-%d0%b7%d0%be%d0%be%d0%bf%d0%b0%d1%80%d0%ba%d0%b5-%d0%bf%d0%be%d1%81%d0%bb%d0%b5%d0%be%d0%b1%d0%b5%d0%b4%d0%b5%d0%bd%d0%bd%d1%8b%d0%b9-%d1%87%d0%b0-19/2026-06-27/4/
LOCATION:Зоопарк Вудленд-Парк\, 5500 Финни-авеню\, Север. \, Сиэтл\, ВА\, 98103\, United States
CATEGORIES:Семьи/Общественность
ATTACH;FMTTYPE=image/jpeg:https://zoo.org/wp-content/uploads/2025/07/2025_Grazing-at-the-zoo-21_web.jpg
END:VEVENT
END:VCALENDAR