BEGIN:VCALENDAR
VERSION:2.0
PRODID:-//Зоопарк Вудленд-Парк - ECPv6.15.20//NONSGML v1.0//EN
CALSCALE:GREGORIAN
METHOD:PUBLISH
X-ORIGINAL-URL:https://zoo.org/ru/
X-WR-CALDESC:Мероприятия для Зоопарк Вудленд-Парк
REFRESH-INTERVAL;VALUE=DURATION:PT1H
X-Robots-Tag:noindex
X-PUBLISHED-TTL:PT1H
BEGIN:VTIMEZONE
TZID:America/Los_Angeles
BEGIN:DAYLIGHT
TZOFFSETFROM:-0800
TZOFFSETTO:-0700
TZNAME:PDT
DTSTART:20250309T100000
END:DAYLIGHT
BEGIN:STANDARD
TZOFFSETFROM:-0700
TZOFFSETTO:-0800
TZNAME:PST
DTSTART:20251102T090000
END:STANDARD
BEGIN:DAYLIGHT
TZOFFSETFROM:-0800
TZOFFSETTO:-0700
TZNAME:PDT
DTSTART:20260308T100000
END:DAYLIGHT
BEGIN:STANDARD
TZOFFSETFROM:-0700
TZOFFSETTO:-0800
TZNAME:PST
DTSTART:20261101T090000
END:STANDARD
BEGIN:DAYLIGHT
TZOFFSETFROM:-0800
TZOFFSETTO:-0700
TZNAME:PDT
DTSTART:20270314T100000
END:DAYLIGHT
BEGIN:STANDARD
TZOFFSETFROM:-0700
TZOFFSETTO:-0800
TZNAME:PST
DTSTART:20271107T090000
END:STANDARD
END:VTIMEZONE
BEGIN:VEVENT
DTSTART;TZID=America/Los_Angeles:20260826T083000
DTEND;TZID=America/Los_Angeles:20260826T093000
DTSTAMP:20260421T115344
CREATED:20260320T181917Z
LAST-MODIFIED:20260320T182328Z
UID:10001337-1787733000-1787736600@zoo.org
SUMMARY:Выгул в зоопарке: блины с пингвинами
DESCRIPTION:Завтрак «Блинчики с пингвинами» — это незабываемое событие\, где гости могут прийти в зоопарк пораньше и насладиться восхитительным выбором пышных блинчиков\, свежих фруктов и вкусных добавок\, а также полюбоваться видом на вольер с пингвинами Гумбольдта. В зависимости от дня\, вы можете послушать рассказ смотрителя или увидеть талисмана зоопарка. Независимо от того\, любите ли вы завтраки\, являетесь ли поклонником пингвинов или и тем\, и другим\, эта уютная утренняя встреча — идеальный способ начать свой день\, с бесплатным кофе Tree Kangaroo Conservation Coffee\, апельсиновым соком и водой с добавками. Гости с действительным удостоверением личности 21+ смогут приобрести мимозу.    \nВход на мероприятие «Блинчики с пингвинами» осуществляется только через западный вход.
URL:https://zoo.org/ru/event/%d0%b1%d0%bb%d0%b8%d0%bd%d1%8b-%d1%81-%d0%bf%d0%b8%d0%bd%d0%b3%d0%b2%d0%b8%d0%bd%d0%b0%d0%bc%d0%b8/2026-08-26/
LOCATION:Зоопарк Вудленд-Парк\, 5500 Финни-авеню\, Север. \, Сиэтл\, ВА\, 98103\, United States
CATEGORIES:Семьи/Общественность
ATTACH;FMTTYPE=image/jpeg:https://zoo.org/wp-content/uploads/2026/03/pancakes-with-penguins-081.jpg
END:VEVENT
END:VCALENDAR