BEGIN:VCALENDAR
VERSION:2.0
PRODID:-//Зоопарк Вудленд-Парк - ECPv6.15.20//NONSGML v1.0//EN
CALSCALE:GREGORIAN
METHOD:PUBLISH
X-ORIGINAL-URL:https://zoo.org/ru/
X-WR-CALDESC:Мероприятия для Зоопарк Вудленд-Парк
REFRESH-INTERVAL;VALUE=DURATION:PT1H
X-Robots-Tag:noindex
X-PUBLISHED-TTL:PT1H
BEGIN:VTIMEZONE
TZID:America/Los_Angeles
BEGIN:DAYLIGHT
TZOFFSETFROM:-0800
TZOFFSETTO:-0700
TZNAME:PDT
DTSTART:20250309T100000
END:DAYLIGHT
BEGIN:STANDARD
TZOFFSETFROM:-0700
TZOFFSETTO:-0800
TZNAME:PST
DTSTART:20251102T090000
END:STANDARD
BEGIN:DAYLIGHT
TZOFFSETFROM:-0800
TZOFFSETTO:-0700
TZNAME:PDT
DTSTART:20260308T100000
END:DAYLIGHT
BEGIN:STANDARD
TZOFFSETFROM:-0700
TZOFFSETTO:-0800
TZNAME:PST
DTSTART:20261101T090000
END:STANDARD
BEGIN:DAYLIGHT
TZOFFSETFROM:-0800
TZOFFSETTO:-0700
TZNAME:PDT
DTSTART:20270314T100000
END:DAYLIGHT
BEGIN:STANDARD
TZOFFSETFROM:-0700
TZOFFSETTO:-0800
TZNAME:PST
DTSTART:20271107T090000
END:STANDARD
END:VTIMEZONE
BEGIN:VEVENT
DTSTART;TZID=America/Los_Angeles:20260417T163000
DTEND;TZID=America/Los_Angeles:20260417T190000
DTSTAMP:20260419T151048
CREATED:20260323T221507Z
LAST-MODIFIED:20260323T221507Z
UID:10001688-1776443400-1776452400@zoo.org
SUMMARY:Встреча с природой: Анжелина Шрайк (21+)
DESCRIPTION:Выставка «Встреча с природой» приглашает художников всех уровней мастерства проявить свои творческие способности на фоне захватывающих дух пейзажей знаковых мест зоопарка Вудленд-Парк.
URL:https://zoo.org/ru/event/%d0%b2%d1%81%d1%82%d1%80%d0%b5%d1%87%d0%b0-%d1%81-%d0%bf%d1%80%d0%b8%d1%80%d0%be%d0%b4%d0%be%d0%b9-%d0%b0%d0%bd%d0%b6%d0%b5%d0%bb%d0%b8%d0%bd%d0%b0-%d1%88%d1%80%d0%b0%d0%b9%d0%ba-21-5/
LOCATION:Зоопарк Вудленд-Парк\, 5500 Финни-авеню\, Север. \, Сиэтл\, ВА\, 98103\, United States
CATEGORIES:Только для взрослых
ATTACH;FMTTYPE=image/jpeg:https://zoo.org/wp-content/uploads/2026/03/angeline-shrike-4.jpg
END:VEVENT
END:VCALENDAR