BEGIN:VCALENDAR
VERSION:2.0
PRODID:-//Зоопарк Вудленд-Парк - ECPv6.15.20//NONSGML v1.0//EN
CALSCALE:GREGORIAN
METHOD:PUBLISH
X-ORIGINAL-URL:https://zoo.org/ru/
X-WR-CALDESC:Мероприятия для Зоопарк Вудленд-Парк
REFRESH-INTERVAL;VALUE=DURATION:PT1H
X-Robots-Tag:noindex
X-PUBLISHED-TTL:PT1H
BEGIN:VTIMEZONE
TZID:America/Los_Angeles
BEGIN:DAYLIGHT
TZOFFSETFROM:-0800
TZOFFSETTO:-0700
TZNAME:PDT
DTSTART:20240310T100000
END:DAYLIGHT
BEGIN:STANDARD
TZOFFSETFROM:-0700
TZOFFSETTO:-0800
TZNAME:PST
DTSTART:20241103T090000
END:STANDARD
BEGIN:DAYLIGHT
TZOFFSETFROM:-0800
TZOFFSETTO:-0700
TZNAME:PDT
DTSTART:20250309T100000
END:DAYLIGHT
BEGIN:STANDARD
TZOFFSETFROM:-0700
TZOFFSETTO:-0800
TZNAME:PST
DTSTART:20251102T090000
END:STANDARD
BEGIN:DAYLIGHT
TZOFFSETFROM:-0800
TZOFFSETTO:-0700
TZNAME:PDT
DTSTART:20260308T100000
END:DAYLIGHT
BEGIN:STANDARD
TZOFFSETFROM:-0700
TZOFFSETTO:-0800
TZNAME:PST
DTSTART:20261101T090000
END:STANDARD
END:VTIMEZONE
BEGIN:VEVENT
DTSTART;TZID=America/Los_Angeles:20251026T093000
DTEND;TZID=America/Los_Angeles:20251026T150000
DTSTAMP:20260420T082047
CREATED:20251024T185050Z
LAST-MODIFIED:20251024T185050Z
UID:10000603-1761471000-1761490800@zoo.org
SUMMARY:Праздник тыкв\, организованный компанией Smile Generation.
DESCRIPTION:Мероприятия в рамках «Праздника тыкв» включены в стоимость входного билета в зоопарк или абонемента! \nПроведите чудесный день\, полный тыкв для животных\, сбора сладостей и многого другого для маленьких гоблинов\, привидений и «свирепых» зверюшек! \nДети получат массу удовольствия\, собирая сладости по всему зоопарку и участвуя в специальном параде костюмов с участием талисманов! Boo-mazium станет центром развлечений\, предлагая множество увлекательных мероприятий\, специально разработанных для самых маленьких посетителей. А в этом году не пропустите демонстрацию резьбы по тыквам в воскресенье!   \nМногие из наших животных\, включая медведей\, тапиров\, волков\, тигров и выдр\, также проникнутся духом Хэллоуина\, поедая\, раздавливая\, хрустя или играя с тыквами и другими осенними лакомствами. Эти особые развлечения являются частью нашей превосходной программы по уходу за животными\, направленной на поощрение естественного поведения животных и поддержание их физической и умственной активности — они также доставляют удовольствие нашим гостям!  \nПринесите свой костюм.\nВо время фестиваля Pumpkin Bash один ребенок в возрасте до 12 лет включительно может бесплатно посетить зоопарк по каждому взрослому билету по полной цене\, и приветствуются костюмы.
URL:https://zoo.org/ru/event/%d0%bf%d1%80%d0%b0%d0%b7%d0%b4%d0%bd%d0%b8%d0%ba-%d1%82%d1%8b%d0%ba%d0%b2-%d0%be%d1%80%d0%b3%d0%b0%d0%bd%d0%b8%d0%b7%d0%be%d0%b2%d0%b0%d0%bd%d0%bd%d1%8b%d0%b9-%d0%ba%d0%be%d0%bc%d0%bf%d0%b0%d0%bd/2025-10-26/
LOCATION:Зоопарк Вудленд-Парк\, 5500 Финни-авеню\, Север. \, Сиэтл\, ВА\, 98103\, United States
CATEGORIES:Семьи/Общественность
ATTACH;FMTTYPE=image/jpeg:https://zoo.org/wp-content/uploads/2025/09/RS49060_2024_10-Pumpkin-Bash-47_ohi.jpg
END:VEVENT
BEGIN:VEVENT
DTSTART;TZID=America/Los_Angeles:20251025T093000
DTEND;TZID=America/Los_Angeles:20251025T150000
DTSTAMP:20260420T082047
CREATED:20251024T185050Z
LAST-MODIFIED:20251024T185050Z
UID:10000602-1761384600-1761404400@zoo.org
SUMMARY:Праздник тыкв\, организованный компанией Smile Generation.
DESCRIPTION:Мероприятия в рамках «Праздника тыкв» включены в стоимость входного билета в зоопарк или абонемента! \nПроведите чудесный день\, полный тыкв для животных\, сбора сладостей и многого другого для маленьких гоблинов\, привидений и «свирепых» зверюшек! \nДети получат массу удовольствия\, собирая сладости по всему зоопарку и участвуя в специальном параде костюмов с участием талисманов! Boo-mazium станет центром развлечений\, предлагая множество увлекательных мероприятий\, специально разработанных для самых маленьких посетителей. А в этом году не пропустите демонстрацию резьбы по тыквам в воскресенье!   \nМногие из наших животных\, включая медведей\, тапиров\, волков\, тигров и выдр\, также проникнутся духом Хэллоуина\, поедая\, раздавливая\, хрустя или играя с тыквами и другими осенними лакомствами. Эти особые развлечения являются частью нашей превосходной программы по уходу за животными\, направленной на поощрение естественного поведения животных и поддержание их физической и умственной активности — они также доставляют удовольствие нашим гостям!  \nПринесите свой костюм.\nВо время фестиваля Pumpkin Bash один ребенок в возрасте до 12 лет включительно может бесплатно посетить зоопарк по каждому взрослому билету по полной цене\, и приветствуются костюмы.
URL:https://zoo.org/ru/event/%d0%bf%d1%80%d0%b0%d0%b7%d0%b4%d0%bd%d0%b8%d0%ba-%d1%82%d1%8b%d0%ba%d0%b2-%d0%be%d1%80%d0%b3%d0%b0%d0%bd%d0%b8%d0%b7%d0%be%d0%b2%d0%b0%d0%bd%d0%bd%d1%8b%d0%b9-%d0%ba%d0%be%d0%bc%d0%bf%d0%b0%d0%bd/2025-10-25/
LOCATION:Зоопарк Вудленд-Парк\, 5500 Финни-авеню\, Север. \, Сиэтл\, ВА\, 98103\, United States
CATEGORIES:Семьи/Общественность
ATTACH;FMTTYPE=image/jpeg:https://zoo.org/wp-content/uploads/2025/09/RS49060_2024_10-Pumpkin-Bash-47_ohi.jpg
END:VEVENT
BEGIN:VEVENT
DTSTART;TZID=America/Los_Angeles:20250903T163000
DTEND;TZID=America/Los_Angeles:20250903T210000
DTSTAMP:20260420T082047
CREATED:20250722T235207Z
LAST-MODIFIED:20250722T235207Z
UID:10000969-1756917000-1756933200@zoo.org
SUMMARY:ZooTunes: Японский завтрак с корнем имбиря
DESCRIPTION:BECU ZooTunes при поддержке Carter Subaru\nСМОТРИТЕ КОНЦЕРТЫ. СПАСАЙТЕ ЖИВОТНЫХ.  \nЗоопарк Вудленд-Парк рад снова приветствовать гостей этим летом на 41-м ежегодном фестивале BECU ZooTunes\, представленном компанией Carter Subaru! В этом году концертный сезон обещает быть фантастическим: вас ждут как любимые артисты\, так и те\, кто дебютирует на ZooTunes! Приготовьтесь к лету\, наполненному невероятной музыкой и незабываемыми моментами на ZooTunes!   \nБилеты можно приобрести только онлайн; в кассах зоопарка они продаваться не будут. \n*Время окончания приблизительное
URL:https://zoo.org/ru/event/zootunes-%d1%8f%d0%bf%d0%be%d0%bd%d1%81%d0%ba%d0%b8%d0%b9-%d0%b7%d0%b0%d0%b2%d1%82%d1%80%d0%b0%d0%ba-%d1%81-%d0%ba%d0%be%d1%80%d0%bd%d0%b5%d0%bc-%d0%b8%d0%bc%d0%b1%d0%b8%d1%80%d1%8f/
LOCATION:Зоопарк Вудленд-Парк\, 5500 Финни-авеню\, Север. \, Сиэтл\, ВА\, 98103\, United States
CATEGORIES:Музыкальные развлечения
ATTACH;FMTTYPE=image/jpeg:https://zoo.org/wp-content/uploads/2025/07/Japanese-Breakfast-web.jpg
END:VEVENT
BEGIN:VEVENT
DTSTART;TZID=America/Los_Angeles:20250902T163000
DTEND;TZID=America/Los_Angeles:20250902T210000
DTSTAMP:20260420T082047
CREATED:20250722T234825Z
LAST-MODIFIED:20250722T234825Z
UID:10001106-1756830600-1756846800@zoo.org
SUMMARY:ZooTunes: Японский завтрак с корнем имбиря
DESCRIPTION:BECU ZooTunes при поддержке Carter Subaru\nСМОТРИТЕ КОНЦЕРТЫ. СПАСАЙТЕ ЖИВОТНЫХ.  \nЗоопарк Вудленд-Парк рад снова приветствовать гостей этим летом на 41-м ежегодном фестивале BECU ZooTunes\, представленном компанией Carter Subaru! В этом году концертный сезон обещает быть фантастическим: вас ждут как любимые артисты\, так и те\, кто дебютирует на ZooTunes! Приготовьтесь к лету\, наполненному невероятной музыкой и незабываемыми моментами на ZooTunes!   \nНа этом концерте будет обеспечен перевод на американский язык жестов. \nБилеты можно приобрести только онлайн; в кассах зоопарка они продаваться не будут. \n*Время окончания приблизительное
URL:https://zoo.org/ru/event/zootunes-%d1%8f%d0%bf%d0%be%d0%bd%d1%81%d0%ba%d0%b8%d0%b9-%d0%b7%d0%b0%d0%b2%d1%82%d1%80%d0%b0%d0%ba-%d1%81-%d0%ba%d0%be%d1%80%d0%bd%d0%b5%d0%bc-%d0%b8%d0%bc%d0%b1%d0%b8%d1%80%d1%8f-2/
LOCATION:Зоопарк Вудленд-Парк\, 5500 Финни-авеню\, Север. \, Сиэтл\, ВА\, 98103\, United States
CATEGORIES:Музыкальные развлечения
ATTACH;FMTTYPE=image/jpeg:https://zoo.org/wp-content/uploads/2025/07/Japanese-Breakfast-web.jpg
END:VEVENT
BEGIN:VEVENT
DTSTART;TZID=America/Los_Angeles:20250825T163000
DTEND;TZID=America/Los_Angeles:20250825T210000
DTSTAMP:20260420T082047
CREATED:20250722T230631Z
LAST-MODIFIED:20250722T230631Z
UID:10000964-1756139400-1756155600@zoo.org
SUMMARY:ZooTunes: Wilco
DESCRIPTION:BECU ZooTunes при поддержке Carter Subaru\nСМОТРИТЕ КОНЦЕРТЫ. СПАСАЙТЕ ЖИВОТНЫХ.  \nЗоопарк Вудленд-Парк рад снова приветствовать гостей этим летом на 41-м ежегодном фестивале BECU ZooTunes\, представленном компанией Carter Subaru! В этом году концертный сезон обещает быть фантастическим: вас ждут как любимые артисты\, так и те\, кто дебютирует на ZooTunes! Приготовьтесь к лету\, наполненному невероятной музыкой и незабываемыми моментами на ZooTunes!   \nБилеты можно приобрести только онлайн; в кассах зоопарка они продаваться не будут. \n*Время окончания приблизительное
URL:https://zoo.org/ru/event/zootunes-wilco-2/
LOCATION:Зоопарк Вудленд-Парк\, 5500 Финни-авеню\, Север. \, Сиэтл\, ВА\, 98103\, United States
CATEGORIES:Музыкальные развлечения
ATTACH;FMTTYPE=image/jpeg:https://zoo.org/wp-content/uploads/2025/07/Wilco-Sydney-Harbor-Cruise-2024.03.jpg
END:VEVENT
BEGIN:VEVENT
DTSTART;TZID=America/Los_Angeles:20250824T080000
DTEND;TZID=America/Los_Angeles:20250824T170000
DTSTAMP:20260420T082047
CREATED:20250624T230514Z
LAST-MODIFIED:20250624T230514Z
UID:10000938-1756022400-1756054800@zoo.org
SUMMARY:ZooTunes: Wilco
DESCRIPTION:BECU ZooTunes при поддержке Carter Subaru\nСМОТРИТЕ КОНЦЕРТЫ. СПАСАЙТЕ ЖИВОТНЫХ.  \nЗоопарк Вудленд-Парк рад снова приветствовать гостей этим летом на 41-м ежегодном фестивале BECU ZooTunes\, представленном компанией Carter Subaru! В этом году концертный сезон обещает быть фантастическим: вас ждут как любимые артисты\, так и те\, кто дебютирует на ZooTunes! Приготовьтесь к лету\, наполненному невероятной музыкой и незабываемыми моментами на ZooTunes!   \nБилеты можно приобрести только онлайн; в кассах зоопарка они продаваться не будут. \n*Время окончания приблизительное
URL:https://zoo.org/ru/event/zootunes-wilco/
LOCATION:Зоопарк Вудленд-Парк\, 5500 Финни-авеню\, Север. \, Сиэтл\, ВА\, 98103\, United States
CATEGORIES:Музыкальные развлечения
ATTACH;FMTTYPE=image/jpeg:https://zoo.org/wp-content/uploads/2025/07/Wilco-Sydney-Harbor-Cruise-2024.03.jpg
END:VEVENT
BEGIN:VEVENT
DTSTART;TZID=America/Los_Angeles:20250822T173000
DTEND;TZID=America/Los_Angeles:20250822T210000
DTSTAMP:20260420T082047
CREATED:20250723T001818Z
LAST-MODIFIED:20250723T001818Z
UID:10000978-1755883800-1755896400@zoo.org
SUMMARY:Сет Майерс
DESCRIPTION:Приготовьтесь посмеяться вместе с Сетом Майерсом в зоопарке Вудленд-Парк!\nПриглашаем вас провести невероятно веселый вечер\, когда обладатель премии «Эмми»\, комик и ведущий программы «Late Night» Сет Майерс выйдет на сцену с особым стендап-выступлением на лужайке. В окружении достопримечательностей и звуков зоопарка это уникальное событие сочетает в себе охрану природы\, комедию и общение\, создавая незабываемый вечер смеха. Независимо от того\, являетесь ли вы давним поклонником или просто хотите хорошо провести время\, не упустите свой шанс увидеть одного из самых смешных комиков в поистине уникальной обстановке. Приобретайте билеты сегодня — и приготовьтесь хохотать до упаду!    \nКаждый проданный билет поддерживает исключительный уход за животными в зоопарке\, отмеченные наградами образовательные программы и более 30 местных и глобальных природоохранных инициатив.
URL:https://zoo.org/ru/event/%d1%81%d0%b5%d1%82-%d0%bc%d0%b0%d0%b9%d0%b5%d1%80%d1%81/
LOCATION:Зоопарк Вудленд-Парк\, 5500 Финни-авеню\, Север. \, Сиэтл\, ВА\, 98103\, United States
CATEGORIES:Музыкальные развлечения
ATTACH;FMTTYPE=image/jpeg:https://zoo.org/wp-content/uploads/2025/07/Seth-Meyers-Ad-Mat-Image-10.26.23-web.jpg
END:VEVENT
BEGIN:VEVENT
DTSTART;TZID=America/Los_Angeles:20250819T163000
DTEND;TZID=America/Los_Angeles:20250819T210000
DTSTAMP:20260420T082047
CREATED:20250722T230240Z
LAST-MODIFIED:20250722T230240Z
UID:10000953-1755621000-1755637200@zoo.org
SUMMARY:ZooTunes: Бен Харпер и The Innocent Criminals
DESCRIPTION:BECU ZooTunes при поддержке Carter Subaru\nСМОТРИТЕ КОНЦЕРТЫ. СПАСАЙТЕ ЖИВОТНЫХ.  \nЗоопарк Вудленд-Парк рад снова приветствовать гостей этим летом на 41-м ежегодном фестивале BECU ZooTunes\, представленном компанией Carter Subaru! В этом году концертный сезон обещает быть фантастическим: вас ждут как любимые артисты\, так и те\, кто дебютирует на ZooTunes! Приготовьтесь к лету\, наполненному невероятной музыкой и незабываемыми моментами на ZooTunes!   \nБилеты можно приобрести только онлайн; в кассах зоопарка они продаваться не будут. \n*Время окончания приблизительное
URL:https://zoo.org/ru/event/zootunes-%d0%b1%d0%b5%d0%bd-%d1%85%d0%b0%d1%80%d0%bf%d0%b5%d1%80-%d0%b8-the-innocent-criminals/
LOCATION:Зоопарк Вудленд-Парк\, 5500 Финни-авеню\, Север. \, Сиэтл\, ВА\, 98103\, United States
CATEGORIES:Музыкальные развлечения
ATTACH;FMTTYPE=image/jpeg:https://zoo.org/wp-content/uploads/2025/07/Ben-Harper_benSDbellyshow24-web.jpg
END:VEVENT
BEGIN:VEVENT
DTSTART;TZID=America/Los_Angeles:20250817T163000
DTEND;TZID=America/Los_Angeles:20250817T210000
DTSTAMP:20260420T082047
CREATED:20250722T230121Z
LAST-MODIFIED:20250722T230121Z
UID:10000958-1755448200-1755464400@zoo.org
SUMMARY:ZooTunes: Trampled by Turtles & Shakey Graves
DESCRIPTION:BECU ZooTunes при поддержке Carter Subaru\nСМОТРИТЕ КОНЦЕРТЫ. СПАСАЙТЕ ЖИВОТНЫХ.  \nЗоопарк Вудленд-Парк рад снова приветствовать гостей этим летом на 41-м ежегодном фестивале BECU ZooTunes\, представленном компанией Carter Subaru! В этом году концертный сезон обещает быть фантастическим: вас ждут как любимые артисты\, так и те\, кто дебютирует на ZooTunes! Приготовьтесь к лету\, наполненному невероятной музыкой и незабываемыми моментами на ZooTunes!   \nБилеты можно приобрести только онлайн; в кассах зоопарка они продаваться не будут. \n*Время окончания приблизительное
URL:https://zoo.org/ru/event/zootunes-trampled-by-turtles-shakey-graves/
LOCATION:Зоопарк Вудленд-Парк\, 5500 Финни-авеню\, Север. \, Сиэтл\, ВА\, 98103\, United States
CATEGORIES:Музыкальные развлечения
ATTACH;FMTTYPE=image/jpeg:https://zoo.org/wp-content/uploads/2025/07/trampled-by-turtles-shakey-graves.jpg
END:VEVENT
BEGIN:VEVENT
DTSTART;TZID=America/Los_Angeles:20250814T163000
DTEND;TZID=America/Los_Angeles:20250814T210000
DTSTAMP:20260420T082047
CREATED:20250722T225648Z
LAST-MODIFIED:20250722T225648Z
UID:10000943-1755189000-1755205200@zoo.org
SUMMARY:ZooTunes: Men I Trust
DESCRIPTION:BECU ZooTunes при поддержке Carter Subaru\nСМОТРИТЕ КОНЦЕРТЫ. СПАСАЙТЕ ЖИВОТНЫХ.  \nЗоопарк Вудленд-Парк рад снова приветствовать гостей этим летом на 41-м ежегодном фестивале BECU ZooTunes\, представленном компанией Carter Subaru! В этом году концертный сезон обещает быть фантастическим: вас ждут как любимые артисты\, так и те\, кто дебютирует на ZooTunes! Приготовьтесь к лету\, наполненному невероятной музыкой и незабываемыми моментами на ZooTunes!   \nБилеты можно приобрести только онлайн; в кассах зоопарка они продаваться не будут. \n*Время окончания приблизительное
URL:https://zoo.org/ru/event/zootunes-men-i-trust/
LOCATION:Зоопарк Вудленд-Парк\, 5500 Финни-авеню\, Север. \, Сиэтл\, ВА\, 98103\, United States
CATEGORIES:Музыкальные развлечения
ATTACH;FMTTYPE=image/jpeg:https://zoo.org/wp-content/uploads/2025/07/Men-I-Trust-emma-bw-club-web.jpg
END:VEVENT
BEGIN:VEVENT
DTSTART;TZID=America/Los_Angeles:20250810T163000
DTEND;TZID=America/Los_Angeles:20250810T210000
DTSTAMP:20260420T082047
CREATED:20250722T225534Z
LAST-MODIFIED:20250722T225534Z
UID:10000862-1754843400-1754859600@zoo.org
SUMMARY:ZooTunes: Waxahatchee with Foxwarren
DESCRIPTION:BECU ZooTunes при поддержке Carter Subaru\nСМОТРИТЕ КОНЦЕРТЫ. СПАСАЙТЕ ЖИВОТНЫХ.  \nЗоопарк Вудленд-Парк рад снова приветствовать гостей этим летом на 41-м ежегодном фестивале BECU ZooTunes\, представленном компанией Carter Subaru! В этом году концертный сезон обещает быть фантастическим: вас ждут как любимые артисты\, так и те\, кто дебютирует на ZooTunes! Приготовьтесь к лету\, наполненному невероятной музыкой и незабываемыми моментами на ZooTunes!   \nБилеты можно приобрести только онлайн; в кассах зоопарка они продаваться не будут. \n*Время окончания приблизительное
URL:https://zoo.org/ru/event/zootunes-waxahatchee-with-foxwarren/
LOCATION:Зоопарк Вудленд-Парк\, 5500 Финни-авеню\, Север. \, Сиэтл\, ВА\, 98103\, United States
CATEGORIES:Музыкальные развлечения
ATTACH;FMTTYPE=image/jpeg:https://zoo.org/wp-content/uploads/2025/07/Waxahatchee.jpg
END:VEVENT
BEGIN:VEVENT
DTSTART;TZID=America/Los_Angeles:20250728T163000
DTEND;TZID=America/Los_Angeles:20250728T213000
DTSTAMP:20260420T082047
CREATED:20250717T034300Z
LAST-MODIFIED:20250717T034300Z
UID:10000933-1753720200-1753738200@zoo.org
SUMMARY:ZooTunes: Регина Спектор
DESCRIPTION:BECU ZooTunes при поддержке Carter Subaru\nСМОТРИТЕ КОНЦЕРТЫ. СПАСАЙТЕ ЖИВОТНЫХ.  \nЗоопарк Вудленд-Парк рад снова приветствовать гостей этим летом на 41-м ежегодном фестивале BECU ZooTunes\, представленном компанией Carter Subaru! В этом году концертный сезон обещает быть фантастическим: вас ждут как любимые артисты\, так и те\, кто дебютирует на ZooTunes! Приготовьтесь к лету\, наполненному невероятной музыкой и незабываемыми моментами на ZooTunes!   \nБилеты можно приобрести только онлайн; в кассах зоопарка они продаваться не будут. \n*Время окончания приблизительное
URL:https://zoo.org/ru/event/zootunes-%d1%80%d0%b5%d0%b3%d0%b8%d0%bd%d0%b0-%d1%81%d0%bf%d0%b5%d0%ba%d1%82%d0%be%d1%80/
LOCATION:Зоопарк Вудленд-Парк\, 5500 Финни-авеню\, Север. \, Сиэтл\, ВА\, 98103\, United States
CATEGORIES:Музыкальные развлечения
ATTACH;FMTTYPE=image/jpeg:https://zoo.org/wp-content/uploads/2025/07/regina-spektor.jpg
END:VEVENT
BEGIN:VEVENT
DTSTART;TZID=America/Los_Angeles:20250726T113000
DTEND;TZID=America/Los_Angeles:20250726T200000
DTSTAMP:20260420T082047
CREATED:20250723T210245Z
LAST-MODIFIED:20250723T210245Z
UID:10000589-1753529400-1753560000@zoo.org
SUMMARY:Зоопарк «Все включено» (21+)
DESCRIPTION:Ваш день летнего отдыха только для взрослых по системе «все включено». Соберите друзей и забронируйте свое приключение уже сегодня! Вас ждет столько всего интересного в зоопарке! Насладитесь первым в истории днем отдыха только для взрослых по системе «все включено» в зоопарке Вудленд-Парк.
URL:https://zoo.org/ru/event/%d0%b7%d0%be%d0%be%d0%bf%d0%b0%d1%80%d0%ba-%d0%b2%d1%81%d0%b5-%d0%b2%d0%ba%d0%bb%d1%8e%d1%87%d0%b5%d0%bd%d0%be-21/
LOCATION:Зоопарк Вудленд-Парк\, 5500 Финни-авеню\, Север. \, Сиэтл\, ВА\, 98103\, United States
CATEGORIES:Только для взрослых
END:VEVENT
BEGIN:VEVENT
DTSTART;TZID=America/Los_Angeles:20250724T163000
DTEND;TZID=America/Los_Angeles:20250724T210000
DTSTAMP:20260420T082047
CREATED:20250723T000019Z
LAST-MODIFIED:20250723T000019Z
UID:10000963-1753374600-1753390800@zoo.org
SUMMARY:ZooTunes: Devo
DESCRIPTION:BECU ZooTunes при поддержке Carter Subaru\nСМОТРИТЕ КОНЦЕРТЫ. СПАСАЙТЕ ЖИВОТНЫХ.  \nЗоопарк Вудленд-Парк рад снова приветствовать гостей этим летом на 41-м ежегодном фестивале BECU ZooTunes\, представленном компанией Carter Subaru! В этом году концертный сезон обещает быть фантастическим: вас ждут как любимые артисты\, так и те\, кто дебютирует на ZooTunes! Приготовьтесь к лету\, наполненному невероятной музыкой и незабываемыми моментами на ZooTunes!   \nБилеты можно приобрести только онлайн; в кассах зоопарка они продаваться не будут. \n*Время окончания приблизительное
URL:https://zoo.org/ru/event/zootunes-devo-2/
LOCATION:Зоопарк Вудленд-Парк\, 5500 Финни-авеню\, Север. \, Сиэтл\, ВА\, 98103\, United States
CATEGORIES:Музыкальные развлечения
ATTACH;FMTTYPE=image/jpeg:https://zoo.org/wp-content/uploads/2025/07/DEVO-Band-Photo-high-res-BY_JAY_SPENCER-2023.jpg
END:VEVENT
BEGIN:VEVENT
DTSTART;TZID=America/Los_Angeles:20250723T163000
DTEND;TZID=America/Los_Angeles:20250723T210000
DTSTAMP:20260420T082048
CREATED:20250717T040050Z
LAST-MODIFIED:20250717T040050Z
UID:10000861-1753288200-1753304400@zoo.org
SUMMARY:ZooTunes: Devo
DESCRIPTION:BECU ZooTunes при поддержке Carter Subaru\nСМОТРИТЕ КОНЦЕРТЫ. СПАСАЙТЕ ЖИВОТНЫХ.  \nЗоопарк Вудленд-Парк рад снова приветствовать гостей этим летом на 41-м ежегодном фестивале BECU ZooTunes\, представленном компанией Carter Subaru! В этом году концертный сезон обещает быть фантастическим: вас ждут как любимые артисты\, так и те\, кто дебютирует на ZooTunes! Приготовьтесь к лету\, наполненному невероятной музыкой и незабываемыми моментами на ZooTunes!   \nБилеты можно приобрести только онлайн; в кассах зоопарка они продаваться не будут. \n*Время окончания приблизительное
URL:https://zoo.org/ru/event/zootunes-devo/
LOCATION:Зоопарк Вудленд-Парк\, 5500 Финни-авеню\, Север. \, Сиэтл\, ВА\, 98103\, United States
CATEGORIES:Музыкальные развлечения
ATTACH;FMTTYPE=image/jpeg:https://zoo.org/wp-content/uploads/2025/07/DEVO-Band-Photo-high-res-BY_JAY_SPENCER-2023.jpg
END:VEVENT
END:VCALENDAR