BEGIN:VCALENDAR
VERSION:2.0
PRODID:-//Зоопарк Вудленд-Парк - ECPv6.15.20//NONSGML v1.0//EN
CALSCALE:GREGORIAN
METHOD:PUBLISH
X-WR-CALNAME:Зоопарк Вудленд-Парк
X-ORIGINAL-URL:https://zoo.org/ru/
X-WR-CALDESC:Мероприятия для Зоопарк Вудленд-Парк
REFRESH-INTERVAL;VALUE=DURATION:PT1H
X-Robots-Tag:noindex
X-PUBLISHED-TTL:PT1H
BEGIN:VTIMEZONE
TZID:America/Los_Angeles
BEGIN:DAYLIGHT
TZOFFSETFROM:-0800
TZOFFSETTO:-0700
TZNAME:PDT
DTSTART:20240310T100000
END:DAYLIGHT
BEGIN:STANDARD
TZOFFSETFROM:-0700
TZOFFSETTO:-0800
TZNAME:PST
DTSTART:20241103T090000
END:STANDARD
BEGIN:DAYLIGHT
TZOFFSETFROM:-0800
TZOFFSETTO:-0700
TZNAME:PDT
DTSTART:20250309T100000
END:DAYLIGHT
BEGIN:STANDARD
TZOFFSETFROM:-0700
TZOFFSETTO:-0800
TZNAME:PST
DTSTART:20251102T090000
END:STANDARD
BEGIN:DAYLIGHT
TZOFFSETFROM:-0800
TZOFFSETTO:-0700
TZNAME:PDT
DTSTART:20260308T100000
END:DAYLIGHT
BEGIN:STANDARD
TZOFFSETFROM:-0700
TZOFFSETTO:-0800
TZNAME:PST
DTSTART:20261101T090000
END:STANDARD
END:VTIMEZONE
BEGIN:VEVENT
DTSTART;TZID=America/Los_Angeles:20250522T090000
DTEND;TZID=America/Los_Angeles:20250522T110000
DTSTAMP:20260421T063241
CREATED:20250723T210145Z
LAST-MODIFIED:20250723T210145Z
UID:10001095-1747904400-1747911600@zoo.org
SUMMARY:Перекус в зоопарке: Клуб любителей бранча
DESCRIPTION:Проведите незабываемый бранч в зоопарке\, посетив серию восхитительных ресторанов\, расположенных в самых живописных местах зоопарка — от просторной смотровой площадки Savanna Overlook до пышных ландшафтов Banyan Wilds и Living Northwest Trail. Каждое мероприятие предлагает уникальное меню\, живописные виды и возможность пообщаться с дикими животными. Будь то бранч рядом с зебрами или тиграми\, вас ждут свежие вкусы\, вдохновляющие моменты и расслабленная атмосфера\, идеально подходящая для друзей\, семей или всех\, кто считает\, что бранч лучше в окружении дикой природы.
URL:https://zoo.org/ru/event/%d0%bf%d0%b5%d1%80%d0%b5%d0%ba%d1%83%d1%81-%d0%b2-%d0%b7%d0%be%d0%be%d0%bf%d0%b0%d1%80%d0%ba%d0%b5-%d0%ba%d0%bb%d1%83%d0%b1-%d0%bb%d1%8e%d0%b1%d0%b8%d1%82%d0%b5%d0%bb%d0%b5%d0%b9-%d0%b1%d1%80%d0%b0-6/
CATEGORIES:Семьи/Общественность
ATTACH;FMTTYPE=image/jpeg:https://zoo.org/wp-content/uploads/2025/07/Pappa-Bear-Brunch4.jpg
END:VEVENT
BEGIN:VEVENT
DTSTART;TZID=America/Los_Angeles:20250518T123000
DTEND;TZID=America/Los_Angeles:20250518T150000
DTSTAMP:20260421T063241
CREATED:20250723T210217Z
LAST-MODIFIED:20250723T210217Z
UID:10000549-1747571400-1747580400@zoo.org
SUMMARY:Встреча с природой: Сара Элизабет
DESCRIPTION:Каждое занятие предлагает уникальный художественный опыт для всех уровней подготовки и возрастов — идеально подходит для семей\, начинающих художников или взрослых\, ищущих веселое и вдохновляющее времяпрепровождение.
URL:https://zoo.org/ru/event/%d0%b2%d1%81%d1%82%d1%80%d0%b5%d1%87%d0%b0-%d1%81-%d0%bf%d1%80%d0%b8%d1%80%d0%be%d0%b4%d0%be%d0%b9-%d1%81%d0%b0%d1%80%d0%b0-%d1%8d%d0%bb%d0%b8%d0%b7%d0%b0%d0%b1%d0%b5%d1%82/
LOCATION:Беседка для пикника\, 5500 Финни-авеню\, Север. \, Сиэтл\, ВА\, 98103\, United States
CATEGORIES:Семьи/Общественность
ATTACH;FMTTYPE=image/jpeg:https://zoo.org/wp-content/uploads/2025/07/Sarah-Elizabeth.jpg
END:VEVENT
BEGIN:VEVENT
DTSTART;TZID=America/Los_Angeles:20250511T130000
DTEND;TZID=America/Los_Angeles:20250511T143000
DTSTAMP:20260421T063241
CREATED:20250723T210019Z
LAST-MODIFIED:20250723T210019Z
UID:10000981-1746968400-1746973800@zoo.org
SUMMARY:Перекус в зоопарке: послеобеденный чай
DESCRIPTION:В окружении пышной зелени и ярких цветов гостей ждет разнообразный выбор сладких и соленых угощений: от изысканных бутербродов к чаю до пирожных и свежеиспеченных булочек. Идеальное место для прогулки в День матери\, особого вечера с друзьями или спокойного отдыха с любимыми людьми\, это очаровательное мероприятие — тост за красоту природы\, дополненный бокалом просекко в подарок гостям старше 21 года.  В специально составленное меню войдут вегетарианские блюда и свежие фрукты. В стоимость билетов входит вход в зоопарк.
URL:https://zoo.org/ru/event/%d0%bf%d0%b5%d1%80%d0%b5%d0%ba%d1%83%d1%81-%d0%b2-%d0%b7%d0%be%d0%be%d0%bf%d0%b0%d1%80%d0%ba%d0%b5-%d0%bf%d0%be%d1%81%d0%bb%d0%b5%d0%be%d0%b1%d0%b5%d0%b4%d0%b5%d0%bd%d0%bd%d1%8b%d0%b9-%d1%87%d0%b0-5/
LOCATION:Патио для опылителей от Microsoft\, 5500 Финни-авеню\, Север. \, Сиэтл\, 98103\, United States
CATEGORIES:Семьи/Общественность
ATTACH;FMTTYPE=image/jpeg:https://zoo.org/wp-content/uploads/2025/07/2025_Grazing-at-the-zoo-21_web.jpg
END:VEVENT
BEGIN:VEVENT
DTSTART;TZID=America/Los_Angeles:20250511T110000
DTEND;TZID=America/Los_Angeles:20250511T123000
DTSTAMP:20260421T063241
CREATED:20250723T210017Z
LAST-MODIFIED:20250723T210017Z
UID:10000973-1746961200-1746966600@zoo.org
SUMMARY:Перекус в зоопарке: послеобеденный чай
DESCRIPTION:В окружении пышной зелени и ярких цветов гостей ждет разнообразный выбор сладких и соленых угощений: от изысканных бутербродов к чаю до пирожных и свежеиспеченных булочек. Идеальное место для прогулки в День матери\, особого вечера с друзьями или спокойного отдыха с любимыми людьми\, это очаровательное мероприятие — тост за красоту природы\, дополненный бокалом просекко в подарок гостям старше 21 года.  В специально составленное меню войдут вегетарианские блюда и свежие фрукты. В стоимость билетов входит вход в зоопарк.
URL:https://zoo.org/ru/event/%d0%bf%d0%b5%d1%80%d0%b5%d0%ba%d1%83%d1%81-%d0%b2-%d0%b7%d0%be%d0%be%d0%bf%d0%b0%d1%80%d0%ba%d0%b5-%d0%bf%d0%be%d1%81%d0%bb%d0%b5%d0%be%d0%b1%d0%b5%d0%b4%d0%b5%d0%bd%d0%bd%d1%8b%d0%b9-%d1%87%d0%b0-3/
LOCATION:Патио для опылителей от Microsoft\, 5500 Финни-авеню\, Север. \, Сиэтл\, 98103\, United States
CATEGORIES:Семьи/Общественность
ATTACH;FMTTYPE=image/jpeg:https://zoo.org/wp-content/uploads/2025/07/2025_Grazing-at-the-zoo-21_web.jpg
END:VEVENT
BEGIN:VEVENT
DTSTART;TZID=America/Los_Angeles:20250510T183000
DTEND;TZID=America/Los_Angeles:20250510T210000
DTSTAMP:20260421T063241
CREATED:20250723T210229Z
LAST-MODIFIED:20250723T210229Z
UID:10000559-1746901800-1746910800@zoo.org
SUMMARY:Встреча с природой: Анжелина Шрайк (21+)
DESCRIPTION:Каждое занятие предлагает уникальный художественный опыт для всех уровней подготовки и возрастов — идеально подходит для семей\, начинающих художников или взрослых\, ищущих веселое и вдохновляющее времяпрепровождение.
URL:https://zoo.org/ru/event/%d0%b2%d1%81%d1%82%d1%80%d0%b5%d1%87%d0%b0-%d1%81-%d0%bf%d1%80%d0%b8%d1%80%d0%be%d0%b4%d0%be%d0%b9-%d0%b0%d0%bd%d0%b6%d0%b5%d0%bb%d0%b8%d0%bd%d0%b0-%d1%88%d1%80%d0%b0%d0%b9%d0%ba-21/
LOCATION:Смотровая площадка «Саванна»\, 5500 Финни-авеню\, Север. \, Сиэтл\, ВА\, 98103\, United States
CATEGORIES:Только для взрослых
ATTACH;FMTTYPE=image/jpeg:https://zoo.org/wp-content/uploads/2025/07/Angeline-Shrike.jpg
END:VEVENT
BEGIN:VEVENT
DTSTART;TZID=America/Los_Angeles:20250419T163000
DTEND;TZID=America/Los_Angeles:20250419T190000
DTSTAMP:20260421T063241
CREATED:20250723T210212Z
LAST-MODIFIED:20250723T210212Z
UID:10000529-1745080200-1745089200@zoo.org
SUMMARY:Встреча с природой: Эмма Джайлз (21+)
DESCRIPTION:Каждое занятие предлагает уникальный художественный опыт для всех уровней подготовки и возрастов — идеально подходит для семей\, начинающих художников или взрослых\, ищущих веселое и вдохновляющее времяпрепровождение.
URL:https://zoo.org/ru/event/%d0%b2%d1%81%d1%82%d1%80%d0%b5%d1%87%d0%b0-%d1%81-%d0%bf%d1%80%d0%b8%d1%80%d0%be%d0%b4%d0%be%d0%b9-%d1%8d%d0%bc%d0%bc%d0%b0-%d0%b4%d0%b6%d0%b0%d0%b9%d0%bb%d0%b7-21/
LOCATION:Беседка для пикника\, 5500 Финни-авеню\, Север. \, Сиэтл\, ВА\, 98103\, United States
CATEGORIES:Только для взрослых
ATTACH;FMTTYPE=image/jpeg:https://zoo.org/wp-content/uploads/2025/07/Emma-Giles5.jpg
END:VEVENT
END:VCALENDAR