BEGIN:VCALENDAR
VERSION:2.0
PRODID:-//Beerta Xayawaanka ee Woodland Park - ECPv6.15.20//NONSGML v1.0//EN
CALSCALE:GREGORIAN
METHOD:PUBLISH
X-WR-CALNAME:Beerta Xayawaanka ee Woodland Park
X-ORIGINAL-URL:https://zoo.org/so/
X-WR-CALDESC:Events for Beerta Xayawaanka ee Woodland Park
REFRESH-INTERVAL;VALUE=DURATION:PT1H
X-Robots-Tag:noindex
X-PUBLISHED-TTL:PT1H
BEGIN:VTIMEZONE
TZID:America/Los_Angeles
BEGIN:DAYLIGHT
TZOFFSETFROM:-0800
TZOFFSETTO:-0700
TZNAME:PDT
DTSTART:20250309T100000
END:DAYLIGHT
BEGIN:STANDARD
TZOFFSETFROM:-0700
TZOFFSETTO:-0800
TZNAME:PST
DTSTART:20251102T090000
END:STANDARD
BEGIN:DAYLIGHT
TZOFFSETFROM:-0800
TZOFFSETTO:-0700
TZNAME:PDT
DTSTART:20260308T100000
END:DAYLIGHT
BEGIN:STANDARD
TZOFFSETFROM:-0700
TZOFFSETTO:-0800
TZNAME:PST
DTSTART:20261101T090000
END:STANDARD
BEGIN:DAYLIGHT
TZOFFSETFROM:-0800
TZOFFSETTO:-0700
TZNAME:PDT
DTSTART:20270314T100000
END:DAYLIGHT
BEGIN:STANDARD
TZOFFSETFROM:-0700
TZOFFSETTO:-0800
TZNAME:PST
DTSTART:20271107T090000
END:STANDARD
END:VTIMEZONE
BEGIN:VEVENT
DTSTART;TZID=America/Los_Angeles:20260528T093000
DTEND;TZID=America/Los_Angeles:20260528T140000
DTSTAMP:20260421T060228
CREATED:20260320T192150Z
LAST-MODIFIED:20260320T192150Z
UID:10001400-1779960600-1779976800@zoo.org
SUMMARY:Xidhitaanka Hore 2:00 duhurnimo
DESCRIPTION:Beerta xayawaanka ayaa la xiri doonaa goor hore 2:00 duhurnimo si loogu qabto munaasabad gaar ah.
URL:https://zoo.org/so/event/xidhitaanka-hore-200-duhurnimo-2/
LOCATION:Beerta Xayawaanka ee Woodland Park\, 5500 Phinney Ave. N. \, Seattle\, WA\, 98103\, United States
CATEGORIES:Beerta Xayawaanka ee Woodland Park
ATTACH;FMTTYPE=image/jpeg:https://zoo.org/wp-content/uploads/2025/11/WPZ-Logo-green-bg-web.jpg
END:VEVENT
END:VCALENDAR