BEGIN:VCALENDAR
VERSION:2.0
PRODID:-//Beerta Xayawaanka ee Woodland Park - ECPv6.15.20//NONSGML v1.0//EN
CALSCALE:GREGORIAN
METHOD:PUBLISH
X-ORIGINAL-URL:https://zoo.org/so/
X-WR-CALDESC:Events for Beerta Xayawaanka ee Woodland Park
REFRESH-INTERVAL;VALUE=DURATION:PT1H
X-Robots-Tag:noindex
X-PUBLISHED-TTL:PT1H
BEGIN:VTIMEZONE
TZID:America/Los_Angeles
BEGIN:DAYLIGHT
TZOFFSETFROM:-0800
TZOFFSETTO:-0700
TZNAME:PDT
DTSTART:20250309T100000
END:DAYLIGHT
BEGIN:STANDARD
TZOFFSETFROM:-0700
TZOFFSETTO:-0800
TZNAME:PST
DTSTART:20251102T090000
END:STANDARD
BEGIN:DAYLIGHT
TZOFFSETFROM:-0800
TZOFFSETTO:-0700
TZNAME:PDT
DTSTART:20260308T100000
END:DAYLIGHT
BEGIN:STANDARD
TZOFFSETFROM:-0700
TZOFFSETTO:-0800
TZNAME:PST
DTSTART:20261101T090000
END:STANDARD
BEGIN:DAYLIGHT
TZOFFSETFROM:-0800
TZOFFSETTO:-0700
TZNAME:PDT
DTSTART:20270314T100000
END:DAYLIGHT
BEGIN:STANDARD
TZOFFSETFROM:-0700
TZOFFSETTO:-0800
TZNAME:PST
DTSTART:20271107T090000
END:STANDARD
END:VTIMEZONE
BEGIN:VEVENT
DTSTART;TZID=America/Los_Angeles:20260604T163000
DTEND;TZID=America/Los_Angeles:20260604T203000
DTSTAMP:20260421T060915
CREATED:20260223T225936Z
LAST-MODIFIED:20260303T191848Z
UID:10001196-1780590600-1780605000@zoo.org
SUMMARY:Xayawaanka ZooTunes: Yacht Rock Revue
DESCRIPTION:BECU ZooTunes waxaa soo bandhigay Carter Subaru\nEEG RIWAAYADAHA. Badbaadi XAYWAANKA.  \nBeerta Xayawaanka Woodland Park waxay ku faraxsan tahay inay soo dhaweyso martida dib ugu soo laabashada xafladda 42-aad ee sanadlaha ah ee BECU ZooTunes oo uu soo bandhigay Carter Subaru! \nTaxanahan riwaayadaha xagaaga ee bannaanka ee la jecel yahay ayaa soo laabanaya isagoo wata saf cusub oo xiiso leh. Nagala soo qaybgal beerta si aad u hesho waayo-aragnimo riwaayadeed oo gaar ah halkaas oo muusig weyn uu la kulmo jawi duurjoog ah oo caan ah oo ku yaal bartamaha Seattle.  \nIibso TIGIDHADA \nKu dar Guddi Xayawaanka Xoolaha \nTigidhada waxaa laga heli karaa oo keliya khadka tooska ah mana lagu iibin doono albaabada beerta xayawaanka. \n*Waqtiga dhammaadku waa qiyaas
URL:https://zoo.org/so/event/xayawaanka-zootunes-yacht-rock-revue/
LOCATION:Beerta Xayawaanka ee Woodland Park\, 5500 Phinney Ave. N. \, Seattle\, WA\, 98103\, United States
CATEGORIES:Madadaalada Muusikada
ATTACH;FMTTYPE=image/jpeg:https://zoo.org/wp-content/uploads/2026/02/YachtRock.jpg
END:VEVENT
END:VCALENDAR