BEGIN:VCALENDAR
VERSION:2.0
PRODID:-//Beerta Xayawaanka ee Woodland Park - ECPv6.15.20//NONSGML v1.0//EN
CALSCALE:GREGORIAN
METHOD:PUBLISH
X-WR-CALNAME:Beerta Xayawaanka ee Woodland Park
X-ORIGINAL-URL:https://zoo.org/so/
X-WR-CALDESC:Events for Beerta Xayawaanka ee Woodland Park
REFRESH-INTERVAL;VALUE=DURATION:PT1H
X-Robots-Tag:noindex
X-PUBLISHED-TTL:PT1H
BEGIN:VTIMEZONE
TZID:America/Los_Angeles
BEGIN:DAYLIGHT
TZOFFSETFROM:-0800
TZOFFSETTO:-0700
TZNAME:PDT
DTSTART:20250309T100000
END:DAYLIGHT
BEGIN:STANDARD
TZOFFSETFROM:-0700
TZOFFSETTO:-0800
TZNAME:PST
DTSTART:20251102T090000
END:STANDARD
BEGIN:DAYLIGHT
TZOFFSETFROM:-0800
TZOFFSETTO:-0700
TZNAME:PDT
DTSTART:20260308T100000
END:DAYLIGHT
BEGIN:STANDARD
TZOFFSETFROM:-0700
TZOFFSETTO:-0800
TZNAME:PST
DTSTART:20261101T090000
END:STANDARD
BEGIN:DAYLIGHT
TZOFFSETFROM:-0800
TZOFFSETTO:-0700
TZNAME:PDT
DTSTART:20270314T100000
END:DAYLIGHT
BEGIN:STANDARD
TZOFFSETFROM:-0700
TZOFFSETTO:-0800
TZNAME:PST
DTSTART:20271107T090000
END:STANDARD
END:VTIMEZONE
BEGIN:VEVENT
DTSTART;TZID=America/Los_Angeles:20260805T083000
DTEND;TZID=America/Los_Angeles:20260805T093000
DTSTAMP:20260421T074136
CREATED:20260320T181917Z
LAST-MODIFIED:20260320T182328Z
UID:10001323-1785918600-1785922200@zoo.org
SUMMARY:Daaqista Beerta Xayawaanka: Canjeelada oo leh Penguins
DESCRIPTION:Canjeelada la shiilay Penguins waa waayo-aragnimo quraac oo aan la mid ahayn tan kale\, halkaas oo martidu ay goor hore geli karaan beerta xayawaanka oo ay ku raaxaysan karaan noocyo macaan oo canjeero jilicsan\, miro cusub\, iyo waxyaabo macaan oo lagu daray – dhammaantoodna leh muuqaal safka hore ah oo ka mid ah Bandhigga Humboldt Penguin. Iyada oo ku xidhan maalinta\, waxaad la kulmi kartaa qof kula hadlaya ama booqasho mascot ah. Hadday tahay qof jecel quraacda\, qof jecel penguin\, ama labadaba\, kulankan subaxda ee raaxada leh waa habka ugu habboon ee lagu bilaabi karo maalintaada – iyadoo la adeegsanayo Kafeega Ilaalinta Geedka Kangaroo ee bilaashka ah\, casiirka liinta\, iyo Biyaha la shubay. Martida haysata aqoonsi ansax ah oo 21+ sano jir ah waxay awoodi doonaan inay iibsadaan mimosas.    \nGelitaanka canjeelada leh Penguins waxay ku taal West Entrance oo keliya.
URL:https://zoo.org/so/event/canjeelada-oo-leh-penguins/2026-08-05/
LOCATION:Beerta Xayawaanka ee Woodland Park\, 5500 Phinney Ave. N. \, Seattle\, WA\, 98103\, United States
CATEGORIES:Qoysaska/Dadweynaha
ATTACH;FMTTYPE=image/jpeg:https://zoo.org/wp-content/uploads/2026/03/pancakes-with-penguins-081.jpg
END:VEVENT
BEGIN:VEVENT
DTSTART;TZID=America/Los_Angeles:20260812T083000
DTEND;TZID=America/Los_Angeles:20260812T093000
DTSTAMP:20260421T074136
CREATED:20260320T181917Z
LAST-MODIFIED:20260320T182328Z
UID:10001324-1786523400-1786527000@zoo.org
SUMMARY:Daaqista Beerta Xayawaanka: Canjeelada oo leh Penguins
DESCRIPTION:Canjeelada la shiilay Penguins waa waayo-aragnimo quraac oo aan la mid ahayn tan kale\, halkaas oo martidu ay goor hore geli karaan beerta xayawaanka oo ay ku raaxaysan karaan noocyo macaan oo canjeero jilicsan\, miro cusub\, iyo waxyaabo macaan oo lagu daray – dhammaantoodna leh muuqaal safka hore ah oo ka mid ah Bandhigga Humboldt Penguin. Iyada oo ku xidhan maalinta\, waxaad la kulmi kartaa qof kula hadlaya ama booqasho mascot ah. Hadday tahay qof jecel quraacda\, qof jecel penguin\, ama labadaba\, kulankan subaxda ee raaxada leh waa habka ugu habboon ee lagu bilaabi karo maalintaada – iyadoo la adeegsanayo Kafeega Ilaalinta Geedka Kangaroo ee bilaashka ah\, casiirka liinta\, iyo Biyaha la shubay. Martida haysata aqoonsi ansax ah oo 21+ sano jir ah waxay awoodi doonaan inay iibsadaan mimosas.    \nGelitaanka canjeelada leh Penguins waxay ku taal West Entrance oo keliya.
URL:https://zoo.org/so/event/canjeelada-oo-leh-penguins/2026-08-12/
LOCATION:Beerta Xayawaanka ee Woodland Park\, 5500 Phinney Ave. N. \, Seattle\, WA\, 98103\, United States
CATEGORIES:Qoysaska/Dadweynaha
ATTACH;FMTTYPE=image/jpeg:https://zoo.org/wp-content/uploads/2026/03/pancakes-with-penguins-081.jpg
END:VEVENT
BEGIN:VEVENT
DTSTART;TZID=America/Los_Angeles:20260819T083000
DTEND;TZID=America/Los_Angeles:20260819T093000
DTSTAMP:20260421T074136
CREATED:20260320T181917Z
LAST-MODIFIED:20260320T182328Z
UID:10001325-1787128200-1787131800@zoo.org
SUMMARY:Daaqista Beerta Xayawaanka: Canjeelada oo leh Penguins
DESCRIPTION:Canjeelada la shiilay Penguins waa waayo-aragnimo quraac oo aan la mid ahayn tan kale\, halkaas oo martidu ay goor hore geli karaan beerta xayawaanka oo ay ku raaxaysan karaan noocyo macaan oo canjeero jilicsan\, miro cusub\, iyo waxyaabo macaan oo lagu daray – dhammaantoodna leh muuqaal safka hore ah oo ka mid ah Bandhigga Humboldt Penguin. Iyada oo ku xidhan maalinta\, waxaad la kulmi kartaa qof kula hadlaya ama booqasho mascot ah. Hadday tahay qof jecel quraacda\, qof jecel penguin\, ama labadaba\, kulankan subaxda ee raaxada leh waa habka ugu habboon ee lagu bilaabi karo maalintaada – iyadoo la adeegsanayo Kafeega Ilaalinta Geedka Kangaroo ee bilaashka ah\, casiirka liinta\, iyo Biyaha la shubay. Martida haysata aqoonsi ansax ah oo 21+ sano jir ah waxay awoodi doonaan inay iibsadaan mimosas.    \nGelitaanka canjeelada leh Penguins waxay ku taal West Entrance oo keliya.
URL:https://zoo.org/so/event/canjeelada-oo-leh-penguins/2026-08-19/
LOCATION:Beerta Xayawaanka ee Woodland Park\, 5500 Phinney Ave. N. \, Seattle\, WA\, 98103\, United States
CATEGORIES:Qoysaska/Dadweynaha
ATTACH;FMTTYPE=image/jpeg:https://zoo.org/wp-content/uploads/2026/03/pancakes-with-penguins-081.jpg
END:VEVENT
BEGIN:VEVENT
DTSTART;TZID=America/Los_Angeles:20260823T103000
DTEND;TZID=America/Los_Angeles:20260823T113000
DTSTAMP:20260421T074136
CREATED:20260323T211640Z
LAST-MODIFIED:20260323T211640Z
UID:10001578-1787481000-1787484600@zoo.org
SUMMARY:Daaqista Beerta Xayawaanka: Shaah Galabnimo
DESCRIPTION:Cab\, naso\, oo ka faa’iidayso quruxda Batariga Microsoft Pollinator ee khibraddan shaaha galabnimada ee quruxda badan. Iyada oo ku dhex taal cagaar cagaaran iyo ubaxyo firfircoon\, martida waxay ku raaxaysan doonaan xarun buffet ah oo laga helo shaaha oo ay ka buuxaan cuntooyin macaan iyo macaan\, laga bilaabo sandwiches shaah ah oo gourmet ah ilaa petit fours. Ku habboon safarka Maalinta Hooyada\, kulan gaar ah oo lala yeesho asxaabta\, ama nasasho deggan oo lala qaato kuwa aad jeceshahay\, dhacdadan xiisaha leh waa rooti lagu dubo quruxda dabeecadda – oo ay ku jiraan koob prosecco ah oo bilaash ah oo loogu talagalay martida 21+.
URL:https://zoo.org/so/event/daaqista-beerta-xayawaanka-shaah-galabnimo-20/2026-08-23/1/
LOCATION:Beerta Xayawaanka ee Woodland Park\, 5500 Phinney Ave. N. \, Seattle\, WA\, 98103\, United States
CATEGORIES:Qoysaska/Dadweynaha
ATTACH;FMTTYPE=image/jpeg:https://zoo.org/wp-content/uploads/2025/07/2025_Grazing-at-the-zoo-21_web.jpg
END:VEVENT
BEGIN:VEVENT
DTSTART;TZID=America/Los_Angeles:20260823T110000
DTEND;TZID=America/Los_Angeles:20260823T120000
DTSTAMP:20260421T074136
CREATED:20260323T211640Z
LAST-MODIFIED:20260323T211640Z
UID:10001579-1787482800-1787486400@zoo.org
SUMMARY:Daaqista Beerta Xayawaanka: Shaah Galabnimo
DESCRIPTION:Cab\, naso\, oo ka faa’iidayso quruxda Batariga Microsoft Pollinator ee khibraddan shaaha galabnimada ee quruxda badan. Iyada oo ku dhex taal cagaar cagaaran iyo ubaxyo firfircoon\, martida waxay ku raaxaysan doonaan xarun buffet ah oo laga helo shaaha oo ay ka buuxaan cuntooyin macaan iyo macaan\, laga bilaabo sandwiches shaah ah oo gourmet ah ilaa petit fours. Ku habboon safarka Maalinta Hooyada\, kulan gaar ah oo lala yeesho asxaabta\, ama nasasho deggan oo lala qaato kuwa aad jeceshahay\, dhacdadan xiisaha leh waa rooti lagu dubo quruxda dabeecadda – oo ay ku jiraan koob prosecco ah oo bilaash ah oo loogu talagalay martida 21+.
URL:https://zoo.org/so/event/daaqista-beerta-xayawaanka-shaah-galabnimo-20/2026-08-23/2/
LOCATION:Beerta Xayawaanka ee Woodland Park\, 5500 Phinney Ave. N. \, Seattle\, WA\, 98103\, United States
CATEGORIES:Qoysaska/Dadweynaha
ATTACH;FMTTYPE=image/jpeg:https://zoo.org/wp-content/uploads/2025/07/2025_Grazing-at-the-zoo-21_web.jpg
END:VEVENT
BEGIN:VEVENT
DTSTART;TZID=America/Los_Angeles:20260823T130000
DTEND;TZID=America/Los_Angeles:20260823T140000
DTSTAMP:20260421T074136
CREATED:20260323T211640Z
LAST-MODIFIED:20260323T211640Z
UID:10001580-1787490000-1787493600@zoo.org
SUMMARY:Daaqista Beerta Xayawaanka: Shaah Galabnimo
DESCRIPTION:Cab\, naso\, oo ka faa’iidayso quruxda Batariga Microsoft Pollinator ee khibraddan shaaha galabnimada ee quruxda badan. Iyada oo ku dhex taal cagaar cagaaran iyo ubaxyo firfircoon\, martida waxay ku raaxaysan doonaan xarun buffet ah oo laga helo shaaha oo ay ka buuxaan cuntooyin macaan iyo macaan\, laga bilaabo sandwiches shaah ah oo gourmet ah ilaa petit fours. Ku habboon safarka Maalinta Hooyada\, kulan gaar ah oo lala yeesho asxaabta\, ama nasasho deggan oo lala qaato kuwa aad jeceshahay\, dhacdadan xiisaha leh waa rooti lagu dubo quruxda dabeecadda – oo ay ku jiraan koob prosecco ah oo bilaash ah oo loogu talagalay martida 21+.
URL:https://zoo.org/so/event/daaqista-beerta-xayawaanka-shaah-galabnimo-20/2026-08-23/3/
LOCATION:Beerta Xayawaanka ee Woodland Park\, 5500 Phinney Ave. N. \, Seattle\, WA\, 98103\, United States
CATEGORIES:Qoysaska/Dadweynaha
ATTACH;FMTTYPE=image/jpeg:https://zoo.org/wp-content/uploads/2025/07/2025_Grazing-at-the-zoo-21_web.jpg
END:VEVENT
BEGIN:VEVENT
DTSTART;TZID=America/Los_Angeles:20260823T133000
DTEND;TZID=America/Los_Angeles:20260823T143000
DTSTAMP:20260421T074136
CREATED:20260323T211640Z
LAST-MODIFIED:20260323T211640Z
UID:10001581-1787491800-1787495400@zoo.org
SUMMARY:Daaqista Beerta Xayawaanka: Shaah Galabnimo
DESCRIPTION:Cab\, naso\, oo ka faa’iidayso quruxda Batariga Microsoft Pollinator ee khibraddan shaaha galabnimada ee quruxda badan. Iyada oo ku dhex taal cagaar cagaaran iyo ubaxyo firfircoon\, martida waxay ku raaxaysan doonaan xarun buffet ah oo laga helo shaaha oo ay ka buuxaan cuntooyin macaan iyo macaan\, laga bilaabo sandwiches shaah ah oo gourmet ah ilaa petit fours. Ku habboon safarka Maalinta Hooyada\, kulan gaar ah oo lala yeesho asxaabta\, ama nasasho deggan oo lala qaato kuwa aad jeceshahay\, dhacdadan xiisaha leh waa rooti lagu dubo quruxda dabeecadda – oo ay ku jiraan koob prosecco ah oo bilaash ah oo loogu talagalay martida 21+.
URL:https://zoo.org/so/event/daaqista-beerta-xayawaanka-shaah-galabnimo-20/2026-08-23/4/
LOCATION:Beerta Xayawaanka ee Woodland Park\, 5500 Phinney Ave. N. \, Seattle\, WA\, 98103\, United States
CATEGORIES:Qoysaska/Dadweynaha
ATTACH;FMTTYPE=image/jpeg:https://zoo.org/wp-content/uploads/2025/07/2025_Grazing-at-the-zoo-21_web.jpg
END:VEVENT
BEGIN:VEVENT
DTSTART;TZID=America/Los_Angeles:20260826T083000
DTEND;TZID=America/Los_Angeles:20260826T093000
DTSTAMP:20260421T074136
CREATED:20260320T181917Z
LAST-MODIFIED:20260320T182328Z
UID:10001326-1787733000-1787736600@zoo.org
SUMMARY:Daaqista Beerta Xayawaanka: Canjeelada oo leh Penguins
DESCRIPTION:Canjeelada la shiilay Penguins waa waayo-aragnimo quraac oo aan la mid ahayn tan kale\, halkaas oo martidu ay goor hore geli karaan beerta xayawaanka oo ay ku raaxaysan karaan noocyo macaan oo canjeero jilicsan\, miro cusub\, iyo waxyaabo macaan oo lagu daray – dhammaantoodna leh muuqaal safka hore ah oo ka mid ah Bandhigga Humboldt Penguin. Iyada oo ku xidhan maalinta\, waxaad la kulmi kartaa qof kula hadlaya ama booqasho mascot ah. Hadday tahay qof jecel quraacda\, qof jecel penguin\, ama labadaba\, kulankan subaxda ee raaxada leh waa habka ugu habboon ee lagu bilaabi karo maalintaada – iyadoo la adeegsanayo Kafeega Ilaalinta Geedka Kangaroo ee bilaashka ah\, casiirka liinta\, iyo Biyaha la shubay. Martida haysata aqoonsi ansax ah oo 21+ sano jir ah waxay awoodi doonaan inay iibsadaan mimosas.    \nGelitaanka canjeelada leh Penguins waxay ku taal West Entrance oo keliya.
URL:https://zoo.org/so/event/canjeelada-oo-leh-penguins/2026-08-26/
LOCATION:Beerta Xayawaanka ee Woodland Park\, 5500 Phinney Ave. N. \, Seattle\, WA\, 98103\, United States
CATEGORIES:Qoysaska/Dadweynaha
ATTACH;FMTTYPE=image/jpeg:https://zoo.org/wp-content/uploads/2026/03/pancakes-with-penguins-081.jpg
END:VEVENT
BEGIN:VEVENT
DTSTART;TZID=America/Los_Angeles:20260827T103000
DTEND;TZID=America/Los_Angeles:20260827T113000
DTSTAMP:20260421T074136
CREATED:20260323T211800Z
LAST-MODIFIED:20260323T211800Z
UID:10001606-1787826600-1787830200@zoo.org
SUMMARY:Daaqista Beerta Xayawaanka: Shaah Galabnimo
DESCRIPTION:Cab\, naso\, oo ka faa’iidayso quruxda Batariga Microsoft Pollinator ee khibraddan shaaha galabnimada ee quruxda badan. Iyada oo ku dhex taal cagaar cagaaran iyo ubaxyo firfircoon\, martida waxay ku raaxaysan doonaan xarun buffet ah oo laga helo shaaha oo ay ka buuxaan cuntooyin macaan iyo macaan\, laga bilaabo sandwiches shaah ah oo gourmet ah ilaa petit fours. Ku habboon safarka Maalinta Hooyada\, kulan gaar ah oo lala yeesho asxaabta\, ama nasasho deggan oo lala qaato kuwa aad jeceshahay\, dhacdadan xiisaha leh waa rooti lagu dubo quruxda dabeecadda – oo ay ku jiraan koob prosecco ah oo bilaash ah oo loogu talagalay martida 21+.
URL:https://zoo.org/so/event/daaqista-beerta-xayawaanka-shaah-galabnimo-21/2026-08-27/1/
LOCATION:Beerta Xayawaanka ee Woodland Park\, 5500 Phinney Ave. N. \, Seattle\, WA\, 98103\, United States
CATEGORIES:Qoysaska/Dadweynaha
ATTACH;FMTTYPE=image/jpeg:https://zoo.org/wp-content/uploads/2025/07/2025_Grazing-at-the-zoo-21_web.jpg
END:VEVENT
BEGIN:VEVENT
DTSTART;TZID=America/Los_Angeles:20260827T110000
DTEND;TZID=America/Los_Angeles:20260827T120000
DTSTAMP:20260421T074136
CREATED:20260323T211800Z
LAST-MODIFIED:20260323T211800Z
UID:10001607-1787828400-1787832000@zoo.org
SUMMARY:Daaqista Beerta Xayawaanka: Shaah Galabnimo
DESCRIPTION:Cab\, naso\, oo ka faa’iidayso quruxda Batariga Microsoft Pollinator ee khibraddan shaaha galabnimada ee quruxda badan. Iyada oo ku dhex taal cagaar cagaaran iyo ubaxyo firfircoon\, martida waxay ku raaxaysan doonaan xarun buffet ah oo laga helo shaaha oo ay ka buuxaan cuntooyin macaan iyo macaan\, laga bilaabo sandwiches shaah ah oo gourmet ah ilaa petit fours. Ku habboon safarka Maalinta Hooyada\, kulan gaar ah oo lala yeesho asxaabta\, ama nasasho deggan oo lala qaato kuwa aad jeceshahay\, dhacdadan xiisaha leh waa rooti lagu dubo quruxda dabeecadda – oo ay ku jiraan koob prosecco ah oo bilaash ah oo loogu talagalay martida 21+.
URL:https://zoo.org/so/event/daaqista-beerta-xayawaanka-shaah-galabnimo-21/2026-08-27/2/
LOCATION:Beerta Xayawaanka ee Woodland Park\, 5500 Phinney Ave. N. \, Seattle\, WA\, 98103\, United States
CATEGORIES:Qoysaska/Dadweynaha
ATTACH;FMTTYPE=image/jpeg:https://zoo.org/wp-content/uploads/2025/07/2025_Grazing-at-the-zoo-21_web.jpg
END:VEVENT
BEGIN:VEVENT
DTSTART;TZID=America/Los_Angeles:20260827T130000
DTEND;TZID=America/Los_Angeles:20260827T140000
DTSTAMP:20260421T074136
CREATED:20260323T211800Z
LAST-MODIFIED:20260323T211800Z
UID:10001608-1787835600-1787839200@zoo.org
SUMMARY:Daaqista Beerta Xayawaanka: Shaah Galabnimo
DESCRIPTION:Cab\, naso\, oo ka faa’iidayso quruxda Batariga Microsoft Pollinator ee khibraddan shaaha galabnimada ee quruxda badan. Iyada oo ku dhex taal cagaar cagaaran iyo ubaxyo firfircoon\, martida waxay ku raaxaysan doonaan xarun buffet ah oo laga helo shaaha oo ay ka buuxaan cuntooyin macaan iyo macaan\, laga bilaabo sandwiches shaah ah oo gourmet ah ilaa petit fours. Ku habboon safarka Maalinta Hooyada\, kulan gaar ah oo lala yeesho asxaabta\, ama nasasho deggan oo lala qaato kuwa aad jeceshahay\, dhacdadan xiisaha leh waa rooti lagu dubo quruxda dabeecadda – oo ay ku jiraan koob prosecco ah oo bilaash ah oo loogu talagalay martida 21+.
URL:https://zoo.org/so/event/daaqista-beerta-xayawaanka-shaah-galabnimo-21/2026-08-27/3/
LOCATION:Beerta Xayawaanka ee Woodland Park\, 5500 Phinney Ave. N. \, Seattle\, WA\, 98103\, United States
CATEGORIES:Qoysaska/Dadweynaha
ATTACH;FMTTYPE=image/jpeg:https://zoo.org/wp-content/uploads/2025/07/2025_Grazing-at-the-zoo-21_web.jpg
END:VEVENT
BEGIN:VEVENT
DTSTART;TZID=America/Los_Angeles:20260827T133000
DTEND;TZID=America/Los_Angeles:20260827T143000
DTSTAMP:20260421T074136
CREATED:20260323T211800Z
LAST-MODIFIED:20260323T211800Z
UID:10001609-1787837400-1787841000@zoo.org
SUMMARY:Daaqista Beerta Xayawaanka: Shaah Galabnimo
DESCRIPTION:Cab\, naso\, oo ka faa’iidayso quruxda Batariga Microsoft Pollinator ee khibraddan shaaha galabnimada ee quruxda badan. Iyada oo ku dhex taal cagaar cagaaran iyo ubaxyo firfircoon\, martida waxay ku raaxaysan doonaan xarun buffet ah oo laga helo shaaha oo ay ka buuxaan cuntooyin macaan iyo macaan\, laga bilaabo sandwiches shaah ah oo gourmet ah ilaa petit fours. Ku habboon safarka Maalinta Hooyada\, kulan gaar ah oo lala yeesho asxaabta\, ama nasasho deggan oo lala qaato kuwa aad jeceshahay\, dhacdadan xiisaha leh waa rooti lagu dubo quruxda dabeecadda – oo ay ku jiraan koob prosecco ah oo bilaash ah oo loogu talagalay martida 21+.
URL:https://zoo.org/so/event/daaqista-beerta-xayawaanka-shaah-galabnimo-21/2026-08-27/4/
LOCATION:Beerta Xayawaanka ee Woodland Park\, 5500 Phinney Ave. N. \, Seattle\, WA\, 98103\, United States
CATEGORIES:Qoysaska/Dadweynaha
ATTACH;FMTTYPE=image/jpeg:https://zoo.org/wp-content/uploads/2025/07/2025_Grazing-at-the-zoo-21_web.jpg
END:VEVENT
BEGIN:VEVENT
DTSTART;TZID=America/Los_Angeles:20260828T103000
DTEND;TZID=America/Los_Angeles:20260828T113000
DTSTAMP:20260421T074136
CREATED:20260323T211837Z
LAST-MODIFIED:20260323T211837Z
UID:10001630-1787913000-1787916600@zoo.org
SUMMARY:Daaqista Beerta Xayawaanka: Shaah Galabnimo
DESCRIPTION:Cab\, naso\, oo ka faa’iidayso quruxda Batariga Microsoft Pollinator ee khibraddan shaaha galabnimada ee quruxda badan. Iyada oo ku dhex taal cagaar cagaaran iyo ubaxyo firfircoon\, martida waxay ku raaxaysan doonaan xarun buffet ah oo laga helo shaaha oo ay ka buuxaan cuntooyin macaan iyo macaan\, laga bilaabo sandwiches shaah ah oo gourmet ah ilaa petit fours. Ku habboon safarka Maalinta Hooyada\, kulan gaar ah oo lala yeesho asxaabta\, ama nasasho deggan oo lala qaato kuwa aad jeceshahay\, dhacdadan xiisaha leh waa rooti lagu dubo quruxda dabeecadda – oo ay ku jiraan koob prosecco ah oo bilaash ah oo loogu talagalay martida 21+.
URL:https://zoo.org/so/event/daaqista-beerta-xayawaanka-shaah-galabnimo-22/2026-08-28/1/
LOCATION:Beerta Xayawaanka ee Woodland Park\, 5500 Phinney Ave. N. \, Seattle\, WA\, 98103\, United States
CATEGORIES:Qoysaska/Dadweynaha
ATTACH;FMTTYPE=image/jpeg:https://zoo.org/wp-content/uploads/2025/07/2025_Grazing-at-the-zoo-21_web.jpg
END:VEVENT
BEGIN:VEVENT
DTSTART;TZID=America/Los_Angeles:20260828T110000
DTEND;TZID=America/Los_Angeles:20260828T120000
DTSTAMP:20260421T074136
CREATED:20260323T211837Z
LAST-MODIFIED:20260323T211837Z
UID:10001631-1787914800-1787918400@zoo.org
SUMMARY:Daaqista Beerta Xayawaanka: Shaah Galabnimo
DESCRIPTION:Cab\, naso\, oo ka faa’iidayso quruxda Batariga Microsoft Pollinator ee khibraddan shaaha galabnimada ee quruxda badan. Iyada oo ku dhex taal cagaar cagaaran iyo ubaxyo firfircoon\, martida waxay ku raaxaysan doonaan xarun buffet ah oo laga helo shaaha oo ay ka buuxaan cuntooyin macaan iyo macaan\, laga bilaabo sandwiches shaah ah oo gourmet ah ilaa petit fours. Ku habboon safarka Maalinta Hooyada\, kulan gaar ah oo lala yeesho asxaabta\, ama nasasho deggan oo lala qaato kuwa aad jeceshahay\, dhacdadan xiisaha leh waa rooti lagu dubo quruxda dabeecadda – oo ay ku jiraan koob prosecco ah oo bilaash ah oo loogu talagalay martida 21+.
URL:https://zoo.org/so/event/daaqista-beerta-xayawaanka-shaah-galabnimo-22/2026-08-28/2/
LOCATION:Beerta Xayawaanka ee Woodland Park\, 5500 Phinney Ave. N. \, Seattle\, WA\, 98103\, United States
CATEGORIES:Qoysaska/Dadweynaha
ATTACH;FMTTYPE=image/jpeg:https://zoo.org/wp-content/uploads/2025/07/2025_Grazing-at-the-zoo-21_web.jpg
END:VEVENT
BEGIN:VEVENT
DTSTART;TZID=America/Los_Angeles:20260828T130000
DTEND;TZID=America/Los_Angeles:20260828T140000
DTSTAMP:20260421T074136
CREATED:20260323T211837Z
LAST-MODIFIED:20260323T211837Z
UID:10001632-1787922000-1787925600@zoo.org
SUMMARY:Daaqista Beerta Xayawaanka: Shaah Galabnimo
DESCRIPTION:Cab\, naso\, oo ka faa’iidayso quruxda Batariga Microsoft Pollinator ee khibraddan shaaha galabnimada ee quruxda badan. Iyada oo ku dhex taal cagaar cagaaran iyo ubaxyo firfircoon\, martida waxay ku raaxaysan doonaan xarun buffet ah oo laga helo shaaha oo ay ka buuxaan cuntooyin macaan iyo macaan\, laga bilaabo sandwiches shaah ah oo gourmet ah ilaa petit fours. Ku habboon safarka Maalinta Hooyada\, kulan gaar ah oo lala yeesho asxaabta\, ama nasasho deggan oo lala qaato kuwa aad jeceshahay\, dhacdadan xiisaha leh waa rooti lagu dubo quruxda dabeecadda – oo ay ku jiraan koob prosecco ah oo bilaash ah oo loogu talagalay martida 21+.
URL:https://zoo.org/so/event/daaqista-beerta-xayawaanka-shaah-galabnimo-22/2026-08-28/3/
LOCATION:Beerta Xayawaanka ee Woodland Park\, 5500 Phinney Ave. N. \, Seattle\, WA\, 98103\, United States
CATEGORIES:Qoysaska/Dadweynaha
ATTACH;FMTTYPE=image/jpeg:https://zoo.org/wp-content/uploads/2025/07/2025_Grazing-at-the-zoo-21_web.jpg
END:VEVENT
BEGIN:VEVENT
DTSTART;TZID=America/Los_Angeles:20260828T133000
DTEND;TZID=America/Los_Angeles:20260828T143000
DTSTAMP:20260421T074136
CREATED:20260323T211837Z
LAST-MODIFIED:20260323T211837Z
UID:10001633-1787923800-1787927400@zoo.org
SUMMARY:Daaqista Beerta Xayawaanka: Shaah Galabnimo
DESCRIPTION:Cab\, naso\, oo ka faa’iidayso quruxda Batariga Microsoft Pollinator ee khibraddan shaaha galabnimada ee quruxda badan. Iyada oo ku dhex taal cagaar cagaaran iyo ubaxyo firfircoon\, martida waxay ku raaxaysan doonaan xarun buffet ah oo laga helo shaaha oo ay ka buuxaan cuntooyin macaan iyo macaan\, laga bilaabo sandwiches shaah ah oo gourmet ah ilaa petit fours. Ku habboon safarka Maalinta Hooyada\, kulan gaar ah oo lala yeesho asxaabta\, ama nasasho deggan oo lala qaato kuwa aad jeceshahay\, dhacdadan xiisaha leh waa rooti lagu dubo quruxda dabeecadda – oo ay ku jiraan koob prosecco ah oo bilaash ah oo loogu talagalay martida 21+.
URL:https://zoo.org/so/event/daaqista-beerta-xayawaanka-shaah-galabnimo-22/2026-08-28/4/
LOCATION:Beerta Xayawaanka ee Woodland Park\, 5500 Phinney Ave. N. \, Seattle\, WA\, 98103\, United States
CATEGORIES:Qoysaska/Dadweynaha
ATTACH;FMTTYPE=image/jpeg:https://zoo.org/wp-content/uploads/2025/07/2025_Grazing-at-the-zoo-21_web.jpg
END:VEVENT
END:VCALENDAR