BEGIN:VCALENDAR
VERSION:2.0
PRODID:-//Beerta Xayawaanka ee Woodland Park - ECPv6.15.20//NONSGML v1.0//EN
CALSCALE:GREGORIAN
METHOD:PUBLISH
X-ORIGINAL-URL:https://zoo.org/so/
X-WR-CALDESC:Events for Beerta Xayawaanka ee Woodland Park
REFRESH-INTERVAL;VALUE=DURATION:PT1H
X-Robots-Tag:noindex
X-PUBLISHED-TTL:PT1H
BEGIN:VTIMEZONE
TZID:America/Los_Angeles
BEGIN:DAYLIGHT
TZOFFSETFROM:-0800
TZOFFSETTO:-0700
TZNAME:PDT
DTSTART:20250309T100000
END:DAYLIGHT
BEGIN:STANDARD
TZOFFSETFROM:-0700
TZOFFSETTO:-0800
TZNAME:PST
DTSTART:20251102T090000
END:STANDARD
BEGIN:DAYLIGHT
TZOFFSETFROM:-0800
TZOFFSETTO:-0700
TZNAME:PDT
DTSTART:20260308T100000
END:DAYLIGHT
BEGIN:STANDARD
TZOFFSETFROM:-0700
TZOFFSETTO:-0800
TZNAME:PST
DTSTART:20261101T090000
END:STANDARD
BEGIN:DAYLIGHT
TZOFFSETFROM:-0800
TZOFFSETTO:-0700
TZNAME:PDT
DTSTART:20270314T100000
END:DAYLIGHT
BEGIN:STANDARD
TZOFFSETFROM:-0700
TZOFFSETTO:-0800
TZNAME:PST
DTSTART:20271107T090000
END:STANDARD
END:VTIMEZONE
BEGIN:VEVENT
DTSTART;TZID=America/Los_Angeles:20260523T083000
DTEND;TZID=America/Los_Angeles:20260523T093000
DTSTAMP:20260421T044343
CREATED:20260320T181917Z
LAST-MODIFIED:20260320T182328Z
UID:10001319-1779525000-1779528600@zoo.org
SUMMARY:Daaqista Beerta Xayawaanka: Canjeelada oo leh Penguins
DESCRIPTION:Canjeelada la shiilay Penguins waa waayo-aragnimo quraac oo aan la mid ahayn tan kale\, halkaas oo martidu ay goor hore geli karaan beerta xayawaanka oo ay ku raaxaysan karaan noocyo macaan oo canjeero jilicsan\, miro cusub\, iyo waxyaabo macaan oo lagu daray – dhammaantoodna leh muuqaal safka hore ah oo ka mid ah Bandhigga Humboldt Penguin. Iyada oo ku xidhan maalinta\, waxaad la kulmi kartaa qof kula hadlaya ama booqasho mascot ah. Hadday tahay qof jecel quraacda\, qof jecel penguin\, ama labadaba\, kulankan subaxda ee raaxada leh waa habka ugu habboon ee lagu bilaabi karo maalintaada – iyadoo la adeegsanayo Kafeega Ilaalinta Geedka Kangaroo ee bilaashka ah\, casiirka liinta\, iyo Biyaha la shubay. Martida haysata aqoonsi ansax ah oo 21+ sano jir ah waxay awoodi doonaan inay iibsadaan mimosas.    \nGelitaanka canjeelada leh Penguins waxay ku taal West Entrance oo keliya.
URL:https://zoo.org/so/event/canjeelada-oo-leh-penguins/2026-05-23/
LOCATION:Beerta Xayawaanka ee Woodland Park\, 5500 Phinney Ave. N. \, Seattle\, WA\, 98103\, United States
CATEGORIES:Qoysaska/Dadweynaha
ATTACH;FMTTYPE=image/jpeg:https://zoo.org/wp-content/uploads/2026/03/pancakes-with-penguins-081.jpg
END:VEVENT
BEGIN:VEVENT
DTSTART;TZID=America/Los_Angeles:20260523T123000
DTEND;TZID=America/Los_Angeles:20260523T150000
DTSTAMP:20260421T044343
CREATED:20260323T221452Z
LAST-MODIFIED:20260323T221452Z
UID:10001670-1779539400-1779548400@zoo.org
SUMMARY:Burush Dabiici ah: Sarah Elizabeth
DESCRIPTION:A Brush with Nature waxay martiqaad u fidineysaa farshaxanleyda heerarka xirfadeed oo dhan si ay u noqdaan hal-abuur leh oo ay ku hareeraysan yihiin muuqaallo qurux badan oo ku yaal goobo caan ah oo ku yaal Woodland Park Zoo.
URL:https://zoo.org/so/event/burush-dabiici-ah-sarah-elizabeth-2/
LOCATION:Beerta Xayawaanka ee Woodland Park\, 5500 Phinney Ave. N. \, Seattle\, WA\, 98103\, United States
CATEGORIES:Qoysaska/Dadweynaha
ATTACH;FMTTYPE=image/jpeg:https://zoo.org/wp-content/uploads/2026/03/Sarah-Elizabeth-15.jpg
END:VEVENT
END:VCALENDAR