BEGIN:VCALENDAR
VERSION:2.0
PRODID:-//Beerta Xayawaanka ee Woodland Park - ECPv6.15.20//NONSGML v1.0//EN
CALSCALE:GREGORIAN
METHOD:PUBLISH
X-WR-CALNAME:Beerta Xayawaanka ee Woodland Park
X-ORIGINAL-URL:https://zoo.org/so/
X-WR-CALDESC:Events for Beerta Xayawaanka ee Woodland Park
REFRESH-INTERVAL;VALUE=DURATION:PT1H
X-Robots-Tag:noindex
X-PUBLISHED-TTL:PT1H
BEGIN:VTIMEZONE
TZID:America/Los_Angeles
BEGIN:DAYLIGHT
TZOFFSETFROM:-0800
TZOFFSETTO:-0700
TZNAME:PDT
DTSTART:20250309T100000
END:DAYLIGHT
BEGIN:STANDARD
TZOFFSETFROM:-0700
TZOFFSETTO:-0800
TZNAME:PST
DTSTART:20251102T090000
END:STANDARD
BEGIN:DAYLIGHT
TZOFFSETFROM:-0800
TZOFFSETTO:-0700
TZNAME:PDT
DTSTART:20260308T100000
END:DAYLIGHT
BEGIN:STANDARD
TZOFFSETFROM:-0700
TZOFFSETTO:-0800
TZNAME:PST
DTSTART:20261101T090000
END:STANDARD
BEGIN:DAYLIGHT
TZOFFSETFROM:-0800
TZOFFSETTO:-0700
TZNAME:PDT
DTSTART:20270314T100000
END:DAYLIGHT
BEGIN:STANDARD
TZOFFSETFROM:-0700
TZOFFSETTO:-0800
TZNAME:PST
DTSTART:20271107T090000
END:STANDARD
END:VTIMEZONE
BEGIN:VEVENT
DTSTART;TZID=America/Los_Angeles:20260621T090000
DTEND;TZID=America/Los_Angeles:20260621T100000
DTSTAMP:20260421T062030
CREATED:20260320T182927Z
LAST-MODIFIED:20260327T161123Z
UID:10001355-1782032400-1782036000@zoo.org
SUMMARY:Daaqista Beerta Xayawaanka: Papa Orso Brunch
DESCRIPTION:LA IIBSADAY! \nU dabaaldeg Maalinta Aabbaha khibrad quraac ah oo gaar ah! Martidu waxay ku cashayn doonaan meel u dhow orso bunni ah\, lynx\, iyo elk\, iyagoo ku raaxeysanaya muuqaallo xayawaan oo dhow iyo buffet macaan oo ay ku jiraan kuwa ugu cadcad sida digaagga & waffles\, sausage farshaxan\, kareemka Bavarian\, iyo waxyaabo kaloo badan. Intaa waxaa dheer\, marti kasta wuxuu helaa xusuus sawir qoys oo bilaash ah! Hubi inaad joogtid saldhiggayaga tattoo-ga airbrush\, halkaas oo carruurta – iyo carruurta qalbiga ku jirta – ay ka heli karaan tattoos-yo airbrushed ah oo bilaash ah\, taasoo ka dhigaysa sawirkaas mid aad loo xasuusto. Aabbayaasha noloshaada u soo qaad mimosa ama Bloody Mary oo samee xusuuso socon doonta cimrigaaga oo dhan!    \nAlbaabka Papa Bear Brunch wuxuu ku yaal West Entrance oo keliya.
URL:https://zoo.org/so/event/daaqista-beerta-xayawaanka-papa-orso-brunch-3/2026-06-21/
LOCATION:Beerta Xayawaanka ee Woodland Park\, 5500 Phinney Ave. N. \, Seattle\, WA\, 98103\, United States
CATEGORIES:Qoysaska/Dadweynaha
ATTACH;FMTTYPE=image/jpeg:https://zoo.org/wp-content/uploads/2025/07/Pappa-Bear-Brunch.jpg
END:VEVENT
END:VCALENDAR