BEGIN:VCALENDAR
VERSION:2.0
PRODID:-//Beerta Xayawaanka ee Woodland Park - ECPv6.15.20//NONSGML v1.0//EN
CALSCALE:GREGORIAN
METHOD:PUBLISH
X-WR-CALNAME:Beerta Xayawaanka ee Woodland Park
X-ORIGINAL-URL:https://zoo.org/so/
X-WR-CALDESC:Events for Beerta Xayawaanka ee Woodland Park
REFRESH-INTERVAL;VALUE=DURATION:PT1H
X-Robots-Tag:noindex
X-PUBLISHED-TTL:PT1H
BEGIN:VTIMEZONE
TZID:America/Los_Angeles
BEGIN:DAYLIGHT
TZOFFSETFROM:-0800
TZOFFSETTO:-0700
TZNAME:PDT
DTSTART:20250309T100000
END:DAYLIGHT
BEGIN:STANDARD
TZOFFSETFROM:-0700
TZOFFSETTO:-0800
TZNAME:PST
DTSTART:20251102T090000
END:STANDARD
BEGIN:DAYLIGHT
TZOFFSETFROM:-0800
TZOFFSETTO:-0700
TZNAME:PDT
DTSTART:20260308T100000
END:DAYLIGHT
BEGIN:STANDARD
TZOFFSETFROM:-0700
TZOFFSETTO:-0800
TZNAME:PST
DTSTART:20261101T090000
END:STANDARD
BEGIN:DAYLIGHT
TZOFFSETFROM:-0800
TZOFFSETTO:-0700
TZNAME:PDT
DTSTART:20270314T100000
END:DAYLIGHT
BEGIN:STANDARD
TZOFFSETFROM:-0700
TZOFFSETTO:-0800
TZNAME:PST
DTSTART:20271107T090000
END:STANDARD
END:VTIMEZONE
BEGIN:VEVENT
DTSTART;TZID=America/Los_Angeles:20260726T090000
DTEND;TZID=America/Los_Angeles:20260726T100000
DTSTAMP:20260421T080305
CREATED:20260320T183446Z
LAST-MODIFIED:20260320T183446Z
UID:10001377-1785056400-1785060000@zoo.org
SUMMARY:Daaqista Beerta Xayawaanka: Naadiga Quraacda
DESCRIPTION:Ku casheyso beerta xayawaanka adiga oo wata khibraddan macaan ee cashada oo ku taal mid ka mid ah meelaha ugu quruxda badan beerta xayawaanka – muuqaalka quruxda badan ee Banyan Wilds. Ku raaxayso dhadhan cusub\, muuqaallo muuqaal ah\, iyo fursado aad kula xiriirto duurjoogta jawi deggan oo ku habboon asxaabta\, qoysaska\, ama qof kasta oo aaminsan in quraacda ay si fiican ugu raaxaysan karto dabeecadda.  \nGelitaanka Naadiga Brunch wuxuu ku yaal West Entrance oo keliya. \nMimosas ama bellinis ayaa loo heli karaa iibsashada martida 21+.
URL:https://zoo.org/so/event/daaqista-beerta-xayawaanka-naadiga-quraacda-9/2026-07-26/
LOCATION:Beerta Xayawaanka ee Woodland Park\, 5500 Phinney Ave. N. \, Seattle\, WA\, 98103\, United States
CATEGORIES:Qoysaska/Dadweynaha
ATTACH;FMTTYPE=image/jpeg:https://zoo.org/wp-content/uploads/2025/09/Brunch3.jpg
END:VEVENT
END:VCALENDAR