BEGIN:VCALENDAR
VERSION:2.0
PRODID:-//Vườn thú Woodland Park - ECPv6.15.20//NONSGML v1.0//EN
CALSCALE:GREGORIAN
METHOD:PUBLISH
X-WR-CALNAME:Vườn thú Woodland Park
X-ORIGINAL-URL:https://zoo.org/vi/
X-WR-CALDESC:Sự kiện cho Vườn thú Woodland Park
REFRESH-INTERVAL;VALUE=DURATION:PT1H
X-Robots-Tag:noindex
X-PUBLISHED-TTL:PT1H
BEGIN:VTIMEZONE
TZID:America/Los_Angeles
BEGIN:DAYLIGHT
TZOFFSETFROM:-0800
TZOFFSETTO:-0700
TZNAME:PDT
DTSTART:20240310T100000
END:DAYLIGHT
BEGIN:STANDARD
TZOFFSETFROM:-0700
TZOFFSETTO:-0800
TZNAME:PST
DTSTART:20241103T090000
END:STANDARD
BEGIN:DAYLIGHT
TZOFFSETFROM:-0800
TZOFFSETTO:-0700
TZNAME:PDT
DTSTART:20250309T100000
END:DAYLIGHT
BEGIN:STANDARD
TZOFFSETFROM:-0700
TZOFFSETTO:-0800
TZNAME:PST
DTSTART:20251102T090000
END:STANDARD
BEGIN:DAYLIGHT
TZOFFSETFROM:-0800
TZOFFSETTO:-0700
TZNAME:PDT
DTSTART:20260308T100000
END:DAYLIGHT
BEGIN:STANDARD
TZOFFSETFROM:-0700
TZOFFSETTO:-0800
TZNAME:PST
DTSTART:20261101T090000
END:STANDARD
END:VTIMEZONE
BEGIN:VEVENT
DTSTART;TZID=America/Los_Angeles:20250601T080000
DTEND;TZID=America/Los_Angeles:20250601T091500
DTSTAMP:20260420T080727
CREATED:20250723T210102Z
LAST-MODIFIED:20250723T210102Z
UID:10001058-1748764800-1748769300@zoo.org
SUMMARY:Thưởng thức bữa ăn nhẹ tại sở thú: Bánh kếp cùng chim cánh cụt
DESCRIPTION:“Bữa sáng cùng chim cánh cụt” là một trải nghiệm ăn sáng có một không hai\, nơi khách có thể vào vườn thú sớm và thưởng thức bữa sáng thịnh soạn với bánh kếp mềm xốp\, trái cây tươi và các loại topping hấp dẫn—tất cả đều được tổ chức ngay trước mắt khách tham quan sẽ được ngắm nhìn khu vực chim cánh cụt. Tùy thuộc vào ngày\, bạn có thể được nghe người chăm sóc thú nói chuyện hoặc gặp gỡ linh vật của vườn thú. Cho dù bạn là người yêu thích bữa sáng\, người hâm mộ chim cánh cụt\, hay cả hai\, buổi gặp gỡ ấm cúng buổi sáng này là cách hoàn hảo để bắt đầu một ngày mới—với cà phê và nước cam miễn phí. Khách có giấy tờ tùy thân hợp lệ từ 21 tuổi trở lên có thể mua đồ uống mimosa hoặc Bloody Mary.
URL:https://zoo.org/vi/event/thuong-thuc-bua-an-nhe-tai-so-thu-banh-kep-cung-chim-canh-cut-3/
LOCATION:Triển lãm chim cánh cụt Humboldt\, 5500 Phinney Ave. N. \, Seattle\, Tây Úc\, 98103\, United States
CATEGORIES:Gia đình/Công chúng
ATTACH;FMTTYPE=image/jpeg:https://zoo.org/wp-content/uploads/2025/07/pancakes-with-penguins-069.jpg
END:VEVENT
END:VCALENDAR