BEGIN:VCALENDAR
VERSION:2.0
PRODID:-//Vườn thú Woodland Park - ECPv6.15.20//NONSGML v1.0//EN
CALSCALE:GREGORIAN
METHOD:PUBLISH
X-ORIGINAL-URL:https://zoo.org/vi/
X-WR-CALDESC:Sự kiện cho Vườn thú Woodland Park
REFRESH-INTERVAL;VALUE=DURATION:PT1H
X-Robots-Tag:noindex
X-PUBLISHED-TTL:PT1H
BEGIN:VTIMEZONE
TZID:America/Los_Angeles
BEGIN:DAYLIGHT
TZOFFSETFROM:-0800
TZOFFSETTO:-0700
TZNAME:PDT
DTSTART:20240310T100000
END:DAYLIGHT
BEGIN:STANDARD
TZOFFSETFROM:-0700
TZOFFSETTO:-0800
TZNAME:PST
DTSTART:20241103T090000
END:STANDARD
BEGIN:DAYLIGHT
TZOFFSETFROM:-0800
TZOFFSETTO:-0700
TZNAME:PDT
DTSTART:20250309T100000
END:DAYLIGHT
BEGIN:STANDARD
TZOFFSETFROM:-0700
TZOFFSETTO:-0800
TZNAME:PST
DTSTART:20251102T090000
END:STANDARD
BEGIN:DAYLIGHT
TZOFFSETFROM:-0800
TZOFFSETTO:-0700
TZNAME:PDT
DTSTART:20260308T100000
END:DAYLIGHT
BEGIN:STANDARD
TZOFFSETFROM:-0700
TZOFFSETTO:-0800
TZNAME:PST
DTSTART:20261101T090000
END:STANDARD
END:VTIMEZONE
BEGIN:VEVENT
DTSTART;TZID=America/Los_Angeles:20250705T080000
DTEND;TZID=America/Los_Angeles:20250705T091500
DTSTAMP:20260420T080902
CREATED:20250723T210117Z
LAST-MODIFIED:20250723T210117Z
UID:10000881-1751702400-1751706900@zoo.org
SUMMARY:Thưởng thức bữa ăn nhẹ tại sở thú: Bánh kếp cùng chim cánh cụt
DESCRIPTION:“Bữa sáng cùng chim cánh cụt” là một trải nghiệm ăn sáng có một không hai\, nơi khách có thể vào vườn thú sớm và thưởng thức bữa sáng thịnh soạn với bánh kếp mềm xốp\, trái cây tươi và các loại topping hấp dẫn—tất cả đều được tổ chức ngay trước mắt khách tham quan sẽ được ngắm nhìn khu vực chim cánh cụt. Tùy thuộc vào ngày\, bạn có thể được nghe người chăm sóc thú nói chuyện hoặc gặp gỡ linh vật của vườn thú. Cho dù bạn là người yêu thích bữa sáng\, người hâm mộ chim cánh cụt\, hay cả hai\, buổi gặp gỡ ấm cúng buổi sáng này là cách hoàn hảo để bắt đầu một ngày mới—với cà phê và nước cam miễn phí. Khách có giấy tờ tùy thân hợp lệ từ 21 tuổi trở lên có thể mua đồ uống mimosa hoặc Bloody Mary.
URL:https://zoo.org/vi/event/thuong-thuc-bua-an-nhe-tai-so-thu-banh-kep-cung-chim-canh-cut-2/
LOCATION:Triển lãm chim cánh cụt Humboldt\, 5500 Phinney Ave. N. \, Seattle\, Tây Úc\, 98103\, United States
CATEGORIES:Gia đình/Công chúng
ATTACH;FMTTYPE=image/jpeg:https://zoo.org/wp-content/uploads/2025/07/pancakes-with-penguins-069.jpg
END:VEVENT
BEGIN:VEVENT
DTSTART;TZID=America/Los_Angeles:20250705T110000
DTEND;TZID=America/Los_Angeles:20250705T123000
DTSTAMP:20260420T080902
CREATED:20250723T210042Z
LAST-MODIFIED:20250723T210042Z
UID:10001025-1751713200-1751718600@zoo.org
SUMMARY:Thưởng thức bữa trà chiều tại vườn thú:
DESCRIPTION:Nằm giữa khung cảnh cây xanh tươi tốt và những bông hoa rực rỡ\, khách mời sẽ được thưởng thức tuyển chọn các món ăn ngọt và mặn theo từng tầng\, từ bánh mì kẹp trà hảo hạng đến bánh ngọt nhỏ và bánh nướng mới ra lò. Hoàn hảo cho một buổi đi chơi nhân Ngày của Mẹ\, một buổi tụ họp đặc biệt với bạn bè\, hoặc một kỳ nghỉ yên bình bên người thân yêu\, sự kiện quyến rũ này là lời chúc mừng vẻ đẹp của thiên nhiên—kèm theo một ly rượu prosecco miễn phí dành cho khách từ 21 tuổi trở lên.  Thực đơn đặc biệt sẽ bao gồm nhiều lựa chọn món chay và trái cây tươi. Giá vé đã bao gồm vé vào vườn thú.
URL:https://zoo.org/vi/event/thuong-thuc-bua-tra-chieu-tai-vuon-thu-12/
LOCATION:Sân hiên thu hút côn trùng thụ phấn của Microsoft\, 5500 Phinney Ave. N. \, Seattle\, 98103\, United States
CATEGORIES:Gia đình/Công chúng
ATTACH;FMTTYPE=image/jpeg:https://zoo.org/wp-content/uploads/2025/07/2025_Grazing-at-the-zoo-21_web.jpg
END:VEVENT
BEGIN:VEVENT
DTSTART;TZID=America/Los_Angeles:20250705T130000
DTEND;TZID=America/Los_Angeles:20250705T143000
DTSTAMP:20260420T080902
CREATED:20250723T210044Z
LAST-MODIFIED:20250723T210044Z
UID:10001020-1751720400-1751725800@zoo.org
SUMMARY:Thưởng thức bữa trà chiều tại vườn thú:
DESCRIPTION:Nằm giữa khung cảnh cây xanh tươi tốt và những bông hoa rực rỡ\, khách mời sẽ được thưởng thức tuyển chọn các món ăn ngọt và mặn theo từng tầng\, từ bánh mì kẹp trà hảo hạng đến bánh ngọt nhỏ và bánh nướng mới ra lò. Hoàn hảo cho một buổi đi chơi nhân Ngày của Mẹ\, một buổi tụ họp đặc biệt với bạn bè\, hoặc một kỳ nghỉ yên bình bên người thân yêu\, sự kiện quyến rũ này là lời chúc mừng vẻ đẹp của thiên nhiên—kèm theo một ly rượu prosecco miễn phí dành cho khách từ 21 tuổi trở lên.  Thực đơn đặc biệt sẽ bao gồm nhiều lựa chọn món chay và trái cây tươi. Giá vé đã bao gồm vé vào vườn thú.
URL:https://zoo.org/vi/event/thuong-thuc-bua-tra-chieu-tai-vuon-thu-11/
LOCATION:Sân hiên thu hút côn trùng thụ phấn của Microsoft\, 5500 Phinney Ave. N. \, Seattle\, 98103\, United States
CATEGORIES:Gia đình/Công chúng
ATTACH;FMTTYPE=image/jpeg:https://zoo.org/wp-content/uploads/2025/07/2025_Grazing-at-the-zoo-21_web.jpg
END:VEVENT
END:VCALENDAR