BEGIN:VCALENDAR
VERSION:2.0
PRODID:-//Vườn thú Woodland Park - ECPv6.15.20//NONSGML v1.0//EN
CALSCALE:GREGORIAN
METHOD:PUBLISH
X-WR-CALNAME:Vườn thú Woodland Park
X-ORIGINAL-URL:https://zoo.org/vi/
X-WR-CALDESC:Sự kiện cho Vườn thú Woodland Park
REFRESH-INTERVAL;VALUE=DURATION:PT1H
X-Robots-Tag:noindex
X-PUBLISHED-TTL:PT1H
BEGIN:VTIMEZONE
TZID:America/Los_Angeles
BEGIN:DAYLIGHT
TZOFFSETFROM:-0800
TZOFFSETTO:-0700
TZNAME:PDT
DTSTART:20240310T100000
END:DAYLIGHT
BEGIN:STANDARD
TZOFFSETFROM:-0700
TZOFFSETTO:-0800
TZNAME:PST
DTSTART:20241103T090000
END:STANDARD
BEGIN:DAYLIGHT
TZOFFSETFROM:-0800
TZOFFSETTO:-0700
TZNAME:PDT
DTSTART:20250309T100000
END:DAYLIGHT
BEGIN:STANDARD
TZOFFSETFROM:-0700
TZOFFSETTO:-0800
TZNAME:PST
DTSTART:20251102T090000
END:STANDARD
BEGIN:DAYLIGHT
TZOFFSETFROM:-0800
TZOFFSETTO:-0700
TZNAME:PDT
DTSTART:20260308T100000
END:DAYLIGHT
BEGIN:STANDARD
TZOFFSETFROM:-0700
TZOFFSETTO:-0800
TZNAME:PST
DTSTART:20261101T090000
END:STANDARD
END:VTIMEZONE
BEGIN:VEVENT
DTSTART;TZID=America/Los_Angeles:20251217T160000
DTEND;TZID=America/Los_Angeles:20251217T210000
DTSTAMP:20260421T140659
CREATED:20251024T190323Z
LAST-MODIFIED:20251024T190323Z
UID:10000628-1765987200-1766005200@zoo.org
SUMMARY:Chương trình WildLanterns do các đại lý Toyota khu vực Tây Washington tổ chức.
DESCRIPTION:Hãy thắp sáng kỳ nghỉ của bạn!\nChương trình WildLanterns do Western Washington Toyota Dealers tài trợ sẽ trở lại Vườn thú Woodland Park vào tháng 11 này với những màn trình diễn đèn lồng hoàn toàn mới\, hoành tráng hơn bao giờ hết. Hãy trải nghiệm một cuộc phiêu lưu đầy thú vị\, hứa hẹn mang đến khoảnh khắc kỳ diệu trong mùa lễ hội cho tất cả mọi người!  \nBước vào xứ sở thần tiên mùa đông rực rỡ sắc màu\n\nHãy để bản thân được truyền cảm hứng từ phép màu của mùa lễ hội khi bạn tản bộ dọc theo Đường mòn Xứ sở thần tiên\, ngắm nhìn những sinh vật rừng từ vùng Tây Bắc Thái Bình Dương và chiêm ngưỡng vẻ đẹp hùng vĩ của Núi Rainier. Chiêm ngưỡng thế giới ngoạn mục của các loài bò sát và cá khi dạo bước qua Rừng ngập mặn uốn lượn. Hãy dành chút thời gian dừng lại và ngửi hương hoa khi bạn khám phá những bông hoa tuyệt đẹp dưới tán lá. Sau đó\, hãy bước vào tương lai tại Điểm khởi đầu Đường mòn Rừng – một lễ hội rực rỡ chào đón những loài động vật tuyệt vời sắp đến với khu trưng bày mới của Vườn thú Woodland Park\, khai trương vào năm 2026. Hãy cùng chiêm ngưỡng những “đại sứ” của rừng – như gấu trúc đỏ và chuột túi cây – những loài sẽ sớm coi vườn thú của chúng ta là nhà. Và đừng quên ghé thăm Khu vực Tương tác – một không gian nơi trí tưởng tượng của mọi lứa tuổi có thể bay cao!
URL:https://zoo.org/vi/event/chuong-trinh-wildlanterns-do-cac-dai-ly-toyota-khu-vuc-tay-washington-to-chuc/2025-12-17/
LOCATION:Vườn thú Woodland Park\, 5500 Phinney Ave. N. \, Seattle\, Tây Úc\, 98103\, United States
CATEGORIES:Gia đình/Công chúng
ATTACH;FMTTYPE=image/jpeg:https://zoo.org/wp-content/uploads/2025/10/Moose-Blue-Jays-web.jpg
END:VEVENT
END:VCALENDAR