BEGIN:VCALENDAR
VERSION:2.0
PRODID:-//Vườn thú Woodland Park - ECPv6.15.20//NONSGML v1.0//EN
CALSCALE:GREGORIAN
METHOD:PUBLISH
X-WR-CALNAME:Vườn thú Woodland Park
X-ORIGINAL-URL:https://zoo.org/vi/
X-WR-CALDESC:Sự kiện cho Vườn thú Woodland Park
REFRESH-INTERVAL;VALUE=DURATION:PT1H
X-Robots-Tag:noindex
X-PUBLISHED-TTL:PT1H
BEGIN:VTIMEZONE
TZID:America/Los_Angeles
BEGIN:DAYLIGHT
TZOFFSETFROM:-0800
TZOFFSETTO:-0700
TZNAME:PDT
DTSTART:20250309T100000
END:DAYLIGHT
BEGIN:STANDARD
TZOFFSETFROM:-0700
TZOFFSETTO:-0800
TZNAME:PST
DTSTART:20251102T090000
END:STANDARD
BEGIN:DAYLIGHT
TZOFFSETFROM:-0800
TZOFFSETTO:-0700
TZNAME:PDT
DTSTART:20260308T100000
END:DAYLIGHT
BEGIN:STANDARD
TZOFFSETFROM:-0700
TZOFFSETTO:-0800
TZNAME:PST
DTSTART:20261101T090000
END:STANDARD
BEGIN:DAYLIGHT
TZOFFSETFROM:-0800
TZOFFSETTO:-0700
TZNAME:PDT
DTSTART:20270314T100000
END:DAYLIGHT
BEGIN:STANDARD
TZOFFSETFROM:-0700
TZOFFSETTO:-0800
TZNAME:PST
DTSTART:20271107T090000
END:STANDARD
END:VTIMEZONE
BEGIN:VEVENT
DTSTART;TZID=America/Los_Angeles:20260802T163000
DTEND;TZID=America/Los_Angeles:20260802T203000
DTSTAMP:20260422T013701
CREATED:20260223T230800Z
LAST-MODIFIED:20260303T191237Z
UID:10001199-1785688200-1785702600@zoo.org
SUMMARY:ZooTunes: Ani DiFranco với Valerie June
DESCRIPTION:BECU ZooTunes được tài trợ bởi Carter Subaru\nĐi xem hòa nhạc. Cứu động vật.  \nVườn thú Woodland Park rất hân hạnh chào đón khách trở lại tham dự sự kiện BECU ZooTunes thường niên lần thứ 42 do Carter Subaru tài trợ! \nChuỗi hòa nhạc ngoài trời mùa hè được yêu thích này trở lại với dàn nghệ sĩ mới đầy hấp dẫn. Hãy cùng chúng tôi đến đồng cỏ để trải nghiệm một buổi hòa nhạc độc đáo\, nơi âm nhạc tuyệt vời hòa quyện với khung cảnh hoang dã đặc trưng ngay giữa lòng Seattle.  \nMUA VÉ \nThêm bảng Zoocuterie \nVé chỉ được bán trực tuyến và sẽ không được bán tại cổng sở thú. \n*Thời gian kết thúc chỉ là ước tính
URL:https://zoo.org/vi/event/zootunes-ani-difranco-voi-valerie-june/
LOCATION:Vườn thú Woodland Park\, 5500 Phinney Ave. N. \, Seattle\, Tây Úc\, 98103\, United States
CATEGORIES:Giải trí âm nhạc
ATTACH;FMTTYPE=image/jpeg:https://zoo.org/wp-content/uploads/2026/02/Ani-DiFranco-by-Shervin-Lainez.jpg
END:VEVENT
BEGIN:VEVENT
DTSTART;TZID=America/Los_Angeles:20260806T163000
DTEND;TZID=America/Los_Angeles:20260806T203000
DTSTAMP:20260422T013701
CREATED:20260223T230850Z
LAST-MODIFIED:20260303T191054Z
UID:10001201-1786033800-1786048200@zoo.org
SUMMARY:ZooTunes: Suki Waterhouse
DESCRIPTION:BECU ZooTunes được tài trợ bởi Carter Subaru\nĐi xem hòa nhạc. Cứu động vật.  \nVườn thú Woodland Park rất hân hạnh chào đón khách trở lại tham dự sự kiện BECU ZooTunes thường niên lần thứ 42 do Carter Subaru tài trợ! \nChuỗi hòa nhạc ngoài trời mùa hè được yêu thích này trở lại với dàn nghệ sĩ mới đầy hấp dẫn. Hãy cùng chúng tôi đến đồng cỏ để trải nghiệm một buổi hòa nhạc độc đáo\, nơi âm nhạc tuyệt vời hòa quyện với khung cảnh hoang dã đặc trưng ngay giữa lòng Seattle.  \nMUA VÉ \nThêm bảng Zoocuterie \nVé chỉ được bán trực tuyến và sẽ không được bán tại cổng sở thú. \n*Thời gian kết thúc chỉ là ước tính
URL:https://zoo.org/vi/event/zootunes-suki-waterhouse/
LOCATION:Vườn thú Woodland Park\, 5500 Phinney Ave. N. \, Seattle\, Tây Úc\, 98103\, United States
CATEGORIES:Giải trí âm nhạc
ATTACH;FMTTYPE=image/jpeg:https://zoo.org/wp-content/uploads/2026/02/Suki-Waterhouse-MAIN_PRESS_ORIGINAL_SIZE_FULL_300DPI.jpg
END:VEVENT
BEGIN:VEVENT
DTSTART;TZID=America/Los_Angeles:20260809T163000
DTEND;TZID=America/Los_Angeles:20260809T203000
DTSTAMP:20260422T013701
CREATED:20260223T230921Z
LAST-MODIFIED:20260303T190958Z
UID:10001206-1786293000-1786307400@zoo.org
SUMMARY:ZooTunes: Ban nhạc The Mountain Goats / The Hold Steady trình diễn bài hát “Boys and Girls in America”
DESCRIPTION:BECU ZooTunes được tài trợ bởi Carter Subaru\nĐi xem hòa nhạc. Cứu động vật.  \nVườn thú Woodland Park rất hân hạnh chào đón khách trở lại tham dự sự kiện BECU ZooTunes thường niên lần thứ 42 do Carter Subaru tài trợ! \nChuỗi hòa nhạc ngoài trời mùa hè được yêu thích này trở lại với dàn nghệ sĩ mới đầy hấp dẫn. Hãy cùng chúng tôi đến đồng cỏ để trải nghiệm một buổi hòa nhạc độc đáo\, nơi âm nhạc tuyệt vời hòa quyện với khung cảnh hoang dã đặc trưng ngay giữa lòng Seattle.  \nMUA VÉ \nThêm bảng Zoocuterie \nVé chỉ được bán trực tuyến và sẽ không được bán tại cổng sở thú. \n*Thời gian kết thúc chỉ là ước tính
URL:https://zoo.org/vi/event/zootunes-ban-nhac-the-mountain-goats-the-hold-steady-trinh-dien-bai-hat-boys-and-girls-in-america/
LOCATION:Vườn thú Woodland Park\, 5500 Phinney Ave. N. \, Seattle\, Tây Úc\, 98103\, United States
CATEGORIES:Giải trí âm nhạc
ATTACH;FMTTYPE=image/jpeg:https://zoo.org/wp-content/uploads/2026/02/Mountain-Goats-Hold-Steady.jpg
END:VEVENT
BEGIN:VEVENT
DTSTART;TZID=America/Los_Angeles:20260811T163000
DTEND;TZID=America/Los_Angeles:20260811T203000
DTSTAMP:20260422T013701
CREATED:20260223T230958Z
LAST-MODIFIED:20260303T191934Z
UID:10001207-1786465800-1786480200@zoo.org
SUMMARY:ZooTunes: Jesse Welles
DESCRIPTION:BECU ZooTunes được tài trợ bởi Carter Subaru\nĐi xem hòa nhạc. Cứu động vật.  \nVườn thú Woodland Park rất hân hạnh chào đón khách trở lại tham dự sự kiện BECU ZooTunes thường niên lần thứ 42 do Carter Subaru tài trợ! \nChuỗi hòa nhạc ngoài trời mùa hè được yêu thích này trở lại với dàn nghệ sĩ mới đầy hấp dẫn. Hãy cùng chúng tôi đến đồng cỏ để trải nghiệm một buổi hòa nhạc độc đáo\, nơi âm nhạc tuyệt vời hòa quyện với khung cảnh hoang dã đặc trưng ngay giữa lòng Seattle.  \nBÁN HẾT! \nThêm bảng Zoocuterie \nVé chỉ được bán trực tuyến và sẽ không được bán tại cổng sở thú. \n*Thời gian kết thúc chỉ là ước tính
URL:https://zoo.org/vi/event/zootunes-jesse-welles/
LOCATION:Vườn thú Woodland Park\, 5500 Phinney Ave. N. \, Seattle\, Tây Úc\, 98103\, United States
CATEGORIES:Giải trí âm nhạc
ATTACH;FMTTYPE=image/jpeg:https://zoo.org/wp-content/uploads/2026/02/Jesse-Wells.jpg
END:VEVENT
BEGIN:VEVENT
DTSTART;TZID=America/Los_Angeles:20260813T163000
DTEND;TZID=America/Los_Angeles:20260813T203000
DTSTAMP:20260422T013701
CREATED:20260223T232021Z
LAST-MODIFIED:20260303T190853Z
UID:10001191-1786638600-1786653000@zoo.org
SUMMARY:ZooTunes: Jason Isbell
DESCRIPTION:BECU ZooTunes được tài trợ bởi Carter Subaru\nĐi xem hòa nhạc. Cứu động vật.  \nVườn thú Woodland Park rất hân hạnh chào đón khách trở lại tham dự sự kiện BECU ZooTunes thường niên lần thứ 42 do Carter Subaru tài trợ! \nChuỗi hòa nhạc ngoài trời mùa hè được yêu thích này trở lại với dàn nghệ sĩ mới đầy hấp dẫn. Hãy cùng chúng tôi đến đồng cỏ để trải nghiệm một buổi hòa nhạc độc đáo\, nơi âm nhạc tuyệt vời hòa quyện với khung cảnh hoang dã đặc trưng ngay giữa lòng Seattle.  \nMUA VÉ \nThêm bảng Zoocuterie \nVé chỉ được bán trực tuyến và sẽ không được bán tại cổng sở thú. \n*Thời gian kết thúc chỉ là ước tính
URL:https://zoo.org/vi/event/zootunes-jason-isbell/
LOCATION:Vườn thú Woodland Park\, 5500 Phinney Ave. N. \, Seattle\, Tây Úc\, 98103\, United States
CATEGORIES:Giải trí âm nhạc
ATTACH;FMTTYPE=image/jpeg:https://zoo.org/wp-content/uploads/2026/02/Jason-Isbell-SOLO-2025-Ticketing.jpg
END:VEVENT
BEGIN:VEVENT
DTSTART;TZID=America/Los_Angeles:20260816T163000
DTEND;TZID=America/Los_Angeles:20260816T203000
DTSTAMP:20260422T013701
CREATED:20260223T231036Z
LAST-MODIFIED:20260303T190713Z
UID:10001209-1786897800-1786912200@zoo.org
SUMMARY:ZooTunes: The Beths / Beach Bunny
DESCRIPTION:BECU ZooTunes được tài trợ bởi Carter Subaru\nĐi xem hòa nhạc. Cứu động vật.  \nVườn thú Woodland Park rất hân hạnh chào đón khách trở lại tham dự sự kiện BECU ZooTunes thường niên lần thứ 42 do Carter Subaru tài trợ! \nChuỗi hòa nhạc ngoài trời mùa hè được yêu thích này trở lại với dàn nghệ sĩ mới đầy hấp dẫn. Hãy cùng chúng tôi đến đồng cỏ để trải nghiệm một buổi hòa nhạc độc đáo\, nơi âm nhạc tuyệt vời hòa quyện với khung cảnh hoang dã đặc trưng ngay giữa lòng Seattle.  \nMUA VÉ \nThêm bảng Zoocuterie \nVé chỉ được bán trực tuyến và sẽ không được bán tại cổng sở thú. \n*Thời gian kết thúc chỉ là ước tính
URL:https://zoo.org/vi/event/zootunes-the-beths-beach-bunny/
LOCATION:Vườn thú Woodland Park\, 5500 Phinney Ave. N. \, Seattle\, Tây Úc\, 98103\, United States
CATEGORIES:Giải trí âm nhạc
ATTACH;FMTTYPE=image/jpeg:https://zoo.org/wp-content/uploads/2026/02/beach-bunny-the-beths.jpg
END:VEVENT
BEGIN:VEVENT
DTSTART;TZID=America/Los_Angeles:20260818T163000
DTEND;TZID=America/Los_Angeles:20260818T203000
DTSTAMP:20260422T013701
CREATED:20260223T231829Z
LAST-MODIFIED:20260324T172742Z
UID:10001180-1787070600-1787085000@zoo.org
SUMMARY:ZooTunes: Courtney Barnett w/Được xây dựng để tràn & Zoh Amba
DESCRIPTION:BECU ZooTunes được tài trợ bởi Carter Subaru\nĐi xem hòa nhạc. Cứu động vật.  \nVườn thú Woodland Park rất hân hạnh chào đón khách trở lại tham dự sự kiện BECU ZooTunes thường niên lần thứ 42 do Carter Subaru tài trợ! \nChuỗi hòa nhạc ngoài trời mùa hè được yêu thích này trở lại với dàn nghệ sĩ mới đầy hấp dẫn. Hãy cùng chúng tôi đến đồng cỏ để trải nghiệm một buổi hòa nhạc độc đáo\, nơi âm nhạc tuyệt vời hòa quyện với khung cảnh hoang dã đặc trưng ngay giữa lòng Seattle.  \nThêm bảng Zoocuterie \nVé chỉ được bán trực tuyến và sẽ không được bán tại cổng sở thú. \n*Thời gian kết thúc chỉ là ước tính
URL:https://zoo.org/vi/event/zootunes-courtney-barnett-w-duoc-xay-dung-de-tran-zoh-amba/
LOCATION:Vườn thú Woodland Park\, 5500 Phinney Ave. N. \, Seattle\, Tây Úc\, 98103\, United States
CATEGORIES:Giải trí âm nhạc
ATTACH;FMTTYPE=image/jpeg:https://zoo.org/wp-content/uploads/2026/02/Courtney-Barnett-12.17.jpg
END:VEVENT
BEGIN:VEVENT
DTSTART;TZID=America/Los_Angeles:20260820T163000
DTEND;TZID=America/Los_Angeles:20260820T203000
DTSTAMP:20260422T013701
CREATED:20260223T231906Z
LAST-MODIFIED:20260303T190248Z
UID:10001185-1787243400-1787257800@zoo.org
SUMMARY:ZooTunes: Những người nhân giống cùng Team Dresch
DESCRIPTION:BECU ZooTunes presented by Carter Subaru\nSEE CONCERTS. SAVE ANIMALS. Woodland Park Zoo is thrilled to welcome guests back for the 42nd annual BECU ZooTunes presented by Carter Subaru! This beloved outdoor summer concert series returns with an exciting new lineup. Join us in the meadow for a one-of-a-kind concert experience where great music meets an iconic wild setting in the heart of Seattle. \nBUY TICKETS \nAdd a Zoocuterie Board \nTickets are only available online and will not be sold at the zoo gates. \n*End time is approximate
URL:https://zoo.org/vi/event/zootunes-nhung-nguoi-nhan-giong-cung-team-dresch/
LOCATION:Vườn thú Woodland Park\, 5500 Phinney Ave. N. \, Seattle\, Tây Úc\, 98103\, United States
CATEGORIES:Giải trí âm nhạc
ATTACH;FMTTYPE=image/jpeg:https://zoo.org/wp-content/uploads/2026/02/The-Breeders-Credit_-James-Ridling.jpg
END:VEVENT
END:VCALENDAR