BEGIN:VCALENDAR
VERSION:2.0
PRODID:-//伍德兰公园动物园 - ECPv6.15.20//NONSGML v1.0//EN
CALSCALE:GREGORIAN
METHOD:PUBLISH
X-ORIGINAL-URL:https://zoo.org/zh-hans/
X-WR-CALDESC:伍德兰公园动物园的活动
REFRESH-INTERVAL;VALUE=DURATION:PT1H
X-Robots-Tag:noindex
X-PUBLISHED-TTL:PT1H
BEGIN:VTIMEZONE
TZID:America/Los_Angeles
BEGIN:DAYLIGHT
TZOFFSETFROM:-0800
TZOFFSETTO:-0700
TZNAME:PDT
DTSTART:20240310T100000
END:DAYLIGHT
BEGIN:STANDARD
TZOFFSETFROM:-0700
TZOFFSETTO:-0800
TZNAME:PST
DTSTART:20241103T090000
END:STANDARD
BEGIN:DAYLIGHT
TZOFFSETFROM:-0800
TZOFFSETTO:-0700
TZNAME:PDT
DTSTART:20250309T100000
END:DAYLIGHT
BEGIN:STANDARD
TZOFFSETFROM:-0700
TZOFFSETTO:-0800
TZNAME:PST
DTSTART:20251102T090000
END:STANDARD
BEGIN:DAYLIGHT
TZOFFSETFROM:-0800
TZOFFSETTO:-0700
TZNAME:PDT
DTSTART:20260308T100000
END:DAYLIGHT
BEGIN:STANDARD
TZOFFSETFROM:-0700
TZOFFSETTO:-0800
TZNAME:PST
DTSTART:20261101T090000
END:STANDARD
END:VTIMEZONE
BEGIN:VEVENT
DTSTART;TZID=America/Los_Angeles:20250511T110000
DTEND;TZID=America/Los_Angeles:20250511T123000
DTSTAMP:20260424T181409
CREATED:20250723T210017Z
LAST-MODIFIED:20250723T210017Z
UID:10000975-1746961200-1746966600@zoo.org
SUMMARY:动物园的牧草：下午茶
DESCRIPTION:坐落在郁郁葱葱的绿意和鲜艳的花朵之间，宾客们将享用分层甜咸甜点，从精致的茶点三明治到小点心和新鲜出炉的司康饼应有尽有。非常适合母亲节出游、与朋友的特别聚会，或与亲友共度宁静假期，这场迷人的活动是为大自然之美举杯——21+岁的宾客还可免费享用一杯普罗塞克。  精心策划的套餐将包括多样的素食选择和新鲜水果。 门票包含动物园门票。
URL:https://zoo.org/zh-hans/event/%e5%8a%a8%e7%89%a9%e5%9b%ad%e7%9a%84%e7%89%a7%e8%8d%89%ef%bc%9a%e4%b8%8b%e5%8d%88%e8%8c%b6-3/
LOCATION:Microsoft 授粉者露台\, 5500 芬尼大道北 \, 西雅图\, 98103\, United States
CATEGORIES:家庭/公众
ATTACH;FMTTYPE=image/jpeg:https://zoo.org/wp-content/uploads/2025/07/2025_Grazing-at-the-zoo-21_web.jpg
END:VEVENT
BEGIN:VEVENT
DTSTART;TZID=America/Los_Angeles:20250511T130000
DTEND;TZID=America/Los_Angeles:20250511T143000
DTSTAMP:20260424T181409
CREATED:20250723T210019Z
LAST-MODIFIED:20250723T210019Z
UID:10000874-1746968400-1746973800@zoo.org
SUMMARY:动物园的牧草：下午茶
DESCRIPTION:坐落在郁郁葱葱的绿意和鲜艳的花朵之间，宾客们将享用分层甜咸甜点，从精致的茶点三明治到小点心和新鲜出炉的司康饼应有尽有。非常适合母亲节出游、与朋友的特别聚会，或与亲友共度宁静假期，这场迷人的活动是为大自然之美举杯——21+岁的宾客还可免费享用一杯普罗塞克。  精心策划的套餐将包括多样的素食选择和新鲜水果。 门票包含动物园门票。
URL:https://zoo.org/zh-hans/event/%e5%8a%a8%e7%89%a9%e5%9b%ad%e7%9a%84%e7%89%a7%e8%8d%89%ef%bc%9a%e4%b8%8b%e5%8d%88%e8%8c%b6/
LOCATION:Microsoft 授粉者露台\, 5500 芬尼大道北 \, 西雅图\, 98103\, United States
CATEGORIES:家庭/公众
ATTACH;FMTTYPE=image/jpeg:https://zoo.org/wp-content/uploads/2025/07/2025_Grazing-at-the-zoo-21_web.jpg
END:VEVENT
END:VCALENDAR