BEGIN:VCALENDAR
VERSION:2.0
PRODID:-//伍德兰公园动物园 - ECPv6.15.20//NONSGML v1.0//EN
CALSCALE:GREGORIAN
METHOD:PUBLISH
X-ORIGINAL-URL:https://zoo.org/zh-hans/
X-WR-CALDESC:伍德兰公园动物园的活动
REFRESH-INTERVAL;VALUE=DURATION:PT1H
X-Robots-Tag:noindex
X-PUBLISHED-TTL:PT1H
BEGIN:VTIMEZONE
TZID:America/Los_Angeles
BEGIN:DAYLIGHT
TZOFFSETFROM:-0800
TZOFFSETTO:-0700
TZNAME:PDT
DTSTART:20240310T100000
END:DAYLIGHT
BEGIN:STANDARD
TZOFFSETFROM:-0700
TZOFFSETTO:-0800
TZNAME:PST
DTSTART:20241103T090000
END:STANDARD
BEGIN:DAYLIGHT
TZOFFSETFROM:-0800
TZOFFSETTO:-0700
TZNAME:PDT
DTSTART:20250309T100000
END:DAYLIGHT
BEGIN:STANDARD
TZOFFSETFROM:-0700
TZOFFSETTO:-0800
TZNAME:PST
DTSTART:20251102T090000
END:STANDARD
BEGIN:DAYLIGHT
TZOFFSETFROM:-0800
TZOFFSETTO:-0700
TZNAME:PDT
DTSTART:20260308T100000
END:DAYLIGHT
BEGIN:STANDARD
TZOFFSETFROM:-0700
TZOFFSETTO:-0800
TZNAME:PST
DTSTART:20261101T090000
END:STANDARD
END:VTIMEZONE
BEGIN:VEVENT
DTSTART;TZID=America/Los_Angeles:20250812T080000
DTEND;TZID=America/Los_Angeles:20250812T091500
DTSTAMP:20260424T132809
CREATED:20250723T210128Z
LAST-MODIFIED:20250723T210128Z
UID:10000885-1754985600-1754990100@zoo.org
SUMMARY:动物园的放牧：与企鹅一起吃煎饼
DESCRIPTION:“与企鹅共度煎饼”是一场独特的早餐体验，游客可以早早进入动物园，享用丰盛的松软煎饼、新鲜水果和美味配料——所有这些都能在前排观看企鹅展区。根据当天情况，你可能会听到守护者讲座或吉祥物的访问。无论你是早餐爱好者、企鹅爱好者，还是两者兼有，这场温馨的早晨聚会都是开启一天的完美方式——配有免费咖啡和橙汁。持有有效21+身份证的宾客可购买含羞草或血腥玛丽饮品。
URL:https://zoo.org/zh-hans/event/%e5%8a%a8%e7%89%a9%e5%9b%ad%e7%9a%84%e6%94%be%e7%89%a7%ef%bc%9a%e4%b8%8e%e4%bc%81%e9%b9%85%e4%b8%80%e8%b5%b7%e5%90%83%e7%85%8e%e9%a5%bc/
LOCATION:洪堡企鹅展览\, 5500 芬尼大道北 \, 西雅图\, 西澳\, 98103\, United States
CATEGORIES:家庭/公众
ATTACH;FMTTYPE=image/jpeg:https://zoo.org/wp-content/uploads/2025/07/pancakes-with-penguins-069.jpg
END:VEVENT
END:VCALENDAR