BEGIN:VCALENDAR
VERSION:2.0
PRODID:-//伍德兰公园动物园 - ECPv6.15.20//NONSGML v1.0//EN
CALSCALE:GREGORIAN
METHOD:PUBLISH
X-WR-CALNAME:伍德兰公园动物园
X-ORIGINAL-URL:https://zoo.org/zh-hans/
X-WR-CALDESC:伍德兰公园动物园的活动
REFRESH-INTERVAL;VALUE=DURATION:PT1H
X-Robots-Tag:noindex
X-PUBLISHED-TTL:PT1H
BEGIN:VTIMEZONE
TZID:America/Los_Angeles
BEGIN:DAYLIGHT
TZOFFSETFROM:-0800
TZOFFSETTO:-0700
TZNAME:PDT
DTSTART:20240310T100000
END:DAYLIGHT
BEGIN:STANDARD
TZOFFSETFROM:-0700
TZOFFSETTO:-0800
TZNAME:PST
DTSTART:20241103T090000
END:STANDARD
BEGIN:DAYLIGHT
TZOFFSETFROM:-0800
TZOFFSETTO:-0700
TZNAME:PDT
DTSTART:20250309T100000
END:DAYLIGHT
BEGIN:STANDARD
TZOFFSETFROM:-0700
TZOFFSETTO:-0800
TZNAME:PST
DTSTART:20251102T090000
END:STANDARD
BEGIN:DAYLIGHT
TZOFFSETFROM:-0800
TZOFFSETTO:-0700
TZNAME:PDT
DTSTART:20260308T100000
END:DAYLIGHT
BEGIN:STANDARD
TZOFFSETFROM:-0700
TZOFFSETTO:-0800
TZNAME:PST
DTSTART:20261101T090000
END:STANDARD
END:VTIMEZONE
BEGIN:VEVENT
DTSTART;TZID=America/Los_Angeles:20250819T163000
DTEND;TZID=America/Los_Angeles:20250819T210000
DTSTAMP:20260424T132641
CREATED:20250722T230240Z
LAST-MODIFIED:20250722T230240Z
UID:10000954-1755621000-1755637200@zoo.org
SUMMARY:动物园音乐：本·哈珀与无辜罪犯
DESCRIPTION:BECU ZooTunes 由卡特·斯巴鲁呈现\n参见音乐会。拯救动物。  \n伍德兰公园动物园很高兴今年夏天欢迎游客重返草地，参加由卡特斯巴鲁呈献的第41届年度BECU动物园音乐节！今年的演唱会季阵容非常精彩，深受喜爱的回归艺术家和首次登上ZooTunes的艺术家！准备好迎接充满精彩音乐和难忘时刻的夏天，尽在ZooTunes吧！   \n门票仅限在线购买，不会在动物园门口销售。 \n*结束时间为近似
URL:https://zoo.org/zh-hans/event/%e5%8a%a8%e7%89%a9%e5%9b%ad%e9%9f%b3%e4%b9%90%ef%bc%9a%e6%9c%ac%c2%b7%e5%93%88%e7%8f%80%e4%b8%8e%e6%97%a0%e8%be%9c%e7%bd%aa%e7%8a%af/
LOCATION:伍德兰公园动物园\, 5500 芬尼大道北 \, 西雅图\, 西澳\, 98103\, United States
CATEGORIES:音乐娱乐
ATTACH;FMTTYPE=image/jpeg:https://zoo.org/wp-content/uploads/2025/07/Ben-Harper_benSDbellyshow24-web.jpg
END:VEVENT
END:VCALENDAR