BEGIN:VCALENDAR
VERSION:2.0
PRODID:-//伍德兰公园动物园 - ECPv6.15.20//NONSGML v1.0//EN
CALSCALE:GREGORIAN
METHOD:PUBLISH
X-WR-CALNAME:伍德兰公园动物园
X-ORIGINAL-URL:https://zoo.org/zh-hans/
X-WR-CALDESC:伍德兰公园动物园的活动
REFRESH-INTERVAL;VALUE=DURATION:PT1H
X-Robots-Tag:noindex
X-PUBLISHED-TTL:PT1H
BEGIN:VTIMEZONE
TZID:America/Los_Angeles
BEGIN:DAYLIGHT
TZOFFSETFROM:-0800
TZOFFSETTO:-0700
TZNAME:PDT
DTSTART:20250309T100000
END:DAYLIGHT
BEGIN:STANDARD
TZOFFSETFROM:-0700
TZOFFSETTO:-0800
TZNAME:PST
DTSTART:20251102T090000
END:STANDARD
BEGIN:DAYLIGHT
TZOFFSETFROM:-0800
TZOFFSETTO:-0700
TZNAME:PDT
DTSTART:20260308T100000
END:DAYLIGHT
BEGIN:STANDARD
TZOFFSETFROM:-0700
TZOFFSETTO:-0800
TZNAME:PST
DTSTART:20261101T090000
END:STANDARD
BEGIN:DAYLIGHT
TZOFFSETFROM:-0800
TZOFFSETTO:-0700
TZNAME:PDT
DTSTART:20270314T100000
END:DAYLIGHT
BEGIN:STANDARD
TZOFFSETFROM:-0700
TZOFFSETTO:-0800
TZNAME:PST
DTSTART:20271107T090000
END:STANDARD
END:VTIMEZONE
BEGIN:VEVENT
DTSTART;TZID=America/Los_Angeles:20260228T120000
DTEND;TZID=America/Los_Angeles:20260228T150000
DTSTAMP:20260421T060946
CREATED:20260220T181857Z
LAST-MODIFIED:20260220T181857Z
UID:10001133-1772280000-1772290800@zoo.org
SUMMARY:免费玫瑰修剪示范
DESCRIPTION:玫瑰修剪的时候到了！\n情人节已经过去，但玫瑰依然需要特别而精准的照料——这是一年中停下来修剪玫瑰的时刻！2月28日星期六，参加西雅图玫瑰协会在伍德兰公园玫瑰园举办的免费年度玫瑰修剪演示。  \n了解玫瑰的品种、养护方法、修剪多少，以及如何正确使用手剪、长剪和手锯等修剪工具，以获得正确的剪裁和修剪技巧。结果是：更健康、更有活力的灌木！此外，还可以认识玫瑰爱好者，提出任何关于玫瑰的问题！   \n学会正确修剪玫瑰后，可以欣赏壮丽的玫瑰花园，漫步穿行于2.5英亩玫瑰展示区的草地小径。虽然这个季节尚未开花，但丰富的灌木玫瑰、杂交茶、花莲、花花和攀缘花与花园的正式建筑设计优雅融合，打造出令人难忘的展示景观。  \n在玫瑰园内，西雅图感官花园为有残障人士和无残障人士设计。各种元素鼓励宾客随意触摸和探索，包括深色调风铃、寺庙钟和带有槽口的长方形木柱，触碰时会产生噪音。无障碍铺装小径、特殊的感官友好地毯和高架花坛，使得与花园中种植的各种树木、灌木和球茎植物互动更加轻松。   \n详情请访问 www.zoo.org/roses。 \n时间：\n2月28日星期六，中午12点至下午3点，无论晴雨 \n其中： \n伍德兰公园动物园玫瑰园，750 N.50th St.， Seattle， WA 98103 \n费用：\n玫瑰修剪演示及玫瑰园入场：免费。 \n停车位位于动物园邻近的狮子停车场：前两小时10美元;每额外一小时2美元;最高日费14.00美元（+税费）。任何悬挂有效残疾人停车证牌的车辆均不收取停车费。  \n信息：\n欲了解更多信息，请致电伍德兰公园动物园206.548.2500，或发送邮件至玫瑰园 rosegarden@zoo.org。
URL:https://zoo.org/zh-hans/event/%e5%85%8d%e8%b4%b9%e7%8e%ab%e7%91%b0%e4%bf%ae%e5%89%aa%e7%a4%ba%e8%8c%83/
LOCATION:伍德兰公园动物园\, 5500 芬尼大道北 \, 西雅图\, 西澳\, 98103\, United States
CATEGORIES:家庭/公众
ATTACH;FMTTYPE=image/jpeg:https://zoo.org/wp-content/uploads/2025/09/2014-RyanHawk-Rose-Garden-Yellow-Rose-landscape.jpg
END:VEVENT
END:VCALENDAR