BEGIN:VCALENDAR
VERSION:2.0
PRODID:-//伍德兰公园动物园 - ECPv6.15.20//NONSGML v1.0//EN
CALSCALE:GREGORIAN
METHOD:PUBLISH
X-ORIGINAL-URL:https://zoo.org/zh-hans/
X-WR-CALDESC:伍德兰公园动物园的活动
REFRESH-INTERVAL;VALUE=DURATION:PT1H
X-Robots-Tag:noindex
X-PUBLISHED-TTL:PT1H
BEGIN:VTIMEZONE
TZID:America/Los_Angeles
BEGIN:DAYLIGHT
TZOFFSETFROM:-0800
TZOFFSETTO:-0700
TZNAME:PDT
DTSTART:20250309T100000
END:DAYLIGHT
BEGIN:STANDARD
TZOFFSETFROM:-0700
TZOFFSETTO:-0800
TZNAME:PST
DTSTART:20251102T090000
END:STANDARD
BEGIN:DAYLIGHT
TZOFFSETFROM:-0800
TZOFFSETTO:-0700
TZNAME:PDT
DTSTART:20260308T100000
END:DAYLIGHT
BEGIN:STANDARD
TZOFFSETFROM:-0700
TZOFFSETTO:-0800
TZNAME:PST
DTSTART:20261101T090000
END:STANDARD
BEGIN:DAYLIGHT
TZOFFSETFROM:-0800
TZOFFSETTO:-0700
TZNAME:PDT
DTSTART:20270314T100000
END:DAYLIGHT
BEGIN:STANDARD
TZOFFSETFROM:-0700
TZOFFSETTO:-0800
TZNAME:PST
DTSTART:20271107T090000
END:STANDARD
END:VTIMEZONE
BEGIN:VEVENT
DTSTART;TZID=America/Los_Angeles:20260426T120000
DTEND;TZID=America/Los_Angeles:20260426T133000
DTSTAMP:20260420T081052
CREATED:20260320T175638Z
LAST-MODIFIED:20260327T161124Z
UID:10001227-1777204800-1777210200@zoo.org
SUMMARY:动物园的牧场：起床用餐
DESCRIPTION:售罄！ \n起床与世界上最难捉摸的动物共进晚餐——成为首批踏入我们全新森林步道入口展览的人们之一！在树冠层中享用美味佳肴，探索这些令人难以置信的动物及其栖息地的景象、声音和故事。  \n仅限于西入口森林步道入口参加“起床与用餐”活动。
URL:https://zoo.org/zh-hans/event/%e8%b5%b7%e5%ba%8a%e4%b8%8e%e7%94%a8%e9%a4%90/2026-04-26/
LOCATION:伍德兰公园动物园\, 5500 芬尼大道北 \, 西雅图\, 西澳\, 98103\, United States
CATEGORIES:家庭/公众
ATTACH;FMTTYPE=image/jpeg:https://zoo.org/wp-content/uploads/2026/03/Rise-Dine-37_phi.jpg
END:VEVENT
END:VCALENDAR