BEGIN:VCALENDAR
VERSION:2.0
PRODID:-//伍德兰公园动物园 - ECPv6.15.20//NONSGML v1.0//EN
CALSCALE:GREGORIAN
METHOD:PUBLISH
X-WR-CALNAME:伍德兰公园动物园
X-ORIGINAL-URL:https://zoo.org/zh-hans/
X-WR-CALDESC:伍德兰公园动物园的活动
REFRESH-INTERVAL;VALUE=DURATION:PT1H
X-Robots-Tag:noindex
X-PUBLISHED-TTL:PT1H
BEGIN:VTIMEZONE
TZID:America/Los_Angeles
BEGIN:DAYLIGHT
TZOFFSETFROM:-0800
TZOFFSETTO:-0700
TZNAME:PDT
DTSTART:20250309T100000
END:DAYLIGHT
BEGIN:STANDARD
TZOFFSETFROM:-0700
TZOFFSETTO:-0800
TZNAME:PST
DTSTART:20251102T090000
END:STANDARD
BEGIN:DAYLIGHT
TZOFFSETFROM:-0800
TZOFFSETTO:-0700
TZNAME:PDT
DTSTART:20260308T100000
END:DAYLIGHT
BEGIN:STANDARD
TZOFFSETFROM:-0700
TZOFFSETTO:-0800
TZNAME:PST
DTSTART:20261101T090000
END:STANDARD
BEGIN:DAYLIGHT
TZOFFSETFROM:-0800
TZOFFSETTO:-0700
TZNAME:PDT
DTSTART:20270314T100000
END:DAYLIGHT
BEGIN:STANDARD
TZOFFSETFROM:-0700
TZOFFSETTO:-0800
TZNAME:PST
DTSTART:20271107T090000
END:STANDARD
END:VTIMEZONE
BEGIN:VEVENT
DTSTART;TZID=America/Los_Angeles:20260509T103000
DTEND;TZID=America/Los_Angeles:20260509T113000
DTSTAMP:20260420T140700
CREATED:20260323T211231Z
LAST-MODIFIED:20260323T211231Z
UID:10001470-1778322600-1778326200@zoo.org
SUMMARY:动物园的牧草：下午茶
DESCRIPTION:品味、放松身心，享受这场优雅的下午茶体验，尽情欣赏Microsoft授粉者露台的美丽。 茶塔坐落于郁郁葱葱的绿意和鲜艳的花朵之间，宾客们将享用满载甜咸美食的自助区，从精致的茶叶三明治到小点心应有尽有。非常适合母亲节出游、与朋友的特别聚会，或与亲友共度宁静假期，这场迷人的活动是为大自然之美举杯——21+岁的宾客还可免费享用一杯普罗塞克。
URL:https://zoo.org/zh-hans/event/%e5%8a%a8%e7%89%a9%e5%9b%ad%e7%9a%84%e7%89%a7%e8%8d%89%ef%bc%9a%e4%b8%8b%e5%8d%88%e8%8c%b6-18/2026-05-09/1/
LOCATION:伍德兰公园动物园\, 5500 芬尼大道北 \, 西雅图\, 西澳\, 98103\, United States
CATEGORIES:家庭/公众
ATTACH;FMTTYPE=image/jpeg:https://zoo.org/wp-content/uploads/2025/07/2025_Grazing-at-the-zoo-21_web.jpg
END:VEVENT
BEGIN:VEVENT
DTSTART;TZID=America/Los_Angeles:20260509T110000
DTEND;TZID=America/Los_Angeles:20260509T120000
DTSTAMP:20260420T140700
CREATED:20260323T211231Z
LAST-MODIFIED:20260323T211231Z
UID:10001471-1778324400-1778328000@zoo.org
SUMMARY:动物园的牧草：下午茶
DESCRIPTION:品味、放松身心，享受这场优雅的下午茶体验，尽情欣赏Microsoft授粉者露台的美丽。 茶塔坐落于郁郁葱葱的绿意和鲜艳的花朵之间，宾客们将享用满载甜咸美食的自助区，从精致的茶叶三明治到小点心应有尽有。非常适合母亲节出游、与朋友的特别聚会，或与亲友共度宁静假期，这场迷人的活动是为大自然之美举杯——21+岁的宾客还可免费享用一杯普罗塞克。
URL:https://zoo.org/zh-hans/event/%e5%8a%a8%e7%89%a9%e5%9b%ad%e7%9a%84%e7%89%a7%e8%8d%89%ef%bc%9a%e4%b8%8b%e5%8d%88%e8%8c%b6-18/2026-05-09/2/
LOCATION:伍德兰公园动物园\, 5500 芬尼大道北 \, 西雅图\, 西澳\, 98103\, United States
CATEGORIES:家庭/公众
ATTACH;FMTTYPE=image/jpeg:https://zoo.org/wp-content/uploads/2025/07/2025_Grazing-at-the-zoo-21_web.jpg
END:VEVENT
BEGIN:VEVENT
DTSTART;TZID=America/Los_Angeles:20260509T130000
DTEND;TZID=America/Los_Angeles:20260509T140000
DTSTAMP:20260420T140700
CREATED:20260323T211231Z
LAST-MODIFIED:20260323T211231Z
UID:10001472-1778331600-1778335200@zoo.org
SUMMARY:动物园的牧草：下午茶
DESCRIPTION:品味、放松身心，享受这场优雅的下午茶体验，尽情欣赏Microsoft授粉者露台的美丽。 茶塔坐落于郁郁葱葱的绿意和鲜艳的花朵之间，宾客们将享用满载甜咸美食的自助区，从精致的茶叶三明治到小点心应有尽有。非常适合母亲节出游、与朋友的特别聚会，或与亲友共度宁静假期，这场迷人的活动是为大自然之美举杯——21+岁的宾客还可免费享用一杯普罗塞克。
URL:https://zoo.org/zh-hans/event/%e5%8a%a8%e7%89%a9%e5%9b%ad%e7%9a%84%e7%89%a7%e8%8d%89%ef%bc%9a%e4%b8%8b%e5%8d%88%e8%8c%b6-18/2026-05-09/3/
LOCATION:伍德兰公园动物园\, 5500 芬尼大道北 \, 西雅图\, 西澳\, 98103\, United States
CATEGORIES:家庭/公众
ATTACH;FMTTYPE=image/jpeg:https://zoo.org/wp-content/uploads/2025/07/2025_Grazing-at-the-zoo-21_web.jpg
END:VEVENT
BEGIN:VEVENT
DTSTART;TZID=America/Los_Angeles:20260509T133000
DTEND;TZID=America/Los_Angeles:20260509T143000
DTSTAMP:20260420T140700
CREATED:20260323T211231Z
LAST-MODIFIED:20260323T211231Z
UID:10001473-1778333400-1778337000@zoo.org
SUMMARY:动物园的牧草：下午茶
DESCRIPTION:品味、放松身心，享受这场优雅的下午茶体验，尽情欣赏Microsoft授粉者露台的美丽。 茶塔坐落于郁郁葱葱的绿意和鲜艳的花朵之间，宾客们将享用满载甜咸美食的自助区，从精致的茶叶三明治到小点心应有尽有。非常适合母亲节出游、与朋友的特别聚会，或与亲友共度宁静假期，这场迷人的活动是为大自然之美举杯——21+岁的宾客还可免费享用一杯普罗塞克。
URL:https://zoo.org/zh-hans/event/%e5%8a%a8%e7%89%a9%e5%9b%ad%e7%9a%84%e7%89%a7%e8%8d%89%ef%bc%9a%e4%b8%8b%e5%8d%88%e8%8c%b6-18/2026-05-09/4/
LOCATION:伍德兰公园动物园\, 5500 芬尼大道北 \, 西雅图\, 西澳\, 98103\, United States
CATEGORIES:家庭/公众
ATTACH;FMTTYPE=image/jpeg:https://zoo.org/wp-content/uploads/2025/07/2025_Grazing-at-the-zoo-21_web.jpg
END:VEVENT
END:VCALENDAR