BEGIN:VCALENDAR
VERSION:2.0
PRODID:-//伍德兰公园动物园 - ECPv6.15.20//NONSGML v1.0//EN
CALSCALE:GREGORIAN
METHOD:PUBLISH
X-ORIGINAL-URL:https://zoo.org/zh-hans/
X-WR-CALDESC:伍德兰公园动物园的活动
REFRESH-INTERVAL;VALUE=DURATION:PT1H
X-Robots-Tag:noindex
X-PUBLISHED-TTL:PT1H
BEGIN:VTIMEZONE
TZID:America/Los_Angeles
BEGIN:DAYLIGHT
TZOFFSETFROM:-0800
TZOFFSETTO:-0700
TZNAME:PDT
DTSTART:20250309T100000
END:DAYLIGHT
BEGIN:STANDARD
TZOFFSETFROM:-0700
TZOFFSETTO:-0800
TZNAME:PST
DTSTART:20251102T090000
END:STANDARD
BEGIN:DAYLIGHT
TZOFFSETFROM:-0800
TZOFFSETTO:-0700
TZNAME:PDT
DTSTART:20260308T100000
END:DAYLIGHT
BEGIN:STANDARD
TZOFFSETFROM:-0700
TZOFFSETTO:-0800
TZNAME:PST
DTSTART:20261101T090000
END:STANDARD
BEGIN:DAYLIGHT
TZOFFSETFROM:-0800
TZOFFSETTO:-0700
TZNAME:PDT
DTSTART:20270314T100000
END:DAYLIGHT
BEGIN:STANDARD
TZOFFSETFROM:-0700
TZOFFSETTO:-0800
TZNAME:PST
DTSTART:20271107T090000
END:STANDARD
END:VTIMEZONE
BEGIN:VEVENT
DTSTART;TZID=America/Los_Angeles:20260805T083000
DTEND;TZID=America/Los_Angeles:20260805T093000
DTSTAMP:20260420T080921
CREATED:20260320T181917Z
LAST-MODIFIED:20260320T182329Z
UID:10001345-1785918600-1785922200@zoo.org
SUMMARY:动物园的放牧：与企鹅一起吃煎饼
DESCRIPTION:“与企鹅煎饼”是一场无与伦比的早餐体验，宾客可以早早进入动物园，享用丰盛的松软煎饼、新鲜水果和美味配料——并可亲临洪堡企鹅展区。根据当天情况，你可能会听到守护者讲座或吉祥物的访问。无论你是早餐爱好者、企鹅爱好者，还是两者兼有，这场温馨的早晨聚会都是开启一天的完美方式——配有免费的Tree Kangaroo Conservation Coffee、橙汁和注入水。持有有效21+身份证的宾客可购买含羞草酒。    \n企鹅煎饼入口仅限西入口。
URL:https://zoo.org/zh-hans/event/%e4%bc%81%e9%b9%85%e7%85%8e%e9%a5%bc/2026-08-05/
LOCATION:伍德兰公园动物园\, 5500 芬尼大道北 \, 西雅图\, 西澳\, 98103\, United States
CATEGORIES:家庭/公众
ATTACH;FMTTYPE=image/jpeg:https://zoo.org/wp-content/uploads/2026/03/pancakes-with-penguins-081.jpg
END:VEVENT
END:VCALENDAR