BEGIN:VCALENDAR
VERSION:2.0
PRODID:-//伍德兰公园动物园 - ECPv6.15.20//NONSGML v1.0//EN
CALSCALE:GREGORIAN
METHOD:PUBLISH
X-ORIGINAL-URL:https://zoo.org/zh-hans/
X-WR-CALDESC:伍德兰公园动物园的活动
REFRESH-INTERVAL;VALUE=DURATION:PT1H
X-Robots-Tag:noindex
X-PUBLISHED-TTL:PT1H
BEGIN:VTIMEZONE
TZID:America/Los_Angeles
BEGIN:DAYLIGHT
TZOFFSETFROM:-0800
TZOFFSETTO:-0700
TZNAME:PDT
DTSTART:20240310T100000
END:DAYLIGHT
BEGIN:STANDARD
TZOFFSETFROM:-0700
TZOFFSETTO:-0800
TZNAME:PST
DTSTART:20241103T090000
END:STANDARD
BEGIN:DAYLIGHT
TZOFFSETFROM:-0800
TZOFFSETTO:-0700
TZNAME:PDT
DTSTART:20250309T100000
END:DAYLIGHT
BEGIN:STANDARD
TZOFFSETFROM:-0700
TZOFFSETTO:-0800
TZNAME:PST
DTSTART:20251102T090000
END:STANDARD
BEGIN:DAYLIGHT
TZOFFSETFROM:-0800
TZOFFSETTO:-0700
TZNAME:PDT
DTSTART:20260308T100000
END:DAYLIGHT
BEGIN:STANDARD
TZOFFSETFROM:-0700
TZOFFSETTO:-0800
TZNAME:PST
DTSTART:20261101T090000
END:STANDARD
END:VTIMEZONE
BEGIN:VEVENT
DTSTART;TZID=America/Los_Angeles:20250705T080000
DTEND;TZID=America/Los_Angeles:20250705T091500
DTSTAMP:20260424T133624
CREATED:20250723T210117Z
LAST-MODIFIED:20250723T210117Z
UID:10001080-1751702400-1751706900@zoo.org
SUMMARY:动物园的放牧：与企鹅一起吃煎饼
DESCRIPTION:“与企鹅共度煎饼”是一场独特的早餐体验，游客可以早早进入动物园，享用丰盛的松软煎饼、新鲜水果和美味配料——所有这些都能在前排观看企鹅展区。根据当天情况，你可能会听到守护者讲座或吉祥物的访问。无论你是早餐爱好者、企鹅爱好者，还是两者兼有，这场温馨的早晨聚会都是开启一天的完美方式——配有免费咖啡和橙汁。持有有效21+身份证的宾客可购买含羞草或血腥玛丽饮品。
URL:https://zoo.org/zh-hans/event/%e5%8a%a8%e7%89%a9%e5%9b%ad%e7%9a%84%e6%94%be%e7%89%a7%ef%bc%9a%e4%b8%8e%e4%bc%81%e9%b9%85%e4%b8%80%e8%b5%b7%e5%90%83%e7%85%8e%e9%a5%bc-7/
LOCATION:洪堡企鹅展览\, 5500 芬尼大道北 \, 西雅图\, 西澳\, 98103\, United States
CATEGORIES:家庭/公众
ATTACH;FMTTYPE=image/jpeg:https://zoo.org/wp-content/uploads/2025/07/pancakes-with-penguins-069.jpg
END:VEVENT
BEGIN:VEVENT
DTSTART;TZID=America/Los_Angeles:20250705T110000
DTEND;TZID=America/Los_Angeles:20250705T123000
DTSTAMP:20260424T133624
CREATED:20250723T210042Z
LAST-MODIFIED:20250723T210042Z
UID:10001029-1751713200-1751718600@zoo.org
SUMMARY:动物园的牧草：下午茶
DESCRIPTION:坐落在郁郁葱葱的绿意和鲜艳的花朵之间，宾客们将享用分层甜咸甜点，从精致的茶点三明治到小点心和新鲜出炉的司康饼应有尽有。非常适合母亲节出游、与朋友的特别聚会，或与亲友共度宁静假期，这场迷人的活动是为大自然之美举杯——21+岁的宾客还可免费享用一杯普罗塞克。  精心策划的套餐将包括多样的素食选择和新鲜水果。 门票包含动物园门票。
URL:https://zoo.org/zh-hans/event/%e5%8a%a8%e7%89%a9%e5%9b%ad%e7%9a%84%e7%89%a7%e8%8d%89%ef%bc%9a%e4%b8%8b%e5%8d%88%e8%8c%b6-12/
LOCATION:Microsoft 授粉者露台\, 5500 芬尼大道北 \, 西雅图\, 98103\, United States
CATEGORIES:家庭/公众
ATTACH;FMTTYPE=image/jpeg:https://zoo.org/wp-content/uploads/2025/07/2025_Grazing-at-the-zoo-21_web.jpg
END:VEVENT
BEGIN:VEVENT
DTSTART;TZID=America/Los_Angeles:20250705T130000
DTEND;TZID=America/Los_Angeles:20250705T143000
DTSTAMP:20260424T133624
CREATED:20250723T210044Z
LAST-MODIFIED:20250723T210044Z
UID:10001024-1751720400-1751725800@zoo.org
SUMMARY:动物园的牧草：下午茶
DESCRIPTION:坐落在郁郁葱葱的绿意和鲜艳的花朵之间，宾客们将享用分层甜咸甜点，从精致的茶点三明治到小点心和新鲜出炉的司康饼应有尽有。非常适合母亲节出游、与朋友的特别聚会，或与亲友共度宁静假期，这场迷人的活动是为大自然之美举杯——21+岁的宾客还可免费享用一杯普罗塞克。  精心策划的套餐将包括多样的素食选择和新鲜水果。 门票包含动物园门票。
URL:https://zoo.org/zh-hans/event/%e5%8a%a8%e7%89%a9%e5%9b%ad%e7%9a%84%e7%89%a7%e8%8d%89%ef%bc%9a%e4%b8%8b%e5%8d%88%e8%8c%b6-11/
LOCATION:Microsoft 授粉者露台\, 5500 芬尼大道北 \, 西雅图\, 98103\, United States
CATEGORIES:家庭/公众
ATTACH;FMTTYPE=image/jpeg:https://zoo.org/wp-content/uploads/2025/07/2025_Grazing-at-the-zoo-21_web.jpg
END:VEVENT
BEGIN:VEVENT
DTSTART;TZID=America/Los_Angeles:20250723T163000
DTEND;TZID=America/Los_Angeles:20250723T210000
DTSTAMP:20260424T133624
CREATED:20250717T040050Z
LAST-MODIFIED:20250717T040050Z
UID:10000863-1753288200-1753304400@zoo.org
SUMMARY:动物园音乐：Devo
DESCRIPTION:BECU ZooTunes 由卡特·斯巴鲁呈现\n参见音乐会。拯救动物。  \n伍德兰公园动物园很高兴今年夏天欢迎游客重返草地，参加由卡特斯巴鲁呈献的第41届年度BECU动物园音乐节！今年的演唱会季阵容非常精彩，深受喜爱的回归艺术家和首次登上ZooTunes的艺术家！准备好迎接充满精彩音乐和难忘时刻的夏天，尽在ZooTunes吧！   \n门票仅限在线购买，不会在动物园门口销售。 \n*结束时间为近似
URL:https://zoo.org/zh-hans/event/%e5%8a%a8%e7%89%a9%e5%9b%ad%e9%9f%b3%e4%b9%90%ef%bc%9adevo/
LOCATION:伍德兰公园动物园\, 5500 芬尼大道北 \, 西雅图\, 西澳\, 98103\, United States
CATEGORIES:音乐娱乐
ATTACH;FMTTYPE=image/jpeg:https://zoo.org/wp-content/uploads/2025/07/DEVO-Band-Photo-high-res-BY_JAY_SPENCER-2023.jpg
END:VEVENT
BEGIN:VEVENT
DTSTART;TZID=America/Los_Angeles:20250724T163000
DTEND;TZID=America/Los_Angeles:20250724T210000
DTSTAMP:20260424T133624
CREATED:20250723T000019Z
LAST-MODIFIED:20250723T000019Z
UID:10000965-1753374600-1753390800@zoo.org
SUMMARY:动物园音乐：Devo
DESCRIPTION:BECU ZooTunes 由卡特·斯巴鲁呈现\n参见音乐会。拯救动物。  \n伍德兰公园动物园很高兴今年夏天欢迎游客重返草地，参加由卡特斯巴鲁呈献的第41届年度BECU动物园音乐节！今年的演唱会季阵容非常精彩，深受喜爱的回归艺术家和首次登上ZooTunes的艺术家！准备好迎接充满精彩音乐和难忘时刻的夏天，尽在ZooTunes吧！   \n门票仅限在线购买，不会在动物园门口销售。 \n*结束时间为近似
URL:https://zoo.org/zh-hans/event/%e5%8a%a8%e7%89%a9%e5%9b%ad%e9%9f%b3%e4%b9%90%ef%bc%9adevo-2/
LOCATION:伍德兰公园动物园\, 5500 芬尼大道北 \, 西雅图\, 西澳\, 98103\, United States
CATEGORIES:音乐娱乐
ATTACH;FMTTYPE=image/jpeg:https://zoo.org/wp-content/uploads/2025/07/DEVO-Band-Photo-high-res-BY_JAY_SPENCER-2023.jpg
END:VEVENT
BEGIN:VEVENT
DTSTART;TZID=America/Los_Angeles:20250726T113000
DTEND;TZID=America/Los_Angeles:20250726T200000
DTSTAMP:20260424T133624
CREATED:20250723T210245Z
LAST-MODIFIED:20250723T210245Z
UID:10000590-1753529400-1753560000@zoo.org
SUMMARY:动物园无限（21+）
DESCRIPTION:你那全包式、仅限成人的夏日欢乐日。召集你的朋友们，今天就预订你的冒险之旅吧！这里有太多值得看的地方和动物园！享受伍德兰公园动物园首次全包式、仅限成人的一天游。
URL:https://zoo.org/zh-hans/event/%e5%8a%a8%e7%89%a9%e5%9b%ad%e6%97%a0%e9%99%90%ef%bc%8821%ef%bc%89/
LOCATION:伍德兰公园动物园\, 5500 芬尼大道北 \, 西雅图\, 西澳\, 98103\, United States
CATEGORIES:仅限成人
END:VEVENT
BEGIN:VEVENT
DTSTART;TZID=America/Los_Angeles:20250727T100000
DTEND;TZID=America/Los_Angeles:20250727T140000
DTSTAMP:20260424T133624
CREATED:20250723T210245Z
LAST-MODIFIED:20250723T210245Z
UID:10000595-1753610400-1753624800@zoo.org
SUMMARY:残疾人骄傲节
DESCRIPTION:欢迎来玫瑰园参加各种活动和信息摊位，享受美国手语故事时间和其他活动，并来我们的流动图书车看看。漫步西雅图感官花园，听一个盲文增强的故事：“我是一件杰作！一个关于包容性和唐氏综合症成长的赋权故事》，作者：Mia Armstrong。
URL:https://zoo.org/zh-hans/event/%e6%ae%8b%e7%96%be%e4%ba%ba%e9%aa%84%e5%82%b2%e8%8a%82/
LOCATION:玫瑰园\, 5500 芬尼大道北 \, 西雅图\, 西澳\, 98103\, United States
CATEGORIES:家庭/公众
END:VEVENT
BEGIN:VEVENT
DTSTART;TZID=America/Los_Angeles:20250728T163000
DTEND;TZID=America/Los_Angeles:20250728T213000
DTSTAMP:20260424T133624
CREATED:20250717T034300Z
LAST-MODIFIED:20250717T034300Z
UID:10000934-1753720200-1753738200@zoo.org
SUMMARY:动物园音乐：雷吉娜·斯佩克特
DESCRIPTION:BECU ZooTunes 由卡特·斯巴鲁呈现\n参见音乐会。拯救动物。  \n伍德兰公园动物园很高兴今年夏天欢迎游客重返草地，参加由卡特斯巴鲁呈献的第41届年度BECU动物园音乐节！今年的演唱会季阵容非常精彩，深受喜爱的回归艺术家和首次登上ZooTunes的艺术家！准备好迎接充满精彩音乐和难忘时刻的夏天，尽在ZooTunes吧！   \n门票仅限在线购买，不会在动物园门口销售。 \n*结束时间为近似
URL:https://zoo.org/zh-hans/event/%e5%8a%a8%e7%89%a9%e5%9b%ad%e9%9f%b3%e4%b9%90%ef%bc%9a%e9%9b%b7%e5%90%89%e5%a8%9c%c2%b7%e6%96%af%e4%bd%a9%e5%85%8b%e7%89%b9/
LOCATION:伍德兰公园动物园\, 5500 芬尼大道北 \, 西雅图\, 西澳\, 98103\, United States
CATEGORIES:音乐娱乐
ATTACH;FMTTYPE=image/jpeg:https://zoo.org/wp-content/uploads/2025/07/regina-spektor.jpg
END:VEVENT
END:VCALENDAR