BEGIN:VCALENDAR
VERSION:2.0
PRODID:-//伍德兰公园动物园 - ECPv6.15.20//NONSGML v1.0//EN
CALSCALE:GREGORIAN
METHOD:PUBLISH
X-ORIGINAL-URL:https://zoo.org/zh-hans/
X-WR-CALDESC:伍德兰公园动物园的活动
REFRESH-INTERVAL;VALUE=DURATION:PT1H
X-Robots-Tag:noindex
X-PUBLISHED-TTL:PT1H
BEGIN:VTIMEZONE
TZID:America/Los_Angeles
BEGIN:DAYLIGHT
TZOFFSETFROM:-0800
TZOFFSETTO:-0700
TZNAME:PDT
DTSTART:20250309T100000
END:DAYLIGHT
BEGIN:STANDARD
TZOFFSETFROM:-0700
TZOFFSETTO:-0800
TZNAME:PST
DTSTART:20251102T090000
END:STANDARD
BEGIN:DAYLIGHT
TZOFFSETFROM:-0800
TZOFFSETTO:-0700
TZNAME:PDT
DTSTART:20260308T100000
END:DAYLIGHT
BEGIN:STANDARD
TZOFFSETFROM:-0700
TZOFFSETTO:-0800
TZNAME:PST
DTSTART:20261101T090000
END:STANDARD
BEGIN:DAYLIGHT
TZOFFSETFROM:-0800
TZOFFSETTO:-0700
TZNAME:PDT
DTSTART:20270314T100000
END:DAYLIGHT
BEGIN:STANDARD
TZOFFSETFROM:-0700
TZOFFSETTO:-0800
TZNAME:PST
DTSTART:20271107T090000
END:STANDARD
END:VTIMEZONE
BEGIN:VEVENT
DTSTART;TZID=America/Los_Angeles:20260701T163000
DTEND;TZID=America/Los_Angeles:20260701T203000
DTSTAMP:20260420T093714
CREATED:20260223T230349Z
LAST-MODIFIED:20260303T191608Z
UID:10001162-1782923400-1782937800@zoo.org
SUMMARY:ZooTunes：带着真爱的复兴者
DESCRIPTION:BECU ZooTunes 由卡特·斯巴鲁呈现\n参见音乐会。拯救动物。  \n伍德兰公园动物园非常高兴欢迎游客回归，参加第42届由卡特斯巴鲁呈献的年度BECU动物园音乐节！ \n这个备受喜爱的户外夏季音乐会系列以令人兴奋的新阵容回归。加入我们，在草地上体验一场独一无二的音乐会体验，这里是伟大的音乐与标志性的野性环境，位于西雅图市中心。  \n购票 \n添加动物精品板 \n门票仅限在线购买，不会在动物园门口销售。 \n*结束时间为近似
URL:https://zoo.org/zh-hans/event/zootunes%ef%bc%9a%e5%b8%a6%e7%9d%80%e7%9c%9f%e7%88%b1%e7%9a%84%e5%a4%8d%e5%85%b4%e8%80%85/
LOCATION:伍德兰公园动物园\, 5500 芬尼大道北 \, 西雅图\, 西澳\, 98103\, United States
CATEGORIES:音乐娱乐
ATTACH;FMTTYPE=image/jpeg:https://zoo.org/wp-content/uploads/2026/02/Revivalists_AG_113-2.jpg
END:VEVENT
BEGIN:VEVENT
DTSTART;TZID=America/Los_Angeles:20260705T083000
DTEND;TZID=America/Los_Angeles:20260705T093000
DTSTAMP:20260420T093714
CREATED:20260320T181917Z
LAST-MODIFIED:20260320T182329Z
UID:10001344-1783240200-1783243800@zoo.org
SUMMARY:动物园的放牧：与企鹅一起吃煎饼
DESCRIPTION:“与企鹅煎饼”是一场无与伦比的早餐体验，宾客可以早早进入动物园，享用丰盛的松软煎饼、新鲜水果和美味配料——并可亲临洪堡企鹅展区。根据当天情况，你可能会听到守护者讲座或吉祥物的访问。无论你是早餐爱好者、企鹅爱好者，还是两者兼有，这场温馨的早晨聚会都是开启一天的完美方式——配有免费的Tree Kangaroo Conservation Coffee、橙汁和注入水。持有有效21+身份证的宾客可购买含羞草酒。    \n企鹅煎饼入口仅限西入口。
URL:https://zoo.org/zh-hans/event/%e4%bc%81%e9%b9%85%e7%85%8e%e9%a5%bc/2026-07-05/
LOCATION:伍德兰公园动物园\, 5500 芬尼大道北 \, 西雅图\, 西澳\, 98103\, United States
CATEGORIES:家庭/公众
ATTACH;FMTTYPE=image/jpeg:https://zoo.org/wp-content/uploads/2026/03/pancakes-with-penguins-081.jpg
END:VEVENT
BEGIN:VEVENT
DTSTART;TZID=America/Los_Angeles:20260705T103000
DTEND;TZID=America/Los_Angeles:20260705T113000
DTSTAMP:20260420T093714
CREATED:20260323T211600Z
LAST-MODIFIED:20260323T211600Z
UID:10001558-1783247400-1783251000@zoo.org
SUMMARY:动物园的牧草：下午茶
DESCRIPTION:品味、放松身心，享受这场优雅的下午茶体验，尽情欣赏Microsoft授粉者露台的美丽。 茶塔坐落于郁郁葱葱的绿意和鲜艳的花朵之间，宾客们将享用满载甜咸美食的自助区，从精致的茶叶三明治到小点心应有尽有。非常适合母亲节出游、与朋友的特别聚会，或与亲友共度宁静假期，这场迷人的活动是为大自然之美举杯——21+岁的宾客还可免费享用一杯普罗塞克。
URL:https://zoo.org/zh-hans/event/%e5%8a%a8%e7%89%a9%e5%9b%ad%e7%9a%84%e7%89%a7%e8%8d%89%ef%bc%9a%e4%b8%8b%e5%8d%88%e8%8c%b6-21/2026-07-05/1/
LOCATION:伍德兰公园动物园\, 5500 芬尼大道北 \, 西雅图\, 西澳\, 98103\, United States
CATEGORIES:家庭/公众
ATTACH;FMTTYPE=image/jpeg:https://zoo.org/wp-content/uploads/2025/07/2025_Grazing-at-the-zoo-21_web.jpg
END:VEVENT
BEGIN:VEVENT
DTSTART;TZID=America/Los_Angeles:20260705T110000
DTEND;TZID=America/Los_Angeles:20260705T120000
DTSTAMP:20260420T093714
CREATED:20260323T211600Z
LAST-MODIFIED:20260323T211600Z
UID:10001559-1783249200-1783252800@zoo.org
SUMMARY:动物园的牧草：下午茶
DESCRIPTION:品味、放松身心，享受这场优雅的下午茶体验，尽情欣赏Microsoft授粉者露台的美丽。 茶塔坐落于郁郁葱葱的绿意和鲜艳的花朵之间，宾客们将享用满载甜咸美食的自助区，从精致的茶叶三明治到小点心应有尽有。非常适合母亲节出游、与朋友的特别聚会，或与亲友共度宁静假期，这场迷人的活动是为大自然之美举杯——21+岁的宾客还可免费享用一杯普罗塞克。
URL:https://zoo.org/zh-hans/event/%e5%8a%a8%e7%89%a9%e5%9b%ad%e7%9a%84%e7%89%a7%e8%8d%89%ef%bc%9a%e4%b8%8b%e5%8d%88%e8%8c%b6-21/2026-07-05/2/
LOCATION:伍德兰公园动物园\, 5500 芬尼大道北 \, 西雅图\, 西澳\, 98103\, United States
CATEGORIES:家庭/公众
ATTACH;FMTTYPE=image/jpeg:https://zoo.org/wp-content/uploads/2025/07/2025_Grazing-at-the-zoo-21_web.jpg
END:VEVENT
BEGIN:VEVENT
DTSTART;TZID=America/Los_Angeles:20260705T130000
DTEND;TZID=America/Los_Angeles:20260705T140000
DTSTAMP:20260420T093714
CREATED:20260323T211600Z
LAST-MODIFIED:20260323T211600Z
UID:10001560-1783256400-1783260000@zoo.org
SUMMARY:动物园的牧草：下午茶
DESCRIPTION:品味、放松身心，享受这场优雅的下午茶体验，尽情欣赏Microsoft授粉者露台的美丽。 茶塔坐落于郁郁葱葱的绿意和鲜艳的花朵之间，宾客们将享用满载甜咸美食的自助区，从精致的茶叶三明治到小点心应有尽有。非常适合母亲节出游、与朋友的特别聚会，或与亲友共度宁静假期，这场迷人的活动是为大自然之美举杯——21+岁的宾客还可免费享用一杯普罗塞克。
URL:https://zoo.org/zh-hans/event/%e5%8a%a8%e7%89%a9%e5%9b%ad%e7%9a%84%e7%89%a7%e8%8d%89%ef%bc%9a%e4%b8%8b%e5%8d%88%e8%8c%b6-21/2026-07-05/3/
LOCATION:伍德兰公园动物园\, 5500 芬尼大道北 \, 西雅图\, 西澳\, 98103\, United States
CATEGORIES:家庭/公众
ATTACH;FMTTYPE=image/jpeg:https://zoo.org/wp-content/uploads/2025/07/2025_Grazing-at-the-zoo-21_web.jpg
END:VEVENT
BEGIN:VEVENT
DTSTART;TZID=America/Los_Angeles:20260705T133000
DTEND;TZID=America/Los_Angeles:20260705T143000
DTSTAMP:20260420T093714
CREATED:20260323T211600Z
LAST-MODIFIED:20260323T211600Z
UID:10001561-1783258200-1783261800@zoo.org
SUMMARY:动物园的牧草：下午茶
DESCRIPTION:品味、放松身心，享受这场优雅的下午茶体验，尽情欣赏Microsoft授粉者露台的美丽。 茶塔坐落于郁郁葱葱的绿意和鲜艳的花朵之间，宾客们将享用满载甜咸美食的自助区，从精致的茶叶三明治到小点心应有尽有。非常适合母亲节出游、与朋友的特别聚会，或与亲友共度宁静假期，这场迷人的活动是为大自然之美举杯——21+岁的宾客还可免费享用一杯普罗塞克。
URL:https://zoo.org/zh-hans/event/%e5%8a%a8%e7%89%a9%e5%9b%ad%e7%9a%84%e7%89%a7%e8%8d%89%ef%bc%9a%e4%b8%8b%e5%8d%88%e8%8c%b6-21/2026-07-05/4/
LOCATION:伍德兰公园动物园\, 5500 芬尼大道北 \, 西雅图\, 西澳\, 98103\, United States
CATEGORIES:家庭/公众
ATTACH;FMTTYPE=image/jpeg:https://zoo.org/wp-content/uploads/2025/07/2025_Grazing-at-the-zoo-21_web.jpg
END:VEVENT
BEGIN:VEVENT
DTSTART;TZID=America/Los_Angeles:20260710T160000
DTEND;TZID=America/Los_Angeles:20260710T213000
DTSTAMP:20260420T093714
CREATED:20260224T182920Z
LAST-MODIFIED:20260227T191115Z
UID:10001217-1783699200-1783719000@zoo.org
SUMMARY:丛林派对
DESCRIPTION:野性的声音\n欢迎加入我们的50周年活动！ \n地点：伍德兰公园动物园北草地 \n2026年7月10日，欢迎加入我们，共同庆祝丛林派对50周年！今年的主题是“野性的声音”，强调我们作为野生动物发声者的责任，并认识到人们有能力创造持久的保护变革。  \n今年的丛林派对将包括现场和无声拍卖、美食晚宴、主办酒吧、由著名本地厨师和酿酒师提供的精致小吃和华盛顿优质葡萄酒、近距离动物邂逅等精彩内容。 \n 
URL:https://zoo.org/zh-hans/event/%e4%b8%9b%e6%9e%97%e6%b4%be%e5%af%b9/
LOCATION:伍德兰公园动物园\, 5500 芬尼大道北 \, 西雅图\, 西澳\, 98103\, United States
CATEGORIES:仅限成人
ATTACH;FMTTYPE=image/jpeg:https://zoo.org/wp-content/uploads/2026/02/2025-Jungle-Party-37-JDL.jpg
END:VEVENT
BEGIN:VEVENT
DTSTART;TZID=America/Los_Angeles:20260719T163000
DTEND;TZID=America/Los_Angeles:20260719T203000
DTSTAMP:20260420T093714
CREATED:20260223T230611Z
LAST-MODIFIED:20260318T163531Z
UID:10001157-1784478600-1784493000@zoo.org
SUMMARY:动物园音乐：铺路
DESCRIPTION:BECU ZooTunes 由卡特·斯巴鲁呈现\n参见音乐会。拯救动物。  \n伍德兰公园动物园非常高兴欢迎游客回归，参加第42届由卡特斯巴鲁呈献的年度BECU动物园音乐节！ \n这个备受喜爱的户外夏季音乐会系列以令人兴奋的新阵容回归。加入我们，在草地上体验一场独一无二的音乐会体验，这里是伟大的音乐与标志性的野性环境，位于西雅图市中心。  \n添加动物精品板 \n门票仅限在线购买，不会在动物园门口销售。 \n*结束时间为近似
URL:https://zoo.org/zh-hans/event/%e5%8a%a8%e7%89%a9%e5%9b%ad%e9%9f%b3%e4%b9%90%ef%bc%9a%e9%93%ba%e8%b7%af/
LOCATION:伍德兰公园动物园\, 5500 芬尼大道北 \, 西雅图\, 西澳\, 98103\, United States
CATEGORIES:音乐娱乐
ATTACH;FMTTYPE=image/jpeg:https://zoo.org/wp-content/uploads/2026/02/pavement-poonehghana-2-.jpg
END:VEVENT
BEGIN:VEVENT
DTSTART;TZID=America/Los_Angeles:20260723T163000
DTEND;TZID=America/Los_Angeles:20260723T203000
DTSTAMP:20260420T093714
CREATED:20260223T230658Z
LAST-MODIFIED:20260303T191251Z
UID:10001198-1784824200-1784838600@zoo.org
SUMMARY:动物园音乐：马伦·莫里斯
DESCRIPTION:BECU ZooTunes 由卡特·斯巴鲁呈现\n参见音乐会。拯救动物。  \n伍德兰公园动物园非常高兴欢迎游客回归，参加第42届由卡特斯巴鲁呈献的年度BECU动物园音乐节！ \n这个备受喜爱的户外夏季音乐会系列以令人兴奋的新阵容回归。加入我们，在草地上体验一场独一无二的音乐会体验，这里是伟大的音乐与标志性的野性环境，位于西雅图市中心。  \n购票 \n添加动物精品板 \n门票仅限在线购买，不会在动物园门口销售。 \n*结束时间为近似
URL:https://zoo.org/zh-hans/event/%e5%8a%a8%e7%89%a9%e5%9b%ad%e9%9f%b3%e4%b9%90%ef%bc%9a%e9%a9%ac%e4%bc%a6%c2%b7%e8%8e%ab%e9%87%8c%e6%96%af/
LOCATION:伍德兰公园动物园\, 5500 芬尼大道北 \, 西雅图\, 西澳\, 98103\, United States
CATEGORIES:音乐娱乐
ATTACH;FMTTYPE=image/jpeg:https://zoo.org/wp-content/uploads/2026/02/Maren-Morris.jpg
END:VEVENT
BEGIN:VEVENT
DTSTART;TZID=America/Los_Angeles:20260726T090000
DTEND;TZID=America/Los_Angeles:20260726T100000
DTSTAMP:20260420T093714
CREATED:20260320T183446Z
LAST-MODIFIED:20260320T183446Z
UID:10001389-1785056400-1785060000@zoo.org
SUMMARY:动物园牧场：早午餐俱乐部
DESCRIPTION:在动物园内享用早午餐，享受这场美味的用餐体验，地点是动物园最美丽的区域之一——葱郁的榕树荒野。享受新鲜风味、优美风景，以及与野生动物互动的机会，轻松的氛围非常适合朋友、家人，或任何认为早午餐更适合自然享受的人。  \n早午餐俱乐部仅从西入口进入。 \n宾客可购买含羞草或贝里尼酒，21+小时。
URL:https://zoo.org/zh-hans/event/%e5%8a%a8%e7%89%a9%e5%9b%ad%e7%89%a7%e5%9c%ba%ef%bc%9a%e6%97%a9%e5%8d%88%e9%a4%90%e4%bf%b1%e4%b9%90%e9%83%a8-7/2026-07-26/
LOCATION:伍德兰公园动物园\, 5500 芬尼大道北 \, 西雅图\, 西澳\, 98103\, United States
CATEGORIES:家庭/公众
ATTACH;FMTTYPE=image/jpeg:https://zoo.org/wp-content/uploads/2025/09/Brunch3.jpg
END:VEVENT
END:VCALENDAR