BEGIN:VCALENDAR
VERSION:2.0
PRODID:-//伍德兰公园动物园 - ECPv6.15.20//NONSGML v1.0//EN
CALSCALE:GREGORIAN
METHOD:PUBLISH
X-WR-CALNAME:伍德兰公园动物园
X-ORIGINAL-URL:https://zoo.org/zh-hans/
X-WR-CALDESC:伍德兰公园动物园的活动
REFRESH-INTERVAL;VALUE=DURATION:PT1H
X-Robots-Tag:noindex
X-PUBLISHED-TTL:PT1H
BEGIN:VTIMEZONE
TZID:America/Los_Angeles
BEGIN:DAYLIGHT
TZOFFSETFROM:-0800
TZOFFSETTO:-0700
TZNAME:PDT
DTSTART:20250309T100000
END:DAYLIGHT
BEGIN:STANDARD
TZOFFSETFROM:-0700
TZOFFSETTO:-0800
TZNAME:PST
DTSTART:20251102T090000
END:STANDARD
BEGIN:DAYLIGHT
TZOFFSETFROM:-0800
TZOFFSETTO:-0700
TZNAME:PDT
DTSTART:20260308T100000
END:DAYLIGHT
BEGIN:STANDARD
TZOFFSETFROM:-0700
TZOFFSETTO:-0800
TZNAME:PST
DTSTART:20261101T090000
END:STANDARD
BEGIN:DAYLIGHT
TZOFFSETFROM:-0800
TZOFFSETTO:-0700
TZNAME:PDT
DTSTART:20270314T100000
END:DAYLIGHT
BEGIN:STANDARD
TZOFFSETFROM:-0700
TZOFFSETTO:-0800
TZNAME:PST
DTSTART:20271107T090000
END:STANDARD
END:VTIMEZONE
BEGIN:VEVENT
DTSTART;TZID=America/Los_Angeles:20260902T083000
DTEND;TZID=America/Los_Angeles:20260902T093000
DTSTAMP:20260420T051455
CREATED:20260320T181917Z
LAST-MODIFIED:20260320T182329Z
UID:10001349-1788337800-1788341400@zoo.org
SUMMARY:动物园的放牧：与企鹅一起吃煎饼
DESCRIPTION:“与企鹅煎饼”是一场无与伦比的早餐体验，宾客可以早早进入动物园，享用丰盛的松软煎饼、新鲜水果和美味配料——并可亲临洪堡企鹅展区。根据当天情况，你可能会听到守护者讲座或吉祥物的访问。无论你是早餐爱好者、企鹅爱好者，还是两者兼有，这场温馨的早晨聚会都是开启一天的完美方式——配有免费的Tree Kangaroo Conservation Coffee、橙汁和注入水。持有有效21+身份证的宾客可购买含羞草酒。    \n企鹅煎饼入口仅限西入口。
URL:https://zoo.org/zh-hans/event/%e4%bc%81%e9%b9%85%e7%85%8e%e9%a5%bc/2026-09-02/
LOCATION:伍德兰公园动物园\, 5500 芬尼大道北 \, 西雅图\, 西澳\, 98103\, United States
CATEGORIES:家庭/公众
ATTACH;FMTTYPE=image/jpeg:https://zoo.org/wp-content/uploads/2026/03/pancakes-with-penguins-081.jpg
END:VEVENT
BEGIN:VEVENT
DTSTART;TZID=America/Los_Angeles:20260906T090000
DTEND;TZID=America/Los_Angeles:20260906T100000
DTSTAMP:20260420T051455
CREATED:20260320T183446Z
LAST-MODIFIED:20260320T183446Z
UID:10001390-1788685200-1788688800@zoo.org
SUMMARY:动物园牧场：早午餐俱乐部
DESCRIPTION:在动物园内享用早午餐，享受这场美味的用餐体验，地点是动物园最美丽的区域之一——葱郁的榕树荒野。享受新鲜风味、优美风景，以及与野生动物互动的机会，轻松的氛围非常适合朋友、家人，或任何认为早午餐更适合自然享受的人。  \n早午餐俱乐部仅从西入口进入。 \n宾客可购买含羞草或贝里尼酒，21+小时。
URL:https://zoo.org/zh-hans/event/%e5%8a%a8%e7%89%a9%e5%9b%ad%e7%89%a7%e5%9c%ba%ef%bc%9a%e6%97%a9%e5%8d%88%e9%a4%90%e4%bf%b1%e4%b9%90%e9%83%a8-7/2026-09-06/
LOCATION:伍德兰公园动物园\, 5500 芬尼大道北 \, 西雅图\, 西澳\, 98103\, United States
CATEGORIES:家庭/公众
ATTACH;FMTTYPE=image/jpeg:https://zoo.org/wp-content/uploads/2025/09/Brunch3.jpg
END:VEVENT
BEGIN:VEVENT
DTSTART;TZID=America/Los_Angeles:20260913T090000
DTEND;TZID=America/Los_Angeles:20260913T100000
DTSTAMP:20260420T051455
CREATED:20260320T183446Z
LAST-MODIFIED:20260320T183446Z
UID:10001391-1789290000-1789293600@zoo.org
SUMMARY:动物园牧场：早午餐俱乐部
DESCRIPTION:在动物园内享用早午餐，享受这场美味的用餐体验，地点是动物园最美丽的区域之一——葱郁的榕树荒野。享受新鲜风味、优美风景，以及与野生动物互动的机会，轻松的氛围非常适合朋友、家人，或任何认为早午餐更适合自然享受的人。  \n早午餐俱乐部仅从西入口进入。 \n宾客可购买含羞草或贝里尼酒，21+小时。
URL:https://zoo.org/zh-hans/event/%e5%8a%a8%e7%89%a9%e5%9b%ad%e7%89%a7%e5%9c%ba%ef%bc%9a%e6%97%a9%e5%8d%88%e9%a4%90%e4%bf%b1%e4%b9%90%e9%83%a8-7/2026-09-13/
LOCATION:伍德兰公园动物园\, 5500 芬尼大道北 \, 西雅图\, 西澳\, 98103\, United States
CATEGORIES:家庭/公众
ATTACH;FMTTYPE=image/jpeg:https://zoo.org/wp-content/uploads/2025/09/Brunch3.jpg
END:VEVENT
BEGIN:VEVENT
DTSTART;TZID=America/Los_Angeles:20260913T123000
DTEND;TZID=America/Los_Angeles:20260913T150000
DTSTAMP:20260420T051455
CREATED:20260323T221450Z
LAST-MODIFIED:20260323T221450Z
UID:10001654-1789302600-1789311600@zoo.org
SUMMARY:与大自然的邂逅：艾玛·贾尔斯
DESCRIPTION:“与自然的交融”邀请各类艺术家在伍德兰公园动物园标志性地点，被令人惊叹的背景包围，尽情发挥创意。
URL:https://zoo.org/zh-hans/event/%e4%b8%8e%e5%a4%a7%e8%87%aa%e7%84%b6%e7%9a%84%e9%82%82%e9%80%85%ef%bc%9a%e8%89%be%e7%8e%9b%c2%b7%e8%b4%be%e5%b0%94%e6%96%af-5/
LOCATION:伍德兰公园动物园\, 5500 芬尼大道北 \, 西雅图\, 西澳\, 98103\, United States
CATEGORIES:家庭/公众
ATTACH;FMTTYPE=image/jpeg:https://zoo.org/wp-content/uploads/2026/03/emma-giles-Sept-13-All-ages.jpg
END:VEVENT
END:VCALENDAR