BEGIN:VCALENDAR
VERSION:2.0
PRODID:-//伍德兰公园动物园 - ECPv6.15.20//NONSGML v1.0//EN
CALSCALE:GREGORIAN
METHOD:PUBLISH
X-ORIGINAL-URL:https://zoo.org/zh-hans/
X-WR-CALDESC:伍德兰公园动物园的活动
REFRESH-INTERVAL;VALUE=DURATION:PT1H
X-Robots-Tag:noindex
X-PUBLISHED-TTL:PT1H
BEGIN:VTIMEZONE
TZID:America/Los_Angeles
BEGIN:DAYLIGHT
TZOFFSETFROM:-0800
TZOFFSETTO:-0700
TZNAME:PDT
DTSTART:20250309T100000
END:DAYLIGHT
BEGIN:STANDARD
TZOFFSETFROM:-0700
TZOFFSETTO:-0800
TZNAME:PST
DTSTART:20251102T090000
END:STANDARD
BEGIN:DAYLIGHT
TZOFFSETFROM:-0800
TZOFFSETTO:-0700
TZNAME:PDT
DTSTART:20260308T100000
END:DAYLIGHT
BEGIN:STANDARD
TZOFFSETFROM:-0700
TZOFFSETTO:-0800
TZNAME:PST
DTSTART:20261101T090000
END:STANDARD
BEGIN:DAYLIGHT
TZOFFSETFROM:-0800
TZOFFSETTO:-0700
TZNAME:PDT
DTSTART:20270314T100000
END:DAYLIGHT
BEGIN:STANDARD
TZOFFSETFROM:-0700
TZOFFSETTO:-0800
TZNAME:PST
DTSTART:20271107T090000
END:STANDARD
END:VTIMEZONE
BEGIN:VEVENT
DTSTART;TZID=America/Los_Angeles:20260101T160000
DTEND;TZID=America/Los_Angeles:20260101T210000
DTSTAMP:20260421T093510
CREATED:20251024T190323Z
LAST-MODIFIED:20251024T190323Z
UID:10000826-1767283200-1767301200@zoo.org
SUMMARY:由西华盛顿丰田经销商赞助的野灯灯
DESCRIPTION:点亮你的节日\n由西华盛顿丰田经销商赞助的野灯将于今年十一月重返伍德兰公园动物园，带来全新、比以往更大的灯笼展示。体验一场沉浸式冒险，承诺为所有人带来一个神奇的节日时刻！  \n走进一个光辉灿烂的冬日仙境\n\n漫步仙境小径，经过来自太平洋西北地区的林地生物，欣赏我们雄伟的雷尼尔山，感受节日季节的魔力。漫步在蜿蜒的红树林中，欣赏壮观的爬行动物和鱼类世界。在你穿越美丽植物花朵的花朵时，花朵的花朵可以停下来，花香一闪而过。然后，迈向未来，来到 森林步道口——一个光辉灿烂的庆典，庆祝即将到来于2026年开幕的伍德兰公园动物园新展览中令人惊叹的动物们。先睹些森林大使的光影预览——比如红熊猫和树袋鼠——它们很快就会成为我们的动物园的家。别忘了去互动区——一个让各年龄段想象力自由驰骋的空间！
URL:https://zoo.org/zh-hans/event/%e7%94%b1%e8%a5%bf%e5%8d%8e%e7%9b%9b%e9%a1%bf%e4%b8%b0%e7%94%b0%e7%bb%8f%e9%94%80%e5%95%86%e8%b5%9e%e5%8a%a9%e7%9a%84%e9%87%8e%e7%81%af%e7%81%af/2026-01-01/
LOCATION:伍德兰公园动物园\, 5500 芬尼大道北 \, 西雅图\, 西澳\, 98103\, United States
CATEGORIES:家庭/公众
ATTACH;FMTTYPE=image/jpeg:https://zoo.org/wp-content/uploads/2025/10/Moose-Blue-Jays-web.jpg
END:VEVENT
BEGIN:VEVENT
DTSTART;TZID=America/Los_Angeles:20260103T160000
DTEND;TZID=America/Los_Angeles:20260103T210000
DTSTAMP:20260421T093510
CREATED:20251024T190323Z
LAST-MODIFIED:20251024T190323Z
UID:10000827-1767456000-1767474000@zoo.org
SUMMARY:由西华盛顿丰田经销商赞助的野灯灯
DESCRIPTION:点亮你的节日\n由西华盛顿丰田经销商赞助的野灯将于今年十一月重返伍德兰公园动物园，带来全新、比以往更大的灯笼展示。体验一场沉浸式冒险，承诺为所有人带来一个神奇的节日时刻！  \n走进一个光辉灿烂的冬日仙境\n\n漫步仙境小径，经过来自太平洋西北地区的林地生物，欣赏我们雄伟的雷尼尔山，感受节日季节的魔力。漫步在蜿蜒的红树林中，欣赏壮观的爬行动物和鱼类世界。在你穿越美丽植物花朵的花朵时，花朵的花朵可以停下来，花香一闪而过。然后，迈向未来，来到 森林步道口——一个光辉灿烂的庆典，庆祝即将到来于2026年开幕的伍德兰公园动物园新展览中令人惊叹的动物们。先睹些森林大使的光影预览——比如红熊猫和树袋鼠——它们很快就会成为我们的动物园的家。别忘了去互动区——一个让各年龄段想象力自由驰骋的空间！
URL:https://zoo.org/zh-hans/event/%e7%94%b1%e8%a5%bf%e5%8d%8e%e7%9b%9b%e9%a1%bf%e4%b8%b0%e7%94%b0%e7%bb%8f%e9%94%80%e5%95%86%e8%b5%9e%e5%8a%a9%e7%9a%84%e9%87%8e%e7%81%af%e7%81%af/2026-01-03/
LOCATION:伍德兰公园动物园\, 5500 芬尼大道北 \, 西雅图\, 西澳\, 98103\, United States
CATEGORIES:家庭/公众
ATTACH;FMTTYPE=image/jpeg:https://zoo.org/wp-content/uploads/2025/10/Moose-Blue-Jays-web.jpg
END:VEVENT
BEGIN:VEVENT
DTSTART;TZID=America/Los_Angeles:20260104T160000
DTEND;TZID=America/Los_Angeles:20260104T210000
DTSTAMP:20260421T093510
CREATED:20251024T190323Z
LAST-MODIFIED:20251024T190323Z
UID:10000828-1767542400-1767560400@zoo.org
SUMMARY:由西华盛顿丰田经销商赞助的野灯灯
DESCRIPTION:点亮你的节日\n由西华盛顿丰田经销商赞助的野灯将于今年十一月重返伍德兰公园动物园，带来全新、比以往更大的灯笼展示。体验一场沉浸式冒险，承诺为所有人带来一个神奇的节日时刻！  \n走进一个光辉灿烂的冬日仙境\n\n漫步仙境小径，经过来自太平洋西北地区的林地生物，欣赏我们雄伟的雷尼尔山，感受节日季节的魔力。漫步在蜿蜒的红树林中，欣赏壮观的爬行动物和鱼类世界。在你穿越美丽植物花朵的花朵时，花朵的花朵可以停下来，花香一闪而过。然后，迈向未来，来到 森林步道口——一个光辉灿烂的庆典，庆祝即将到来于2026年开幕的伍德兰公园动物园新展览中令人惊叹的动物们。先睹些森林大使的光影预览——比如红熊猫和树袋鼠——它们很快就会成为我们的动物园的家。别忘了去互动区——一个让各年龄段想象力自由驰骋的空间！
URL:https://zoo.org/zh-hans/event/%e7%94%b1%e8%a5%bf%e5%8d%8e%e7%9b%9b%e9%a1%bf%e4%b8%b0%e7%94%b0%e7%bb%8f%e9%94%80%e5%95%86%e8%b5%9e%e5%8a%a9%e7%9a%84%e9%87%8e%e7%81%af%e7%81%af/2026-01-04/
LOCATION:伍德兰公园动物园\, 5500 芬尼大道北 \, 西雅图\, 西澳\, 98103\, United States
CATEGORIES:家庭/公众
ATTACH;FMTTYPE=image/jpeg:https://zoo.org/wp-content/uploads/2025/10/Moose-Blue-Jays-web.jpg
END:VEVENT
BEGIN:VEVENT
DTSTART;TZID=America/Los_Angeles:20260108T160000
DTEND;TZID=America/Los_Angeles:20260108T210000
DTSTAMP:20260421T093510
CREATED:20251024T190323Z
LAST-MODIFIED:20251024T190323Z
UID:10000829-1767888000-1767906000@zoo.org
SUMMARY:由西华盛顿丰田经销商赞助的野灯灯
DESCRIPTION:点亮你的节日\n由西华盛顿丰田经销商赞助的野灯将于今年十一月重返伍德兰公园动物园，带来全新、比以往更大的灯笼展示。体验一场沉浸式冒险，承诺为所有人带来一个神奇的节日时刻！  \n走进一个光辉灿烂的冬日仙境\n\n漫步仙境小径，经过来自太平洋西北地区的林地生物，欣赏我们雄伟的雷尼尔山，感受节日季节的魔力。漫步在蜿蜒的红树林中，欣赏壮观的爬行动物和鱼类世界。在你穿越美丽植物花朵的花朵时，花朵的花朵可以停下来，花香一闪而过。然后，迈向未来，来到 森林步道口——一个光辉灿烂的庆典，庆祝即将到来于2026年开幕的伍德兰公园动物园新展览中令人惊叹的动物们。先睹些森林大使的光影预览——比如红熊猫和树袋鼠——它们很快就会成为我们的动物园的家。别忘了去互动区——一个让各年龄段想象力自由驰骋的空间！
URL:https://zoo.org/zh-hans/event/%e7%94%b1%e8%a5%bf%e5%8d%8e%e7%9b%9b%e9%a1%bf%e4%b8%b0%e7%94%b0%e7%bb%8f%e9%94%80%e5%95%86%e8%b5%9e%e5%8a%a9%e7%9a%84%e9%87%8e%e7%81%af%e7%81%af/2026-01-08/
LOCATION:伍德兰公园动物园\, 5500 芬尼大道北 \, 西雅图\, 西澳\, 98103\, United States
CATEGORIES:家庭/公众
ATTACH;FMTTYPE=image/jpeg:https://zoo.org/wp-content/uploads/2025/10/Moose-Blue-Jays-web.jpg
END:VEVENT
BEGIN:VEVENT
DTSTART;TZID=America/Los_Angeles:20260109T160000
DTEND;TZID=America/Los_Angeles:20260109T210000
DTSTAMP:20260421T093510
CREATED:20251024T190323Z
LAST-MODIFIED:20251024T190323Z
UID:10000830-1767974400-1767992400@zoo.org
SUMMARY:由西华盛顿丰田经销商赞助的野灯灯
DESCRIPTION:点亮你的节日\n由西华盛顿丰田经销商赞助的野灯将于今年十一月重返伍德兰公园动物园，带来全新、比以往更大的灯笼展示。体验一场沉浸式冒险，承诺为所有人带来一个神奇的节日时刻！  \n走进一个光辉灿烂的冬日仙境\n\n漫步仙境小径，经过来自太平洋西北地区的林地生物，欣赏我们雄伟的雷尼尔山，感受节日季节的魔力。漫步在蜿蜒的红树林中，欣赏壮观的爬行动物和鱼类世界。在你穿越美丽植物花朵的花朵时，花朵的花朵可以停下来，花香一闪而过。然后，迈向未来，来到 森林步道口——一个光辉灿烂的庆典，庆祝即将到来于2026年开幕的伍德兰公园动物园新展览中令人惊叹的动物们。先睹些森林大使的光影预览——比如红熊猫和树袋鼠——它们很快就会成为我们的动物园的家。别忘了去互动区——一个让各年龄段想象力自由驰骋的空间！
URL:https://zoo.org/zh-hans/event/%e7%94%b1%e8%a5%bf%e5%8d%8e%e7%9b%9b%e9%a1%bf%e4%b8%b0%e7%94%b0%e7%bb%8f%e9%94%80%e5%95%86%e8%b5%9e%e5%8a%a9%e7%9a%84%e9%87%8e%e7%81%af%e7%81%af/2026-01-09/
LOCATION:伍德兰公园动物园\, 5500 芬尼大道北 \, 西雅图\, 西澳\, 98103\, United States
CATEGORIES:家庭/公众
ATTACH;FMTTYPE=image/jpeg:https://zoo.org/wp-content/uploads/2025/10/Moose-Blue-Jays-web.jpg
END:VEVENT
BEGIN:VEVENT
DTSTART;TZID=America/Los_Angeles:20260110T160000
DTEND;TZID=America/Los_Angeles:20260110T210000
DTSTAMP:20260421T093510
CREATED:20251024T190323Z
LAST-MODIFIED:20251024T190323Z
UID:10000831-1768060800-1768078800@zoo.org
SUMMARY:由西华盛顿丰田经销商赞助的野灯灯
DESCRIPTION:点亮你的节日\n由西华盛顿丰田经销商赞助的野灯将于今年十一月重返伍德兰公园动物园，带来全新、比以往更大的灯笼展示。体验一场沉浸式冒险，承诺为所有人带来一个神奇的节日时刻！  \n走进一个光辉灿烂的冬日仙境\n\n漫步仙境小径，经过来自太平洋西北地区的林地生物，欣赏我们雄伟的雷尼尔山，感受节日季节的魔力。漫步在蜿蜒的红树林中，欣赏壮观的爬行动物和鱼类世界。在你穿越美丽植物花朵的花朵时，花朵的花朵可以停下来，花香一闪而过。然后，迈向未来，来到 森林步道口——一个光辉灿烂的庆典，庆祝即将到来于2026年开幕的伍德兰公园动物园新展览中令人惊叹的动物们。先睹些森林大使的光影预览——比如红熊猫和树袋鼠——它们很快就会成为我们的动物园的家。别忘了去互动区——一个让各年龄段想象力自由驰骋的空间！
URL:https://zoo.org/zh-hans/event/%e7%94%b1%e8%a5%bf%e5%8d%8e%e7%9b%9b%e9%a1%bf%e4%b8%b0%e7%94%b0%e7%bb%8f%e9%94%80%e5%95%86%e8%b5%9e%e5%8a%a9%e7%9a%84%e9%87%8e%e7%81%af%e7%81%af/2026-01-10/
LOCATION:伍德兰公园动物园\, 5500 芬尼大道北 \, 西雅图\, 西澳\, 98103\, United States
CATEGORIES:家庭/公众
ATTACH;FMTTYPE=image/jpeg:https://zoo.org/wp-content/uploads/2025/10/Moose-Blue-Jays-web.jpg
END:VEVENT
BEGIN:VEVENT
DTSTART;TZID=America/Los_Angeles:20260110T160000
DTEND;TZID=America/Los_Angeles:20260110T210000
DTSTAMP:20260421T093510
CREATED:20251112T184322Z
LAST-MODIFIED:20251112T184322Z
UID:10000497-1768060800-1768078800@zoo.org
SUMMARY:野灯侠：连体衣之夜
DESCRIPTION:穿上你最喜欢的连体衣，准备在WildLanterns度过一个充满奇幻乐趣的夜晚吧！无论你是穿着最喜欢的动物连体衣，展示一套全新的家庭睡衣，还是穿着最舒适的家居服，这个主题之夜都围绕着舒适、创意和美好时光展开。  \n点亮你的节日\n由西华盛顿丰田经销商赞助的野灯将于今年十一月重返伍德兰公园动物园，带来全新、比以往更大的灯笼展示。体验一场沉浸式冒险，承诺为所有人带来一个神奇的节日时刻！  \n走进一个光辉灿烂的冬日仙境\n\n漫步仙境小径，经过来自太平洋西北地区的林地生物，欣赏我们雄伟的雷尼尔山，感受节日季节的魔力。漫步在蜿蜒的红树林中，欣赏壮观的爬行动物和鱼类世界。在你穿越美丽植物花朵的花朵时，花朵的花朵可以停下来，花香一闪而过。然后，迈向未来，来到 森林步道口——一个光辉灿烂的庆典，庆祝即将到来于2026年开幕的伍德兰公园动物园新展览中令人惊叹的动物们。先睹些森林大使的光影预览——比如红熊猫和树袋鼠——它们很快就会成为我们的动物园的家。别忘了去互动区——一个让各年龄段想象力自由驰骋的空间！
URL:https://zoo.org/zh-hans/event/%e9%87%8e%e7%81%af%e4%be%a0%ef%bc%9a%e8%bf%9e%e4%bd%93%e8%a1%a3%e4%b9%8b%e5%a4%9c/
LOCATION:伍德兰公园动物园\, 5500 芬尼大道北 \, 西雅图\, 西澳\, 98103\, United States
CATEGORIES:家庭/公众
ATTACH;FMTTYPE=image/jpeg:https://zoo.org/wp-content/uploads/2025/09/2023-Pumpkin-Bash-102-web.jpg
END:VEVENT
BEGIN:VEVENT
DTSTART;TZID=America/Los_Angeles:20260111T160000
DTEND;TZID=America/Los_Angeles:20260111T210000
DTSTAMP:20260421T093510
CREATED:20251024T190323Z
LAST-MODIFIED:20251024T190323Z
UID:10000832-1768147200-1768165200@zoo.org
SUMMARY:由西华盛顿丰田经销商赞助的野灯灯
DESCRIPTION:点亮你的节日\n由西华盛顿丰田经销商赞助的野灯将于今年十一月重返伍德兰公园动物园，带来全新、比以往更大的灯笼展示。体验一场沉浸式冒险，承诺为所有人带来一个神奇的节日时刻！  \n走进一个光辉灿烂的冬日仙境\n\n漫步仙境小径，经过来自太平洋西北地区的林地生物，欣赏我们雄伟的雷尼尔山，感受节日季节的魔力。漫步在蜿蜒的红树林中，欣赏壮观的爬行动物和鱼类世界。在你穿越美丽植物花朵的花朵时，花朵的花朵可以停下来，花香一闪而过。然后，迈向未来，来到 森林步道口——一个光辉灿烂的庆典，庆祝即将到来于2026年开幕的伍德兰公园动物园新展览中令人惊叹的动物们。先睹些森林大使的光影预览——比如红熊猫和树袋鼠——它们很快就会成为我们的动物园的家。别忘了去互动区——一个让各年龄段想象力自由驰骋的空间！
URL:https://zoo.org/zh-hans/event/%e7%94%b1%e8%a5%bf%e5%8d%8e%e7%9b%9b%e9%a1%bf%e4%b8%b0%e7%94%b0%e7%bb%8f%e9%94%80%e5%95%86%e8%b5%9e%e5%8a%a9%e7%9a%84%e9%87%8e%e7%81%af%e7%81%af/2026-01-11/
LOCATION:伍德兰公园动物园\, 5500 芬尼大道北 \, 西雅图\, 西澳\, 98103\, United States
CATEGORIES:家庭/公众
ATTACH;FMTTYPE=image/jpeg:https://zoo.org/wp-content/uploads/2025/10/Moose-Blue-Jays-web.jpg
END:VEVENT
BEGIN:VEVENT
DTSTART;TZID=America/Los_Angeles:20260115T160000
DTEND;TZID=America/Los_Angeles:20260115T210000
DTSTAMP:20260421T093510
CREATED:20251024T190323Z
LAST-MODIFIED:20251024T190323Z
UID:10000833-1768492800-1768510800@zoo.org
SUMMARY:由西华盛顿丰田经销商赞助的野灯灯
DESCRIPTION:点亮你的节日\n由西华盛顿丰田经销商赞助的野灯将于今年十一月重返伍德兰公园动物园，带来全新、比以往更大的灯笼展示。体验一场沉浸式冒险，承诺为所有人带来一个神奇的节日时刻！  \n走进一个光辉灿烂的冬日仙境\n\n漫步仙境小径，经过来自太平洋西北地区的林地生物，欣赏我们雄伟的雷尼尔山，感受节日季节的魔力。漫步在蜿蜒的红树林中，欣赏壮观的爬行动物和鱼类世界。在你穿越美丽植物花朵的花朵时，花朵的花朵可以停下来，花香一闪而过。然后，迈向未来，来到 森林步道口——一个光辉灿烂的庆典，庆祝即将到来于2026年开幕的伍德兰公园动物园新展览中令人惊叹的动物们。先睹些森林大使的光影预览——比如红熊猫和树袋鼠——它们很快就会成为我们的动物园的家。别忘了去互动区——一个让各年龄段想象力自由驰骋的空间！
URL:https://zoo.org/zh-hans/event/%e7%94%b1%e8%a5%bf%e5%8d%8e%e7%9b%9b%e9%a1%bf%e4%b8%b0%e7%94%b0%e7%bb%8f%e9%94%80%e5%95%86%e8%b5%9e%e5%8a%a9%e7%9a%84%e9%87%8e%e7%81%af%e7%81%af/2026-01-15/
LOCATION:伍德兰公园动物园\, 5500 芬尼大道北 \, 西雅图\, 西澳\, 98103\, United States
CATEGORIES:家庭/公众
ATTACH;FMTTYPE=image/jpeg:https://zoo.org/wp-content/uploads/2025/10/Moose-Blue-Jays-web.jpg
END:VEVENT
BEGIN:VEVENT
DTSTART;TZID=America/Los_Angeles:20260116T160000
DTEND;TZID=America/Los_Angeles:20260116T210000
DTSTAMP:20260421T093510
CREATED:20251024T190323Z
LAST-MODIFIED:20251024T190323Z
UID:10000834-1768579200-1768597200@zoo.org
SUMMARY:由西华盛顿丰田经销商赞助的野灯灯
DESCRIPTION:点亮你的节日\n由西华盛顿丰田经销商赞助的野灯将于今年十一月重返伍德兰公园动物园，带来全新、比以往更大的灯笼展示。体验一场沉浸式冒险，承诺为所有人带来一个神奇的节日时刻！  \n走进一个光辉灿烂的冬日仙境\n\n漫步仙境小径，经过来自太平洋西北地区的林地生物，欣赏我们雄伟的雷尼尔山，感受节日季节的魔力。漫步在蜿蜒的红树林中，欣赏壮观的爬行动物和鱼类世界。在你穿越美丽植物花朵的花朵时，花朵的花朵可以停下来，花香一闪而过。然后，迈向未来，来到 森林步道口——一个光辉灿烂的庆典，庆祝即将到来于2026年开幕的伍德兰公园动物园新展览中令人惊叹的动物们。先睹些森林大使的光影预览——比如红熊猫和树袋鼠——它们很快就会成为我们的动物园的家。别忘了去互动区——一个让各年龄段想象力自由驰骋的空间！
URL:https://zoo.org/zh-hans/event/%e7%94%b1%e8%a5%bf%e5%8d%8e%e7%9b%9b%e9%a1%bf%e4%b8%b0%e7%94%b0%e7%bb%8f%e9%94%80%e5%95%86%e8%b5%9e%e5%8a%a9%e7%9a%84%e9%87%8e%e7%81%af%e7%81%af/2026-01-16/
LOCATION:伍德兰公园动物园\, 5500 芬尼大道北 \, 西雅图\, 西澳\, 98103\, United States
CATEGORIES:家庭/公众
ATTACH;FMTTYPE=image/jpeg:https://zoo.org/wp-content/uploads/2025/10/Moose-Blue-Jays-web.jpg
END:VEVENT
BEGIN:VEVENT
DTSTART;TZID=America/Los_Angeles:20260117T160000
DTEND;TZID=America/Los_Angeles:20260117T210000
DTSTAMP:20260421T093510
CREATED:20251024T190323Z
LAST-MODIFIED:20251024T190323Z
UID:10000835-1768665600-1768683600@zoo.org
SUMMARY:由西华盛顿丰田经销商赞助的野灯灯
DESCRIPTION:点亮你的节日\n由西华盛顿丰田经销商赞助的野灯将于今年十一月重返伍德兰公园动物园，带来全新、比以往更大的灯笼展示。体验一场沉浸式冒险，承诺为所有人带来一个神奇的节日时刻！  \n走进一个光辉灿烂的冬日仙境\n\n漫步仙境小径，经过来自太平洋西北地区的林地生物，欣赏我们雄伟的雷尼尔山，感受节日季节的魔力。漫步在蜿蜒的红树林中，欣赏壮观的爬行动物和鱼类世界。在你穿越美丽植物花朵的花朵时，花朵的花朵可以停下来，花香一闪而过。然后，迈向未来，来到 森林步道口——一个光辉灿烂的庆典，庆祝即将到来于2026年开幕的伍德兰公园动物园新展览中令人惊叹的动物们。先睹些森林大使的光影预览——比如红熊猫和树袋鼠——它们很快就会成为我们的动物园的家。别忘了去互动区——一个让各年龄段想象力自由驰骋的空间！
URL:https://zoo.org/zh-hans/event/%e7%94%b1%e8%a5%bf%e5%8d%8e%e7%9b%9b%e9%a1%bf%e4%b8%b0%e7%94%b0%e7%bb%8f%e9%94%80%e5%95%86%e8%b5%9e%e5%8a%a9%e7%9a%84%e9%87%8e%e7%81%af%e7%81%af/2026-01-17/
LOCATION:伍德兰公园动物园\, 5500 芬尼大道北 \, 西雅图\, 西澳\, 98103\, United States
CATEGORIES:家庭/公众
ATTACH;FMTTYPE=image/jpeg:https://zoo.org/wp-content/uploads/2025/10/Moose-Blue-Jays-web.jpg
END:VEVENT
BEGIN:VEVENT
DTSTART;TZID=America/Los_Angeles:20260117T160000
DTEND;TZID=America/Los_Angeles:20260117T210000
DTSTAMP:20260421T093510
CREATED:20251112T184627Z
LAST-MODIFIED:20251112T184627Z
UID:10000516-1768665600-1768683600@zoo.org
SUMMARY:野灯队：西雅图体育之夜
DESCRIPTION:召集所有西雅图的体育迷！在灯笼下展示你的西雅图体育精神。期待体育场式的欢乐、粉丝合影机会以及最有活力的装备奖品。穿上球衣、围巾和球队颜色，漫步在发光的灯笼展示间，拍照运动风，享受汇聚各年龄段球迷的节日氛围。    \n点亮你的节日\n由西华盛顿丰田经销商赞助的野灯将于今年十一月重返伍德兰公园动物园，带来全新、比以往更大的灯笼展示。体验一场沉浸式冒险，承诺为所有人带来一个神奇的节日时刻！  \n走进一个光辉灿烂的冬日仙境\n\n漫步仙境小径，经过来自太平洋西北地区的林地生物，欣赏我们雄伟的雷尼尔山，感受节日季节的魔力。漫步在蜿蜒的红树林中，欣赏壮观的爬行动物和鱼类世界。在你穿越美丽植物花朵的花朵时，花朵的花朵可以停下来，花香一闪而过。然后，迈向未来，来到 森林步道口——一个光辉灿烂的庆典，庆祝即将到来于2026年开幕的伍德兰公园动物园新展览中令人惊叹的动物们。先睹些森林大使的光影预览——比如红熊猫和树袋鼠——它们很快就会成为我们的动物园的家。别忘了去互动区——一个让各年龄段想象力自由驰骋的空间！
URL:https://zoo.org/zh-hans/event/%e9%87%8e%e7%81%af%e9%98%9f%ef%bc%9a%e8%a5%bf%e9%9b%85%e5%9b%be%e4%bd%93%e8%82%b2%e4%b9%8b%e5%a4%9c/
LOCATION:伍德兰公园动物园\, 5500 芬尼大道北 \, 西雅图\, 西澳\, 98103\, United States
CATEGORIES:家庭/公众
ATTACH;FMTTYPE=image/jpeg:https://zoo.org/wp-content/uploads/2025/09/RS32069_2016_12_01-Wildlights-9_ohi.jpg
END:VEVENT
BEGIN:VEVENT
DTSTART;TZID=America/Los_Angeles:20260118T160000
DTEND;TZID=America/Los_Angeles:20260118T210000
DTSTAMP:20260421T093510
CREATED:20251024T190323Z
LAST-MODIFIED:20251024T190323Z
UID:10000836-1768752000-1768770000@zoo.org
SUMMARY:由西华盛顿丰田经销商赞助的野灯灯
DESCRIPTION:点亮你的节日\n由西华盛顿丰田经销商赞助的野灯将于今年十一月重返伍德兰公园动物园，带来全新、比以往更大的灯笼展示。体验一场沉浸式冒险，承诺为所有人带来一个神奇的节日时刻！  \n走进一个光辉灿烂的冬日仙境\n\n漫步仙境小径，经过来自太平洋西北地区的林地生物，欣赏我们雄伟的雷尼尔山，感受节日季节的魔力。漫步在蜿蜒的红树林中，欣赏壮观的爬行动物和鱼类世界。在你穿越美丽植物花朵的花朵时，花朵的花朵可以停下来，花香一闪而过。然后，迈向未来，来到 森林步道口——一个光辉灿烂的庆典，庆祝即将到来于2026年开幕的伍德兰公园动物园新展览中令人惊叹的动物们。先睹些森林大使的光影预览——比如红熊猫和树袋鼠——它们很快就会成为我们的动物园的家。别忘了去互动区——一个让各年龄段想象力自由驰骋的空间！
URL:https://zoo.org/zh-hans/event/%e7%94%b1%e8%a5%bf%e5%8d%8e%e7%9b%9b%e9%a1%bf%e4%b8%b0%e7%94%b0%e7%bb%8f%e9%94%80%e5%95%86%e8%b5%9e%e5%8a%a9%e7%9a%84%e9%87%8e%e7%81%af%e7%81%af/2026-01-18/
LOCATION:伍德兰公园动物园\, 5500 芬尼大道北 \, 西雅图\, 西澳\, 98103\, United States
CATEGORIES:家庭/公众
ATTACH;FMTTYPE=image/jpeg:https://zoo.org/wp-content/uploads/2025/10/Moose-Blue-Jays-web.jpg
END:VEVENT
END:VCALENDAR