BEGIN:VCALENDAR
VERSION:2.0
PRODID:-//伍德兰公园动物园 - ECPv6.15.20//NONSGML v1.0//EN
CALSCALE:GREGORIAN
METHOD:PUBLISH
X-WR-CALNAME:伍德兰公园动物园
X-ORIGINAL-URL:https://zoo.org/zh-hans/
X-WR-CALDESC:伍德兰公园动物园的活动
REFRESH-INTERVAL;VALUE=DURATION:PT1H
X-Robots-Tag:noindex
X-PUBLISHED-TTL:PT1H
BEGIN:VTIMEZONE
TZID:America/Los_Angeles
BEGIN:DAYLIGHT
TZOFFSETFROM:-0800
TZOFFSETTO:-0700
TZNAME:PDT
DTSTART:20250309T100000
END:DAYLIGHT
BEGIN:STANDARD
TZOFFSETFROM:-0700
TZOFFSETTO:-0800
TZNAME:PST
DTSTART:20251102T090000
END:STANDARD
BEGIN:DAYLIGHT
TZOFFSETFROM:-0800
TZOFFSETTO:-0700
TZNAME:PDT
DTSTART:20260308T100000
END:DAYLIGHT
BEGIN:STANDARD
TZOFFSETFROM:-0700
TZOFFSETTO:-0800
TZNAME:PST
DTSTART:20261101T090000
END:STANDARD
BEGIN:DAYLIGHT
TZOFFSETFROM:-0800
TZOFFSETTO:-0700
TZNAME:PDT
DTSTART:20270314T100000
END:DAYLIGHT
BEGIN:STANDARD
TZOFFSETFROM:-0700
TZOFFSETTO:-0800
TZNAME:PST
DTSTART:20271107T090000
END:STANDARD
END:VTIMEZONE
BEGIN:VEVENT
DTSTART;TZID=America/Los_Angeles:20260621T090000
DTEND;TZID=America/Los_Angeles:20260621T100000
DTSTAMP:20260421T063449
CREATED:20260320T182927Z
LAST-MODIFIED:20260327T161124Z
UID:10001359-1782032400-1782036000@zoo.org
SUMMARY:动物园的牧场：熊爸爸早午餐
DESCRIPTION:售罄！ \n用一场特别的熊类早午餐体验庆祝父亲节！ 宾客将在棕熊、猞猁和麋鹿附近享用早午餐，近距离欣赏动物观赏，以及丰盛的自助餐，丰富的美食包括鸡肉华夫饼、手工香肠、巴伐利亚奶油泡芙等。此外，每位宾客还将获得一份免费的家庭合影纪念品！一定要来我们的喷枪纹身站，孩子们——尤其是心爱孩子的孩子们——可以免费获得熊主题的喷枪纹身，让这张纪念照片更加难忘。举起一杯含羞草或血腥玛丽，敬上你生命中的爸爸们，创造终生难忘的回忆！    \nPapa Bear早午餐仅在西入口入口进入。
URL:https://zoo.org/zh-hans/event/%e5%8a%a8%e7%89%a9%e5%9b%ad%e7%9a%84%e7%89%a7%e5%9c%ba%ef%bc%9a%e7%86%8a%e7%88%b8%e7%88%b8%e6%97%a9%e5%8d%88%e9%a4%90-3/2026-06-21/
LOCATION:伍德兰公园动物园\, 5500 芬尼大道北 \, 西雅图\, 西澳\, 98103\, United States
CATEGORIES:家庭/公众
ATTACH;FMTTYPE=image/jpeg:https://zoo.org/wp-content/uploads/2025/07/Pappa-Bear-Brunch.jpg
END:VEVENT
END:VCALENDAR