BEGIN:VCALENDAR
VERSION:2.0
PRODID:-//伍德兰公园动物园 - ECPv6.15.20//NONSGML v1.0//EN
CALSCALE:GREGORIAN
METHOD:PUBLISH
X-ORIGINAL-URL:https://zoo.org/zh-hans/
X-WR-CALDESC:伍德兰公园动物园的活动
REFRESH-INTERVAL;VALUE=DURATION:PT1H
X-Robots-Tag:noindex
X-PUBLISHED-TTL:PT1H
BEGIN:VTIMEZONE
TZID:America/Los_Angeles
BEGIN:DAYLIGHT
TZOFFSETFROM:-0800
TZOFFSETTO:-0700
TZNAME:PDT
DTSTART:20250309T100000
END:DAYLIGHT
BEGIN:STANDARD
TZOFFSETFROM:-0700
TZOFFSETTO:-0800
TZNAME:PST
DTSTART:20251102T090000
END:STANDARD
BEGIN:DAYLIGHT
TZOFFSETFROM:-0800
TZOFFSETTO:-0700
TZNAME:PDT
DTSTART:20260308T100000
END:DAYLIGHT
BEGIN:STANDARD
TZOFFSETFROM:-0700
TZOFFSETTO:-0800
TZNAME:PST
DTSTART:20261101T090000
END:STANDARD
BEGIN:DAYLIGHT
TZOFFSETFROM:-0800
TZOFFSETTO:-0700
TZNAME:PDT
DTSTART:20270314T100000
END:DAYLIGHT
BEGIN:STANDARD
TZOFFSETFROM:-0700
TZOFFSETTO:-0800
TZNAME:PST
DTSTART:20271107T090000
END:STANDARD
END:VTIMEZONE
BEGIN:VEVENT
DTSTART;TZID=America/Los_Angeles:20260604T163000
DTEND;TZID=America/Los_Angeles:20260604T203000
DTSTAMP:20260421T015507
CREATED:20260223T225936Z
LAST-MODIFIED:20260303T191802Z
UID:10001197-1780590600-1780605000@zoo.org
SUMMARY:动物园歌曲：游艇摇滚巡演
DESCRIPTION:BECU ZooTunes 由卡特·斯巴鲁呈现\n参见音乐会。拯救动物。  \n伍德兰公园动物园非常高兴欢迎游客回归，参加第42届由卡特斯巴鲁呈献的年度BECU动物园音乐节！ \n这个备受喜爱的户外夏季音乐会系列以令人兴奋的新阵容回归。加入我们，在草地上体验一场独一无二的音乐会体验，这里是伟大的音乐与标志性的野性环境，位于西雅图市中心。  \n购票 \n添加动物精品板 \n门票仅限在线购买，不会在动物园门口销售。 \n*结束时间为近似
URL:https://zoo.org/zh-hans/event/%e5%8a%a8%e7%89%a9%e5%9b%ad%e6%ad%8c%e6%9b%b2%ef%bc%9a%e6%b8%b8%e8%89%87%e6%91%87%e6%bb%9a%e5%b7%a1%e6%bc%94/
LOCATION:伍德兰公园动物园\, 5500 芬尼大道北 \, 西雅图\, 西澳\, 98103\, United States
CATEGORIES:音乐娱乐
ATTACH;FMTTYPE=image/jpeg:https://zoo.org/wp-content/uploads/2026/02/YachtRock.jpg
END:VEVENT
BEGIN:VEVENT
DTSTART;TZID=America/Los_Angeles:20260614T163000
DTEND;TZID=America/Los_Angeles:20260614T203000
DTSTAMP:20260421T015507
CREATED:20260223T230237Z
LAST-MODIFIED:20260303T191849Z
UID:10001149-1781454600-1781469000@zoo.org
SUMMARY:ZooTunes：贝尔与塞巴斯蒂安30周年巡演《如果你感觉阴险》与Quasi
DESCRIPTION:BECU ZooTunes 由卡特·斯巴鲁呈现\n参见音乐会。拯救动物。  \n伍德兰公园动物园非常高兴欢迎游客回归，参加第42届由卡特斯巴鲁呈献的年度BECU动物园音乐节！ \n这个备受喜爱的户外夏季音乐会系列以令人兴奋的新阵容回归。加入我们，在草地上体验一场独一无二的音乐会体验，这里是伟大的音乐与标志性的野性环境，位于西雅图市中心。  \n售罄！ \n添加动物精品板 \n门票仅限在线购买，不会在动物园门口销售。 \n*结束时间为近似
URL:https://zoo.org/zh-hans/event/zootunes%ef%bc%9a%e8%b4%9d%e5%b0%94%e4%b8%8e%e5%a1%9e%e5%b7%b4%e6%96%af%e8%92%82%e5%ae%8930%e5%91%a8%e5%b9%b4%e5%b7%a1%e6%bc%94%e3%80%8a%e5%a6%82%e6%9e%9c%e4%bd%a0%e6%84%9f%e8%a7%89%e9%98%b4%e9%99%a9/
LOCATION:伍德兰公园动物园\, 5500 芬尼大道北 \, 西雅图\, 西澳\, 98103\, United States
CATEGORIES:音乐娱乐
ATTACH;FMTTYPE=image/jpeg:https://zoo.org/wp-content/uploads/2026/02/Belle-and-Sebastian.jpg
END:VEVENT
BEGIN:VEVENT
DTSTART;TZID=America/Los_Angeles:20260701T163000
DTEND;TZID=America/Los_Angeles:20260701T203000
DTSTAMP:20260421T015507
CREATED:20260223T230349Z
LAST-MODIFIED:20260303T191608Z
UID:10001162-1782923400-1782937800@zoo.org
SUMMARY:ZooTunes：带着真爱的复兴者
DESCRIPTION:BECU ZooTunes 由卡特·斯巴鲁呈现\n参见音乐会。拯救动物。  \n伍德兰公园动物园非常高兴欢迎游客回归，参加第42届由卡特斯巴鲁呈献的年度BECU动物园音乐节！ \n这个备受喜爱的户外夏季音乐会系列以令人兴奋的新阵容回归。加入我们，在草地上体验一场独一无二的音乐会体验，这里是伟大的音乐与标志性的野性环境，位于西雅图市中心。  \n购票 \n添加动物精品板 \n门票仅限在线购买，不会在动物园门口销售。 \n*结束时间为近似
URL:https://zoo.org/zh-hans/event/zootunes%ef%bc%9a%e5%b8%a6%e7%9d%80%e7%9c%9f%e7%88%b1%e7%9a%84%e5%a4%8d%e5%85%b4%e8%80%85/
LOCATION:伍德兰公园动物园\, 5500 芬尼大道北 \, 西雅图\, 西澳\, 98103\, United States
CATEGORIES:音乐娱乐
ATTACH;FMTTYPE=image/jpeg:https://zoo.org/wp-content/uploads/2026/02/Revivalists_AG_113-2.jpg
END:VEVENT
BEGIN:VEVENT
DTSTART;TZID=America/Los_Angeles:20260719T163000
DTEND;TZID=America/Los_Angeles:20260719T203000
DTSTAMP:20260421T015507
CREATED:20260223T230611Z
LAST-MODIFIED:20260318T163531Z
UID:10001157-1784478600-1784493000@zoo.org
SUMMARY:动物园音乐：铺路
DESCRIPTION:BECU ZooTunes 由卡特·斯巴鲁呈现\n参见音乐会。拯救动物。  \n伍德兰公园动物园非常高兴欢迎游客回归，参加第42届由卡特斯巴鲁呈献的年度BECU动物园音乐节！ \n这个备受喜爱的户外夏季音乐会系列以令人兴奋的新阵容回归。加入我们，在草地上体验一场独一无二的音乐会体验，这里是伟大的音乐与标志性的野性环境，位于西雅图市中心。  \n添加动物精品板 \n门票仅限在线购买，不会在动物园门口销售。 \n*结束时间为近似
URL:https://zoo.org/zh-hans/event/%e5%8a%a8%e7%89%a9%e5%9b%ad%e9%9f%b3%e4%b9%90%ef%bc%9a%e9%93%ba%e8%b7%af/
LOCATION:伍德兰公园动物园\, 5500 芬尼大道北 \, 西雅图\, 西澳\, 98103\, United States
CATEGORIES:音乐娱乐
ATTACH;FMTTYPE=image/jpeg:https://zoo.org/wp-content/uploads/2026/02/pavement-poonehghana-2-.jpg
END:VEVENT
BEGIN:VEVENT
DTSTART;TZID=America/Los_Angeles:20260723T163000
DTEND;TZID=America/Los_Angeles:20260723T203000
DTSTAMP:20260421T015507
CREATED:20260223T230658Z
LAST-MODIFIED:20260303T191251Z
UID:10001198-1784824200-1784838600@zoo.org
SUMMARY:动物园音乐：马伦·莫里斯
DESCRIPTION:BECU ZooTunes 由卡特·斯巴鲁呈现\n参见音乐会。拯救动物。  \n伍德兰公园动物园非常高兴欢迎游客回归，参加第42届由卡特斯巴鲁呈献的年度BECU动物园音乐节！ \n这个备受喜爱的户外夏季音乐会系列以令人兴奋的新阵容回归。加入我们，在草地上体验一场独一无二的音乐会体验，这里是伟大的音乐与标志性的野性环境，位于西雅图市中心。  \n购票 \n添加动物精品板 \n门票仅限在线购买，不会在动物园门口销售。 \n*结束时间为近似
URL:https://zoo.org/zh-hans/event/%e5%8a%a8%e7%89%a9%e5%9b%ad%e9%9f%b3%e4%b9%90%ef%bc%9a%e9%a9%ac%e4%bc%a6%c2%b7%e8%8e%ab%e9%87%8c%e6%96%af/
LOCATION:伍德兰公园动物园\, 5500 芬尼大道北 \, 西雅图\, 西澳\, 98103\, United States
CATEGORIES:音乐娱乐
ATTACH;FMTTYPE=image/jpeg:https://zoo.org/wp-content/uploads/2026/02/Maren-Morris.jpg
END:VEVENT
BEGIN:VEVENT
DTSTART;TZID=America/Los_Angeles:20260802T163000
DTEND;TZID=America/Los_Angeles:20260802T203000
DTSTAMP:20260421T015507
CREATED:20260223T230800Z
LAST-MODIFIED:20260303T191150Z
UID:10001173-1785688200-1785702600@zoo.org
SUMMARY:ZooTunes：阿尼·迪弗兰科与瓦莱丽·琼
DESCRIPTION:BECU ZooTunes 由卡特·斯巴鲁呈现\n参见音乐会。拯救动物。  \n伍德兰公园动物园非常高兴欢迎游客回归，参加第42届由卡特斯巴鲁呈献的年度BECU动物园音乐节！ \n这个备受喜爱的户外夏季音乐会系列以令人兴奋的新阵容回归。加入我们，在草地上体验一场独一无二的音乐会体验，这里是伟大的音乐与标志性的野性环境，位于西雅图市中心。  \n购票 \n添加动物精品板 \n门票仅限在线购买，不会在动物园门口销售。 \n*结束时间为近似
URL:https://zoo.org/zh-hans/event/zootunes%ef%bc%9a%e9%98%bf%e5%b0%bc%c2%b7%e8%bf%aa%e5%bc%97%e5%85%b0%e7%a7%91%e4%b8%8e%e7%93%a6%e8%8e%b1%e4%b8%bd%c2%b7%e7%90%bc/
LOCATION:伍德兰公园动物园\, 5500 芬尼大道北 \, 西雅图\, 西澳\, 98103\, United States
CATEGORIES:音乐娱乐
ATTACH;FMTTYPE=image/jpeg:https://zoo.org/wp-content/uploads/2026/02/Ani-DiFranco-by-Shervin-Lainez.jpg
END:VEVENT
BEGIN:VEVENT
DTSTART;TZID=America/Los_Angeles:20260806T163000
DTEND;TZID=America/Los_Angeles:20260806T203000
DTSTAMP:20260421T015507
CREATED:20260223T230850Z
LAST-MODIFIED:20260303T191056Z
UID:10001205-1786033800-1786048200@zoo.org
SUMMARY:动物园音乐：苏姬·沃特豪斯
DESCRIPTION:BECU ZooTunes 由卡特·斯巴鲁呈现\n参见音乐会。拯救动物。  \n伍德兰公园动物园非常高兴欢迎游客回归，参加第42届由卡特斯巴鲁呈献的年度BECU动物园音乐节！ \n这个备受喜爱的户外夏季音乐会系列以令人兴奋的新阵容回归。加入我们，在草地上体验一场独一无二的音乐会体验，这里是伟大的音乐与标志性的野性环境，位于西雅图市中心。  \n购票 \n添加动物精品板 \n门票仅限在线购买，不会在动物园门口销售。 \n*结束时间为近似
URL:https://zoo.org/zh-hans/event/%e5%8a%a8%e7%89%a9%e5%9b%ad%e9%9f%b3%e4%b9%90%ef%bc%9a%e8%8b%8f%e5%a7%ac%c2%b7%e6%b2%83%e7%89%b9%e8%b1%aa%e6%96%af/
LOCATION:伍德兰公园动物园\, 5500 芬尼大道北 \, 西雅图\, 西澳\, 98103\, United States
CATEGORIES:音乐娱乐
ATTACH;FMTTYPE=image/jpeg:https://zoo.org/wp-content/uploads/2026/02/Suki-Waterhouse-MAIN_PRESS_ORIGINAL_SIZE_FULL_300DPI.jpg
END:VEVENT
BEGIN:VEVENT
DTSTART;TZID=America/Los_Angeles:20260809T163000
DTEND;TZID=America/Los_Angeles:20260809T203000
DTSTAMP:20260421T015507
CREATED:20260223T230921Z
LAST-MODIFIED:20260303T190959Z
UID:10001169-1786293000-1786307400@zoo.org
SUMMARY:ZooTunes：The Mountain Goats / The Hold Steady 演唱《Boys and Girls in America》
DESCRIPTION:BECU ZooTunes 由卡特·斯巴鲁呈现\n参见音乐会。拯救动物。  \n伍德兰公园动物园非常高兴欢迎游客回归，参加第42届由卡特斯巴鲁呈献的年度BECU动物园音乐节！ \n这个备受喜爱的户外夏季音乐会系列以令人兴奋的新阵容回归。加入我们，在草地上体验一场独一无二的音乐会体验，这里是伟大的音乐与标志性的野性环境，位于西雅图市中心。  \n购票 \n添加动物精品板 \n门票仅限在线购买，不会在动物园门口销售。 \n*结束时间为近似
URL:https://zoo.org/zh-hans/event/zootunes%ef%bc%9athe-mountain-goats-the-hold-steady-%e6%bc%94%e5%94%b1%e3%80%8aboys-and-girls-in-america%e3%80%8b/
LOCATION:伍德兰公园动物园\, 5500 芬尼大道北 \, 西雅图\, 西澳\, 98103\, United States
CATEGORIES:音乐娱乐
ATTACH;FMTTYPE=image/jpeg:https://zoo.org/wp-content/uploads/2026/02/Mountain-Goats-Hold-Steady.jpg
END:VEVENT
BEGIN:VEVENT
DTSTART;TZID=America/Los_Angeles:20260811T163000
DTEND;TZID=America/Los_Angeles:20260811T203000
DTSTAMP:20260421T015507
CREATED:20260223T230958Z
LAST-MODIFIED:20260303T191935Z
UID:10001208-1786465800-1786480200@zoo.org
SUMMARY:动物园音乐：杰西·韦尔斯
DESCRIPTION:BECU ZooTunes 由卡特·斯巴鲁呈现\n参见音乐会。拯救动物。  \n伍德兰公园动物园非常高兴欢迎游客回归，参加第42届由卡特斯巴鲁呈献的年度BECU动物园音乐节！ \n这个备受喜爱的户外夏季音乐会系列以令人兴奋的新阵容回归。加入我们，在草地上体验一场独一无二的音乐会体验，这里是伟大的音乐与标志性的野性环境，位于西雅图市中心。  \n售罄！ \n添加动物精品板 \n门票仅限在线购买，不会在动物园门口销售。 \n*结束时间为近似
URL:https://zoo.org/zh-hans/event/%e5%8a%a8%e7%89%a9%e5%9b%ad%e9%9f%b3%e4%b9%90%ef%bc%9a%e6%9d%b0%e8%a5%bf%c2%b7%e9%9f%a6%e5%b0%94%e6%96%af/
LOCATION:伍德兰公园动物园\, 5500 芬尼大道北 \, 西雅图\, 西澳\, 98103\, United States
CATEGORIES:音乐娱乐
ATTACH;FMTTYPE=image/jpeg:https://zoo.org/wp-content/uploads/2026/02/Jesse-Wells.jpg
END:VEVENT
BEGIN:VEVENT
DTSTART;TZID=America/Los_Angeles:20260813T163000
DTEND;TZID=America/Los_Angeles:20260813T203000
DTSTAMP:20260421T015507
CREATED:20260223T232021Z
LAST-MODIFIED:20260303T190855Z
UID:10001188-1786638600-1786653000@zoo.org
SUMMARY:动物园音乐：杰森·伊斯贝尔
DESCRIPTION:BECU ZooTunes 由卡特·斯巴鲁呈现\n参见音乐会。拯救动物。  \n伍德兰公园动物园非常高兴欢迎游客回归，参加第42届由卡特斯巴鲁呈献的年度BECU动物园音乐节！ \n这个备受喜爱的户外夏季音乐会系列以令人兴奋的新阵容回归。加入我们，在草地上体验一场独一无二的音乐会体验，这里是伟大的音乐与标志性的野性环境，位于西雅图市中心。  \n购票 \n添加动物精品板 \n门票仅限在线购买，不会在动物园门口销售。 \n*结束时间为近似
URL:https://zoo.org/zh-hans/event/%e5%8a%a8%e7%89%a9%e5%9b%ad%e9%9f%b3%e4%b9%90%ef%bc%9a%e6%9d%b0%e6%a3%ae%c2%b7%e4%bc%8a%e6%96%af%e8%b4%9d%e5%b0%94/
LOCATION:伍德兰公园动物园\, 5500 芬尼大道北 \, 西雅图\, 西澳\, 98103\, United States
CATEGORIES:音乐娱乐
ATTACH;FMTTYPE=image/jpeg:https://zoo.org/wp-content/uploads/2026/02/Jason-Isbell-SOLO-2025-Ticketing.jpg
END:VEVENT
BEGIN:VEVENT
DTSTART;TZID=America/Los_Angeles:20260816T163000
DTEND;TZID=America/Los_Angeles:20260816T203000
DTSTAMP:20260421T015507
CREATED:20260223T231036Z
LAST-MODIFIED:20260303T190714Z
UID:10001179-1786897800-1786912200@zoo.org
SUMMARY:动物园音乐：贝丝乐队 / 海滩兔
DESCRIPTION:BECU ZooTunes 由卡特·斯巴鲁呈现\n参见音乐会。拯救动物。  \n伍德兰公园动物园非常高兴欢迎游客回归，参加第42届由卡特斯巴鲁呈献的年度BECU动物园音乐节！ \n这个备受喜爱的户外夏季音乐会系列以令人兴奋的新阵容回归。加入我们，在草地上体验一场独一无二的音乐会体验，这里是伟大的音乐与标志性的野性环境，位于西雅图市中心。  \n购票 \n添加动物精品板 \n门票仅限在线购买，不会在动物园门口销售。 \n*结束时间为近似
URL:https://zoo.org/zh-hans/event/%e5%8a%a8%e7%89%a9%e5%9b%ad%e9%9f%b3%e4%b9%90%ef%bc%9a%e8%b4%9d%e4%b8%9d%e4%b9%90%e9%98%9f-%e6%b5%b7%e6%bb%a9%e5%85%94/
LOCATION:伍德兰公园动物园\, 5500 芬尼大道北 \, 西雅图\, 西澳\, 98103\, United States
CATEGORIES:音乐娱乐
ATTACH;FMTTYPE=image/jpeg:https://zoo.org/wp-content/uploads/2026/02/beach-bunny-the-beths.jpg
END:VEVENT
BEGIN:VEVENT
DTSTART;TZID=America/Los_Angeles:20260818T163000
DTEND;TZID=America/Los_Angeles:20260818T203000
DTSTAMP:20260421T015507
CREATED:20260223T231829Z
LAST-MODIFIED:20260324T172558Z
UID:10001184-1787070600-1787085000@zoo.org
SUMMARY:ZooTunes：Courtney Barnett 与 Built to Spill 及 Zoh Amba 合作
DESCRIPTION:BECU ZooTunes 由卡特·斯巴鲁呈现\n参见音乐会。拯救动物。  \n伍德兰公园动物园非常高兴欢迎游客回归，参加第42届由卡特斯巴鲁呈献的年度BECU动物园音乐节！ \n这个备受喜爱的户外夏季音乐会系列以令人兴奋的新阵容回归。加入我们，在草地上体验一场独一无二的音乐会体验，这里是伟大的音乐与标志性的野性环境，位于西雅图市中心。  \n添加动物精品板 \n门票仅限在线购买，不会在动物园门口销售。 \n*结束时间为近似
URL:https://zoo.org/zh-hans/event/zootunes%ef%bc%9acourtney-barnett-%e4%b8%8e-built-to-spill-%e5%8f%8a-zoh-amba-%e5%90%88%e4%bd%9c/
LOCATION:伍德兰公园动物园\, 5500 芬尼大道北 \, 西雅图\, 西澳\, 98103\, United States
CATEGORIES:音乐娱乐
ATTACH;FMTTYPE=image/jpeg:https://zoo.org/wp-content/uploads/2026/02/Courtney-Barnett-12.17.jpg
END:VEVENT
BEGIN:VEVENT
DTSTART;TZID=America/Los_Angeles:20260820T163000
DTEND;TZID=America/Los_Angeles:20260820T203000
DTSTAMP:20260421T015507
CREATED:20260223T231906Z
LAST-MODIFIED:20260303T190248Z
UID:10001190-1787243400-1787257800@zoo.org
SUMMARY:ZooTunes：与Dresch团队的育种者
DESCRIPTION:BECU ZooTunes presented by Carter Subaru\nSEE CONCERTS. SAVE ANIMALS. Woodland Park Zoo is thrilled to welcome guests back for the 42nd annual BECU ZooTunes presented by Carter Subaru! This beloved outdoor summer concert series returns with an exciting new lineup. Join us in the meadow for a one-of-a-kind concert experience where great music meets an iconic wild setting in the heart of Seattle. \nBUY TICKETS \nAdd a Zoocuterie Board \nTickets are only available online and will not be sold at the zoo gates. \n*End time is approximate
URL:https://zoo.org/zh-hans/event/zootunes%ef%bc%9a%e4%b8%8edresch%e5%9b%a2%e9%98%9f%e7%9a%84%e8%82%b2%e7%a7%8d%e8%80%85/
LOCATION:伍德兰公园动物园\, 5500 芬尼大道北 \, 西雅图\, 西澳\, 98103\, United States
CATEGORIES:音乐娱乐
ATTACH;FMTTYPE=image/jpeg:https://zoo.org/wp-content/uploads/2026/02/The-Breeders-Credit_-James-Ridling.jpg
END:VEVENT
END:VCALENDAR